BEGIN:VCALENDAR
VERSION:2.0
PRODID:-//West Chester  Gun Club - ECPv6.15.18//NONSGML v1.0//EN
CALSCALE:GREGORIAN
METHOD:PUBLISH
X-WR-CALNAME:West Chester  Gun Club
X-ORIGINAL-URL:https://www.westchestergunclub.com
X-WR-CALDESC:Events for West Chester  Gun Club
REFRESH-INTERVAL;VALUE=DURATION:PT1H
X-Robots-Tag:noindex
X-PUBLISHED-TTL:PT1H
BEGIN:VTIMEZONE
TZID:America/New_York
BEGIN:DAYLIGHT
TZOFFSETFROM:-0500
TZOFFSETTO:-0400
TZNAME:EDT
DTSTART:20250309T070000
END:DAYLIGHT
BEGIN:STANDARD
TZOFFSETFROM:-0400
TZOFFSETTO:-0500
TZNAME:EST
DTSTART:20251102T060000
END:STANDARD
BEGIN:DAYLIGHT
TZOFFSETFROM:-0500
TZOFFSETTO:-0400
TZNAME:EDT
DTSTART:20260308T070000
END:DAYLIGHT
BEGIN:STANDARD
TZOFFSETFROM:-0400
TZOFFSETTO:-0500
TZNAME:EST
DTSTART:20261101T060000
END:STANDARD
BEGIN:DAYLIGHT
TZOFFSETFROM:-0500
TZOFFSETTO:-0400
TZNAME:EDT
DTSTART:20270314T070000
END:DAYLIGHT
BEGIN:STANDARD
TZOFFSETFROM:-0400
TZOFFSETTO:-0500
TZNAME:EST
DTSTART:20271107T060000
END:STANDARD
END:VTIMEZONE
BEGIN:VEVENT
DTSTART;TZID=America/New_York:20260414T173000
DTEND;TZID=America/New_York:20260414T183000
DTSTAMP:20260422T070411
CREATED:20230425T104112Z
LAST-MODIFIED:20241228T195743Z
UID:10002120-1776187800-1776191400@www.westchestergunclub.com
SUMMARY:Board of Directors Meeting
DESCRIPTION:
URL:https://www.westchestergunclub.com/event/board-of-directors-meeting/2026-04-14/
LOCATION:West Chester Gun Club\, 200 E. Boot Rd\, West Chester\, PA\, 19341\, United States
ATTACH;FMTTYPE=image/jpeg:https://www.westchestergunclub.com/wp-content/uploads/2023/04/home_about.jpg
END:VEVENT
BEGIN:VEVENT
DTSTART;TZID=America/New_York:20260414T150000
DTEND;TZID=America/New_York:20260414T190000
DTSTAMP:20260422T070411
CREATED:20250102T173851Z
LAST-MODIFIED:20251202T002718Z
UID:10004240-1776178800-1776193200@www.westchestergunclub.com
SUMMARY:Tuesday Practice
DESCRIPTION:Join us Tuesdays for practice from 3:00 pm to 7:00 pm.
URL:https://www.westchestergunclub.com/event/tuesday-practice-2-2-2/2026-04-14/
LOCATION:West Chester Gun Club\, 200 E. Boot Rd\, West Chester\, PA\, 19341\, United States
ATTACH;FMTTYPE=image/jpeg:https://www.westchestergunclub.com/wp-content/uploads/2023/02/WCGC-K-Image-9414-Calendar.jpg
END:VEVENT
BEGIN:VEVENT
DTSTART;TZID=America/New_York:20260412T100000
DTEND;TZID=America/New_York:20260412T150000
DTSTAMP:20260422T070411
CREATED:20230206T093733Z
LAST-MODIFIED:20260306T180255Z
UID:10001912-1775988000-1776006000@www.westchestergunclub.com
SUMMARY:Sunday Practice
DESCRIPTION:Join us Sundays for practice from 10:00 am to 3:00 pm. \n11:30 AM: Safety Checks for New Members/Public
URL:https://www.westchestergunclub.com/event/sunday-practice/2026-04-12/
LOCATION:West Chester Gun Club\, 200 E. Boot Rd\, West Chester\, PA\, 19341\, United States
ATTACH;FMTTYPE=image/jpeg:https://www.westchestergunclub.com/wp-content/uploads/2023/02/calendar-4420.jpg
END:VEVENT
BEGIN:VEVENT
DTSTART;TZID=America/New_York:20260411T093000
DTEND;TZID=America/New_York:20260411T093000
DTSTAMP:20260422T070411
CREATED:20230604T200755Z
LAST-MODIFIED:20260306T183433Z
UID:10004911-1775899800-1775899800@www.westchestergunclub.com
SUMMARY:ATA 100s -- Singles\, Handicap
DESCRIPTION:8:30 am Registration\n9:30 am Event Start
URL:https://www.westchestergunclub.com/event/ata-100-singles-and-handicap/2026-04-11/
LOCATION:West Chester Gun Club\, 200 E. Boot Rd\, West Chester\, PA\, 19341\, United States
ATTACH;FMTTYPE=image/jpeg:https://www.westchestergunclub.com/wp-content/uploads/2023/06/RMZ4420-scaled-e1685967490724.jpg
END:VEVENT
BEGIN:VEVENT
DTSTART;TZID=America/New_York:20260411T080000
DTEND;TZID=America/New_York:20260411T140000
DTSTAMP:20260422T070411
CREATED:20250402T163559Z
LAST-MODIFIED:20260417T201004Z
UID:10004918-1775894400-1775916000@www.westchestergunclub.com
SUMMARY:No Archery
DESCRIPTION:Due to trapshooting activities\, the Archery range is closed during a portion of the day (primarily in mornings.) \n2 April – Pop-Up Shoot – Easter Green Bird Shoot: Noon – 4pm\n11 April – ATA – 100’s Event Singles and Handicap: 8:30 am – Finish (possibly 2 pm or later)\n18 April – Winter League: 8:30 am – Finish (possibly 2 pm or later)\n5 May – SFC Nevins Shoot: 9:00 am – Finish (possibly 2 pm or later)\n16 May – ATA – 100’s Event Singles and Handicap: 8:30 am – Finish (possibly 2 pm or later)\n12 September – ATA – 100’s Singles Event: 8:30 am – Finish (possibly 2 pm or later)\n21 November – Turkey Shoot Event: 9:30 am – Finish (possibly 2 pm or later)
URL:https://www.westchestergunclub.com/event/no-archery/2026-04-11/
LOCATION:West Chester Gun Club\, 200 E. Boot Rd\, West Chester\, PA\, 19341\, United States
END:VEVENT
BEGIN:VEVENT
DTSTART;TZID=America/New_York:20260407T150000
DTEND;TZID=America/New_York:20260407T190000
DTSTAMP:20260422T070411
CREATED:20250102T173851Z
LAST-MODIFIED:20251202T002718Z
UID:10004239-1775574000-1775588400@www.westchestergunclub.com
SUMMARY:Tuesday Practice
DESCRIPTION:Join us Tuesdays for practice from 3:00 pm to 7:00 pm.
URL:https://www.westchestergunclub.com/event/tuesday-practice-2-2-2/2026-04-07/
LOCATION:West Chester Gun Club\, 200 E. Boot Rd\, West Chester\, PA\, 19341\, United States
ATTACH;FMTTYPE=image/jpeg:https://www.westchestergunclub.com/wp-content/uploads/2023/02/WCGC-K-Image-9414-Calendar.jpg
END:VEVENT
BEGIN:VEVENT
DTSTART;VALUE=DATE:20260405
DTEND;VALUE=DATE:20260406
DTSTAMP:20260422T070411
CREATED:20231214T220634Z
LAST-MODIFIED:20260306T170328Z
UID:10004869-1775376000-1775408400@www.westchestergunclub.com
SUMMARY:Club Closed for Easter
DESCRIPTION:
URL:https://www.westchestergunclub.com/event/club-closed-for-easter/2026-04-05/
LOCATION:West Chester Gun Club\, 200 E. Boot Rd\, West Chester\, PA\, 19341\, United States
ATTACH;FMTTYPE=image/png:https://www.westchestergunclub.com/wp-content/uploads/2023/12/Easter-Closed.png
END:VEVENT
BEGIN:VEVENT
DTSTART;TZID=America/New_York:20260402T130000
DTEND;TZID=America/New_York:20260402T160000
DTSTAMP:20260422T070411
CREATED:20260330T182909Z
LAST-MODIFIED:20260417T182136Z
UID:10004914-1775134800-1775145600@www.westchestergunclub.com
SUMMARY:Pop-Up Shoot - Easter Green Bird Shoot
DESCRIPTION:
URL:https://www.westchestergunclub.com/event/pop-up-shoot-easter-breen-bird-shoot/
LOCATION:West Chester Gun Club\, 200 E. Boot Rd\, West Chester\, PA\, 19341\, United States
END:VEVENT
BEGIN:VEVENT
DTSTART;TZID=America/New_York:20260402T120000
DTEND;TZID=America/New_York:20260402T160000
DTSTAMP:20260422T070411
CREATED:20250402T163559Z
LAST-MODIFIED:20260417T201004Z
UID:10004915-1775131200-1775145600@www.westchestergunclub.com
SUMMARY:No Archery
DESCRIPTION:Due to trapshooting activities\, the Archery range is closed during a portion of the day (primarily in mornings.) \n2 April – Pop-Up Shoot – Easter Green Bird Shoot: Noon – 4pm\n11 April – ATA – 100’s Event Singles and Handicap: 8:30 am – Finish (possibly 2 pm or later)\n18 April – Winter League: 8:30 am – Finish (possibly 2 pm or later)\n5 May – SFC Nevins Shoot: 9:00 am – Finish (possibly 2 pm or later)\n16 May – ATA – 100’s Event Singles and Handicap: 8:30 am – Finish (possibly 2 pm or later)\n12 September – ATA – 100’s Singles Event: 8:30 am – Finish (possibly 2 pm or later)\n21 November – Turkey Shoot Event: 9:30 am – Finish (possibly 2 pm or later)
URL:https://www.westchestergunclub.com/event/no-archery/2026-04-02/
LOCATION:West Chester Gun Club\, 200 E. Boot Rd\, West Chester\, PA\, 19341\, United States
END:VEVENT
BEGIN:VEVENT
DTSTART;TZID=America/New_York:20260331T150000
DTEND;TZID=America/New_York:20260331T190000
DTSTAMP:20260422T070411
CREATED:20250102T173851Z
LAST-MODIFIED:20251202T002718Z
UID:10004238-1774969200-1774983600@www.westchestergunclub.com
SUMMARY:Tuesday Practice
DESCRIPTION:Join us Tuesdays for practice from 3:00 pm to 7:00 pm.
URL:https://www.westchestergunclub.com/event/tuesday-practice-2-2-2/2026-03-31/
LOCATION:West Chester Gun Club\, 200 E. Boot Rd\, West Chester\, PA\, 19341\, United States
ATTACH;FMTTYPE=image/jpeg:https://www.westchestergunclub.com/wp-content/uploads/2023/02/WCGC-K-Image-9414-Calendar.jpg
END:VEVENT
BEGIN:VEVENT
DTSTART;TZID=America/New_York:20260329T100000
DTEND;TZID=America/New_York:20260329T150000
DTSTAMP:20260422T070411
CREATED:20230206T093733Z
LAST-MODIFIED:20260306T180255Z
UID:10001910-1774778400-1774796400@www.westchestergunclub.com
SUMMARY:Sunday Practice
DESCRIPTION:Join us Sundays for practice from 10:00 am to 3:00 pm. \n11:30 AM: Safety Checks for New Members/Public
URL:https://www.westchestergunclub.com/event/sunday-practice/2026-03-29/
LOCATION:West Chester Gun Club\, 200 E. Boot Rd\, West Chester\, PA\, 19341\, United States
ATTACH;FMTTYPE=image/jpeg:https://www.westchestergunclub.com/wp-content/uploads/2023/02/calendar-4420.jpg
END:VEVENT
BEGIN:VEVENT
DTSTART;TZID=America/New_York:20260324T150000
DTEND;TZID=America/New_York:20260324T190000
DTSTAMP:20260422T070411
CREATED:20250102T173851Z
LAST-MODIFIED:20251202T002718Z
UID:10004237-1774364400-1774378800@www.westchestergunclub.com
SUMMARY:Tuesday Practice
DESCRIPTION:Join us Tuesdays for practice from 3:00 pm to 7:00 pm.
URL:https://www.westchestergunclub.com/event/tuesday-practice-2-2-2/2026-03-24/
LOCATION:West Chester Gun Club\, 200 E. Boot Rd\, West Chester\, PA\, 19341\, United States
ATTACH;FMTTYPE=image/jpeg:https://www.westchestergunclub.com/wp-content/uploads/2023/02/WCGC-K-Image-9414-Calendar.jpg
END:VEVENT
BEGIN:VEVENT
DTSTART;TZID=America/New_York:20260322T100000
DTEND;TZID=America/New_York:20260322T150000
DTSTAMP:20260422T070411
CREATED:20230206T093733Z
LAST-MODIFIED:20260306T180255Z
UID:10001909-1774173600-1774191600@www.westchestergunclub.com
SUMMARY:Sunday Practice
DESCRIPTION:Join us Sundays for practice from 10:00 am to 3:00 pm. \n11:30 AM: Safety Checks for New Members/Public
URL:https://www.westchestergunclub.com/event/sunday-practice/2026-03-22/
LOCATION:West Chester Gun Club\, 200 E. Boot Rd\, West Chester\, PA\, 19341\, United States
ATTACH;FMTTYPE=image/jpeg:https://www.westchestergunclub.com/wp-content/uploads/2023/02/calendar-4420.jpg
END:VEVENT
BEGIN:VEVENT
DTSTART;TZID=America/New_York:20260317T150000
DTEND;TZID=America/New_York:20260317T190000
DTSTAMP:20260422T070411
CREATED:20250102T173851Z
LAST-MODIFIED:20251202T002718Z
UID:10004236-1773759600-1773774000@www.westchestergunclub.com
SUMMARY:Tuesday Practice
DESCRIPTION:Join us Tuesdays for practice from 3:00 pm to 7:00 pm.
URL:https://www.westchestergunclub.com/event/tuesday-practice-2-2-2/2026-03-17/
LOCATION:West Chester Gun Club\, 200 E. Boot Rd\, West Chester\, PA\, 19341\, United States
ATTACH;FMTTYPE=image/jpeg:https://www.westchestergunclub.com/wp-content/uploads/2023/02/WCGC-K-Image-9414-Calendar.jpg
END:VEVENT
BEGIN:VEVENT
DTSTART;TZID=America/New_York:20260315T100000
DTEND;TZID=America/New_York:20260315T150000
DTSTAMP:20260422T070411
CREATED:20230206T093733Z
LAST-MODIFIED:20260306T180255Z
UID:10001908-1773568800-1773586800@www.westchestergunclub.com
SUMMARY:Sunday Practice
DESCRIPTION:Join us Sundays for practice from 10:00 am to 3:00 pm. \n11:30 AM: Safety Checks for New Members/Public
URL:https://www.westchestergunclub.com/event/sunday-practice/2026-03-15/
LOCATION:West Chester Gun Club\, 200 E. Boot Rd\, West Chester\, PA\, 19341\, United States
ATTACH;FMTTYPE=image/jpeg:https://www.westchestergunclub.com/wp-content/uploads/2023/02/calendar-4420.jpg
END:VEVENT
BEGIN:VEVENT
DTSTART;TZID=America/New_York:20260310T173000
DTEND;TZID=America/New_York:20260310T183000
DTSTAMP:20260422T070411
CREATED:20230425T104112Z
LAST-MODIFIED:20241228T195743Z
UID:10002119-1773163800-1773167400@www.westchestergunclub.com
SUMMARY:Board of Directors Meeting
DESCRIPTION:
URL:https://www.westchestergunclub.com/event/board-of-directors-meeting/2026-03-10/
LOCATION:West Chester Gun Club\, 200 E. Boot Rd\, West Chester\, PA\, 19341\, United States
ATTACH;FMTTYPE=image/jpeg:https://www.westchestergunclub.com/wp-content/uploads/2023/04/home_about.jpg
END:VEVENT
BEGIN:VEVENT
DTSTART;TZID=America/New_York:20260310T150000
DTEND;TZID=America/New_York:20260310T190000
DTSTAMP:20260422T070411
CREATED:20250102T173851Z
LAST-MODIFIED:20251202T002718Z
UID:10004235-1773154800-1773169200@www.westchestergunclub.com
SUMMARY:Tuesday Practice
DESCRIPTION:Join us Tuesdays for practice from 3:00 pm to 7:00 pm.
URL:https://www.westchestergunclub.com/event/tuesday-practice-2-2-2/2026-03-10/
LOCATION:West Chester Gun Club\, 200 E. Boot Rd\, West Chester\, PA\, 19341\, United States
ATTACH;FMTTYPE=image/jpeg:https://www.westchestergunclub.com/wp-content/uploads/2023/02/WCGC-K-Image-9414-Calendar.jpg
END:VEVENT
BEGIN:VEVENT
DTSTART;TZID=America/New_York:20260308T100000
DTEND;TZID=America/New_York:20260308T150000
DTSTAMP:20260422T070411
CREATED:20230206T093733Z
LAST-MODIFIED:20260306T180255Z
UID:10001907-1772964000-1772982000@www.westchestergunclub.com
SUMMARY:Sunday Practice
DESCRIPTION:Join us Sundays for practice from 10:00 am to 3:00 pm. \n11:30 AM: Safety Checks for New Members/Public
URL:https://www.westchestergunclub.com/event/sunday-practice/2026-03-08/
LOCATION:West Chester Gun Club\, 200 E. Boot Rd\, West Chester\, PA\, 19341\, United States
ATTACH;FMTTYPE=image/jpeg:https://www.westchestergunclub.com/wp-content/uploads/2023/02/calendar-4420.jpg
END:VEVENT
BEGIN:VEVENT
DTSTART;TZID=America/New_York:20260303T150000
DTEND;TZID=America/New_York:20260303T190000
DTSTAMP:20260422T070411
CREATED:20250102T173851Z
LAST-MODIFIED:20251202T002718Z
UID:10004234-1772550000-1772564400@www.westchestergunclub.com
SUMMARY:Tuesday Practice
DESCRIPTION:Join us Tuesdays for practice from 3:00 pm to 7:00 pm.
URL:https://www.westchestergunclub.com/event/tuesday-practice-2-2-2/2026-03-03/
LOCATION:West Chester Gun Club\, 200 E. Boot Rd\, West Chester\, PA\, 19341\, United States
ATTACH;FMTTYPE=image/jpeg:https://www.westchestergunclub.com/wp-content/uploads/2023/02/WCGC-K-Image-9414-Calendar.jpg
END:VEVENT
BEGIN:VEVENT
DTSTART;TZID=America/New_York:20260301T100000
DTEND;TZID=America/New_York:20260301T150000
DTSTAMP:20260422T070411
CREATED:20230206T093733Z
LAST-MODIFIED:20260306T180255Z
UID:10001906-1772359200-1772377200@www.westchestergunclub.com
SUMMARY:Sunday Practice
DESCRIPTION:Join us Sundays for practice from 10:00 am to 3:00 pm. \n11:30 AM: Safety Checks for New Members/Public
URL:https://www.westchestergunclub.com/event/sunday-practice/2026-03-01/
LOCATION:West Chester Gun Club\, 200 E. Boot Rd\, West Chester\, PA\, 19341\, United States
ATTACH;FMTTYPE=image/jpeg:https://www.westchestergunclub.com/wp-content/uploads/2023/02/calendar-4420.jpg
END:VEVENT
BEGIN:VEVENT
DTSTART;TZID=America/New_York:20260224T150000
DTEND;TZID=America/New_York:20260224T190000
DTSTAMP:20260422T070411
CREATED:20250102T173851Z
LAST-MODIFIED:20251202T002718Z
UID:10004233-1771945200-1771959600@www.westchestergunclub.com
SUMMARY:Tuesday Practice
DESCRIPTION:Join us Tuesdays for practice from 3:00 pm to 7:00 pm.
URL:https://www.westchestergunclub.com/event/tuesday-practice-2-2-2/2026-02-24/
LOCATION:West Chester Gun Club\, 200 E. Boot Rd\, West Chester\, PA\, 19341\, United States
ATTACH;FMTTYPE=image/jpeg:https://www.westchestergunclub.com/wp-content/uploads/2023/02/WCGC-K-Image-9414-Calendar.jpg
END:VEVENT
BEGIN:VEVENT
DTSTART;TZID=America/New_York:20260222T100000
DTEND;TZID=America/New_York:20260222T150000
DTSTAMP:20260422T070411
CREATED:20230206T093733Z
LAST-MODIFIED:20260306T180255Z
UID:10001905-1771754400-1771772400@www.westchestergunclub.com
SUMMARY:Sunday Practice
DESCRIPTION:Join us Sundays for practice from 10:00 am to 3:00 pm. \n11:30 AM: Safety Checks for New Members/Public
URL:https://www.westchestergunclub.com/event/sunday-practice/2026-02-22/
LOCATION:West Chester Gun Club\, 200 E. Boot Rd\, West Chester\, PA\, 19341\, United States
ATTACH;FMTTYPE=image/jpeg:https://www.westchestergunclub.com/wp-content/uploads/2023/02/calendar-4420.jpg
END:VEVENT
BEGIN:VEVENT
DTSTART;TZID=America/New_York:20260217T150000
DTEND;TZID=America/New_York:20260217T190000
DTSTAMP:20260422T070411
CREATED:20250102T173851Z
LAST-MODIFIED:20251202T002718Z
UID:10004232-1771340400-1771354800@www.westchestergunclub.com
SUMMARY:Tuesday Practice
DESCRIPTION:Join us Tuesdays for practice from 3:00 pm to 7:00 pm.
URL:https://www.westchestergunclub.com/event/tuesday-practice-2-2-2/2026-02-17/
LOCATION:West Chester Gun Club\, 200 E. Boot Rd\, West Chester\, PA\, 19341\, United States
ATTACH;FMTTYPE=image/jpeg:https://www.westchestergunclub.com/wp-content/uploads/2023/02/WCGC-K-Image-9414-Calendar.jpg
END:VEVENT
BEGIN:VEVENT
DTSTART;TZID=America/New_York:20260215T100000
DTEND;TZID=America/New_York:20260215T150000
DTSTAMP:20260422T070411
CREATED:20230206T093733Z
LAST-MODIFIED:20260306T180255Z
UID:10001904-1771149600-1771167600@www.westchestergunclub.com
SUMMARY:Sunday Practice
DESCRIPTION:Join us Sundays for practice from 10:00 am to 3:00 pm. \n11:30 AM: Safety Checks for New Members/Public
URL:https://www.westchestergunclub.com/event/sunday-practice/2026-02-15/
LOCATION:West Chester Gun Club\, 200 E. Boot Rd\, West Chester\, PA\, 19341\, United States
ATTACH;FMTTYPE=image/jpeg:https://www.westchestergunclub.com/wp-content/uploads/2023/02/calendar-4420.jpg
END:VEVENT
BEGIN:VEVENT
DTSTART;TZID=America/New_York:20260210T173000
DTEND;TZID=America/New_York:20260210T183000
DTSTAMP:20260422T070411
CREATED:20230425T104112Z
LAST-MODIFIED:20241228T195743Z
UID:10002118-1770744600-1770748200@www.westchestergunclub.com
SUMMARY:Board of Directors Meeting
DESCRIPTION:
URL:https://www.westchestergunclub.com/event/board-of-directors-meeting/2026-02-10/
LOCATION:West Chester Gun Club\, 200 E. Boot Rd\, West Chester\, PA\, 19341\, United States
ATTACH;FMTTYPE=image/jpeg:https://www.westchestergunclub.com/wp-content/uploads/2023/04/home_about.jpg
END:VEVENT
BEGIN:VEVENT
DTSTART;TZID=America/New_York:20260210T150000
DTEND;TZID=America/New_York:20260210T190000
DTSTAMP:20260422T070411
CREATED:20250102T173851Z
LAST-MODIFIED:20251202T002718Z
UID:10004231-1770735600-1770750000@www.westchestergunclub.com
SUMMARY:Tuesday Practice
DESCRIPTION:Join us Tuesdays for practice from 3:00 pm to 7:00 pm.
URL:https://www.westchestergunclub.com/event/tuesday-practice-2-2-2/2026-02-10/
LOCATION:West Chester Gun Club\, 200 E. Boot Rd\, West Chester\, PA\, 19341\, United States
ATTACH;FMTTYPE=image/jpeg:https://www.westchestergunclub.com/wp-content/uploads/2023/02/WCGC-K-Image-9414-Calendar.jpg
END:VEVENT
BEGIN:VEVENT
DTSTART;TZID=America/New_York:20260208T100000
DTEND;TZID=America/New_York:20260208T150000
DTSTAMP:20260422T070411
CREATED:20230206T093733Z
LAST-MODIFIED:20260306T180255Z
UID:10001903-1770544800-1770562800@www.westchestergunclub.com
SUMMARY:Sunday Practice
DESCRIPTION:Join us Sundays for practice from 10:00 am to 3:00 pm. \n11:30 AM: Safety Checks for New Members/Public
URL:https://www.westchestergunclub.com/event/sunday-practice/2026-02-08/
LOCATION:West Chester Gun Club\, 200 E. Boot Rd\, West Chester\, PA\, 19341\, United States
ATTACH;FMTTYPE=image/jpeg:https://www.westchestergunclub.com/wp-content/uploads/2023/02/calendar-4420.jpg
END:VEVENT
BEGIN:VEVENT
DTSTART;TZID=America/New_York:20260203T150000
DTEND;TZID=America/New_York:20260203T190000
DTSTAMP:20260422T070411
CREATED:20250102T173851Z
LAST-MODIFIED:20251202T002718Z
UID:10004230-1770130800-1770145200@www.westchestergunclub.com
SUMMARY:Tuesday Practice
DESCRIPTION:Join us Tuesdays for practice from 3:00 pm to 7:00 pm.
URL:https://www.westchestergunclub.com/event/tuesday-practice-2-2-2/2026-02-03/
LOCATION:West Chester Gun Club\, 200 E. Boot Rd\, West Chester\, PA\, 19341\, United States
ATTACH;FMTTYPE=image/jpeg:https://www.westchestergunclub.com/wp-content/uploads/2023/02/WCGC-K-Image-9414-Calendar.jpg
END:VEVENT
BEGIN:VEVENT
DTSTART;TZID=America/New_York:20260201T100000
DTEND;TZID=America/New_York:20260201T150000
DTSTAMP:20260422T070412
CREATED:20230206T093733Z
LAST-MODIFIED:20260306T180255Z
UID:10001902-1769940000-1769958000@www.westchestergunclub.com
SUMMARY:Sunday Practice
DESCRIPTION:Join us Sundays for practice from 10:00 am to 3:00 pm. \n11:30 AM: Safety Checks for New Members/Public
URL:https://www.westchestergunclub.com/event/sunday-practice/2026-02-01/
LOCATION:West Chester Gun Club\, 200 E. Boot Rd\, West Chester\, PA\, 19341\, United States
ATTACH;FMTTYPE=image/jpeg:https://www.westchestergunclub.com/wp-content/uploads/2023/02/calendar-4420.jpg
END:VEVENT
BEGIN:VEVENT
DTSTART;TZID=America/New_York:20260127T150000
DTEND;TZID=America/New_York:20260127T190000
DTSTAMP:20260422T070412
CREATED:20250102T173851Z
LAST-MODIFIED:20251202T002718Z
UID:10004229-1769526000-1769540400@www.westchestergunclub.com
SUMMARY:Tuesday Practice
DESCRIPTION:Join us Tuesdays for practice from 3:00 pm to 7:00 pm.
URL:https://www.westchestergunclub.com/event/tuesday-practice-2-2-2/2026-01-27/
LOCATION:West Chester Gun Club\, 200 E. Boot Rd\, West Chester\, PA\, 19341\, United States
ATTACH;FMTTYPE=image/jpeg:https://www.westchestergunclub.com/wp-content/uploads/2023/02/WCGC-K-Image-9414-Calendar.jpg
END:VEVENT
END:VCALENDAR