BEGIN:VCALENDAR
VERSION:2.0
PRODID:-//West Chester  Gun Club - ECPv6.15.18//NONSGML v1.0//EN
CALSCALE:GREGORIAN
METHOD:PUBLISH
X-WR-CALNAME:West Chester  Gun Club
X-ORIGINAL-URL:https://www.westchestergunclub.com
X-WR-CALDESC:Events for West Chester  Gun Club
REFRESH-INTERVAL;VALUE=DURATION:PT1H
X-Robots-Tag:noindex
X-PUBLISHED-TTL:PT1H
BEGIN:VTIMEZONE
TZID:America/New_York
BEGIN:DAYLIGHT
TZOFFSETFROM:-0500
TZOFFSETTO:-0400
TZNAME:EDT
DTSTART:20260308T070000
END:DAYLIGHT
BEGIN:STANDARD
TZOFFSETFROM:-0400
TZOFFSETTO:-0500
TZNAME:EST
DTSTART:20261101T060000
END:STANDARD
BEGIN:DAYLIGHT
TZOFFSETFROM:-0500
TZOFFSETTO:-0400
TZNAME:EDT
DTSTART:20270314T070000
END:DAYLIGHT
BEGIN:STANDARD
TZOFFSETFROM:-0400
TZOFFSETTO:-0500
TZNAME:EST
DTSTART:20271107T060000
END:STANDARD
BEGIN:DAYLIGHT
TZOFFSETFROM:-0500
TZOFFSETTO:-0400
TZNAME:EDT
DTSTART:20280312T070000
END:DAYLIGHT
BEGIN:STANDARD
TZOFFSETFROM:-0400
TZOFFSETTO:-0500
TZNAME:EST
DTSTART:20281105T060000
END:STANDARD
END:VTIMEZONE
BEGIN:VEVENT
DTSTART;TZID=America/New_York:20270629T150000
DTEND;TZID=America/New_York:20270629T190000
DTSTAMP:20260423T060019
CREATED:20250102T173851Z
LAST-MODIFIED:20251202T002718Z
UID:10004303-1814281200-1814295600@www.westchestergunclub.com
SUMMARY:Tuesday Practice
DESCRIPTION:Join us Tuesdays for practice from 3:00 pm to 7:00 pm.
URL:https://www.westchestergunclub.com/event/tuesday-practice-2-2-2/2027-06-29/
LOCATION:West Chester Gun Club\, 200 E. Boot Rd\, West Chester\, PA\, 19341\, United States
ATTACH;FMTTYPE=image/jpeg:https://www.westchestergunclub.com/wp-content/uploads/2023/02/WCGC-K-Image-9414-Calendar.jpg
END:VEVENT
BEGIN:VEVENT
DTSTART;TZID=America/New_York:20270704T100000
DTEND;TZID=America/New_York:20270704T150000
DTSTAMP:20260423T060019
CREATED:20230206T093733Z
LAST-MODIFIED:20260306T180255Z
UID:10001976-1814695200-1814713200@www.westchestergunclub.com
SUMMARY:Sunday Practice
DESCRIPTION:Join us Sundays for practice from 10:00 am to 3:00 pm. \n11:30 AM: Safety Checks for New Members/Public
URL:https://www.westchestergunclub.com/event/sunday-practice/2027-07-04/
LOCATION:West Chester Gun Club\, 200 E. Boot Rd\, West Chester\, PA\, 19341\, United States
ATTACH;FMTTYPE=image/jpeg:https://www.westchestergunclub.com/wp-content/uploads/2023/02/calendar-4420.jpg
END:VEVENT
BEGIN:VEVENT
DTSTART;TZID=America/New_York:20270706T150000
DTEND;TZID=America/New_York:20270706T190000
DTSTAMP:20260423T060019
CREATED:20250102T173851Z
LAST-MODIFIED:20251202T002718Z
UID:10004304-1814886000-1814900400@www.westchestergunclub.com
SUMMARY:Tuesday Practice
DESCRIPTION:Join us Tuesdays for practice from 3:00 pm to 7:00 pm.
URL:https://www.westchestergunclub.com/event/tuesday-practice-2-2-2/2027-07-06/
LOCATION:West Chester Gun Club\, 200 E. Boot Rd\, West Chester\, PA\, 19341\, United States
ATTACH;FMTTYPE=image/jpeg:https://www.westchestergunclub.com/wp-content/uploads/2023/02/WCGC-K-Image-9414-Calendar.jpg
END:VEVENT
BEGIN:VEVENT
DTSTART;TZID=America/New_York:20270711T100000
DTEND;TZID=America/New_York:20270711T150000
DTSTAMP:20260423T060019
CREATED:20230206T093733Z
LAST-MODIFIED:20260306T180255Z
UID:10001977-1815300000-1815318000@www.westchestergunclub.com
SUMMARY:Sunday Practice
DESCRIPTION:Join us Sundays for practice from 10:00 am to 3:00 pm. \n11:30 AM: Safety Checks for New Members/Public
URL:https://www.westchestergunclub.com/event/sunday-practice/2027-07-11/
LOCATION:West Chester Gun Club\, 200 E. Boot Rd\, West Chester\, PA\, 19341\, United States
ATTACH;FMTTYPE=image/jpeg:https://www.westchestergunclub.com/wp-content/uploads/2023/02/calendar-4420.jpg
END:VEVENT
BEGIN:VEVENT
DTSTART;TZID=America/New_York:20270713T150000
DTEND;TZID=America/New_York:20270713T190000
DTSTAMP:20260423T060019
CREATED:20250102T173851Z
LAST-MODIFIED:20251202T002718Z
UID:10004305-1815490800-1815505200@www.westchestergunclub.com
SUMMARY:Tuesday Practice
DESCRIPTION:Join us Tuesdays for practice from 3:00 pm to 7:00 pm.
URL:https://www.westchestergunclub.com/event/tuesday-practice-2-2-2/2027-07-13/
LOCATION:West Chester Gun Club\, 200 E. Boot Rd\, West Chester\, PA\, 19341\, United States
ATTACH;FMTTYPE=image/jpeg:https://www.westchestergunclub.com/wp-content/uploads/2023/02/WCGC-K-Image-9414-Calendar.jpg
END:VEVENT
BEGIN:VEVENT
DTSTART;TZID=America/New_York:20270713T173000
DTEND;TZID=America/New_York:20270713T183000
DTSTAMP:20260423T060019
CREATED:20230425T104112Z
LAST-MODIFIED:20241228T195743Z
UID:10002135-1815499800-1815503400@www.westchestergunclub.com
SUMMARY:Board of Directors Meeting
DESCRIPTION:
URL:https://www.westchestergunclub.com/event/board-of-directors-meeting/2027-07-13/
LOCATION:West Chester Gun Club\, 200 E. Boot Rd\, West Chester\, PA\, 19341\, United States
ATTACH;FMTTYPE=image/jpeg:https://www.westchestergunclub.com/wp-content/uploads/2023/04/home_about.jpg
END:VEVENT
BEGIN:VEVENT
DTSTART;TZID=America/New_York:20270718T100000
DTEND;TZID=America/New_York:20270718T150000
DTSTAMP:20260423T060019
CREATED:20230206T093733Z
LAST-MODIFIED:20260306T180255Z
UID:10001978-1815904800-1815922800@www.westchestergunclub.com
SUMMARY:Sunday Practice
DESCRIPTION:Join us Sundays for practice from 10:00 am to 3:00 pm. \n11:30 AM: Safety Checks for New Members/Public
URL:https://www.westchestergunclub.com/event/sunday-practice/2027-07-18/
LOCATION:West Chester Gun Club\, 200 E. Boot Rd\, West Chester\, PA\, 19341\, United States
ATTACH;FMTTYPE=image/jpeg:https://www.westchestergunclub.com/wp-content/uploads/2023/02/calendar-4420.jpg
END:VEVENT
BEGIN:VEVENT
DTSTART;TZID=America/New_York:20270720T150000
DTEND;TZID=America/New_York:20270720T190000
DTSTAMP:20260423T060019
CREATED:20250102T173851Z
LAST-MODIFIED:20251202T002718Z
UID:10004306-1816095600-1816110000@www.westchestergunclub.com
SUMMARY:Tuesday Practice
DESCRIPTION:Join us Tuesdays for practice from 3:00 pm to 7:00 pm.
URL:https://www.westchestergunclub.com/event/tuesday-practice-2-2-2/2027-07-20/
LOCATION:West Chester Gun Club\, 200 E. Boot Rd\, West Chester\, PA\, 19341\, United States
ATTACH;FMTTYPE=image/jpeg:https://www.westchestergunclub.com/wp-content/uploads/2023/02/WCGC-K-Image-9414-Calendar.jpg
END:VEVENT
BEGIN:VEVENT
DTSTART;TZID=America/New_York:20270725T100000
DTEND;TZID=America/New_York:20270725T150000
DTSTAMP:20260423T060019
CREATED:20230206T093733Z
LAST-MODIFIED:20260306T180255Z
UID:10001979-1816509600-1816527600@www.westchestergunclub.com
SUMMARY:Sunday Practice
DESCRIPTION:Join us Sundays for practice from 10:00 am to 3:00 pm. \n11:30 AM: Safety Checks for New Members/Public
URL:https://www.westchestergunclub.com/event/sunday-practice/2027-07-25/
LOCATION:West Chester Gun Club\, 200 E. Boot Rd\, West Chester\, PA\, 19341\, United States
ATTACH;FMTTYPE=image/jpeg:https://www.westchestergunclub.com/wp-content/uploads/2023/02/calendar-4420.jpg
END:VEVENT
BEGIN:VEVENT
DTSTART;TZID=America/New_York:20270727T150000
DTEND;TZID=America/New_York:20270727T190000
DTSTAMP:20260423T060019
CREATED:20250102T173851Z
LAST-MODIFIED:20251202T002718Z
UID:10004307-1816700400-1816714800@www.westchestergunclub.com
SUMMARY:Tuesday Practice
DESCRIPTION:Join us Tuesdays for practice from 3:00 pm to 7:00 pm.
URL:https://www.westchestergunclub.com/event/tuesday-practice-2-2-2/2027-07-27/
LOCATION:West Chester Gun Club\, 200 E. Boot Rd\, West Chester\, PA\, 19341\, United States
ATTACH;FMTTYPE=image/jpeg:https://www.westchestergunclub.com/wp-content/uploads/2023/02/WCGC-K-Image-9414-Calendar.jpg
END:VEVENT
BEGIN:VEVENT
DTSTART;TZID=America/New_York:20270801T100000
DTEND;TZID=America/New_York:20270801T150000
DTSTAMP:20260423T060019
CREATED:20230206T093733Z
LAST-MODIFIED:20260306T180255Z
UID:10001980-1817114400-1817132400@www.westchestergunclub.com
SUMMARY:Sunday Practice
DESCRIPTION:Join us Sundays for practice from 10:00 am to 3:00 pm. \n11:30 AM: Safety Checks for New Members/Public
URL:https://www.westchestergunclub.com/event/sunday-practice/2027-08-01/
LOCATION:West Chester Gun Club\, 200 E. Boot Rd\, West Chester\, PA\, 19341\, United States
ATTACH;FMTTYPE=image/jpeg:https://www.westchestergunclub.com/wp-content/uploads/2023/02/calendar-4420.jpg
END:VEVENT
BEGIN:VEVENT
DTSTART;TZID=America/New_York:20270803T150000
DTEND;TZID=America/New_York:20270803T190000
DTSTAMP:20260423T060019
CREATED:20250102T173851Z
LAST-MODIFIED:20251202T002718Z
UID:10004308-1817305200-1817319600@www.westchestergunclub.com
SUMMARY:Tuesday Practice
DESCRIPTION:Join us Tuesdays for practice from 3:00 pm to 7:00 pm.
URL:https://www.westchestergunclub.com/event/tuesday-practice-2-2-2/2027-08-03/
LOCATION:West Chester Gun Club\, 200 E. Boot Rd\, West Chester\, PA\, 19341\, United States
ATTACH;FMTTYPE=image/jpeg:https://www.westchestergunclub.com/wp-content/uploads/2023/02/WCGC-K-Image-9414-Calendar.jpg
END:VEVENT
BEGIN:VEVENT
DTSTART;TZID=America/New_York:20270808T100000
DTEND;TZID=America/New_York:20270808T150000
DTSTAMP:20260423T060019
CREATED:20230206T093733Z
LAST-MODIFIED:20260306T180255Z
UID:10001981-1817719200-1817737200@www.westchestergunclub.com
SUMMARY:Sunday Practice
DESCRIPTION:Join us Sundays for practice from 10:00 am to 3:00 pm. \n11:30 AM: Safety Checks for New Members/Public
URL:https://www.westchestergunclub.com/event/sunday-practice/2027-08-08/
LOCATION:West Chester Gun Club\, 200 E. Boot Rd\, West Chester\, PA\, 19341\, United States
ATTACH;FMTTYPE=image/jpeg:https://www.westchestergunclub.com/wp-content/uploads/2023/02/calendar-4420.jpg
END:VEVENT
BEGIN:VEVENT
DTSTART;TZID=America/New_York:20270810T150000
DTEND;TZID=America/New_York:20270810T190000
DTSTAMP:20260423T060019
CREATED:20250102T173851Z
LAST-MODIFIED:20251202T002718Z
UID:10004309-1817910000-1817924400@www.westchestergunclub.com
SUMMARY:Tuesday Practice
DESCRIPTION:Join us Tuesdays for practice from 3:00 pm to 7:00 pm.
URL:https://www.westchestergunclub.com/event/tuesday-practice-2-2-2/2027-08-10/
LOCATION:West Chester Gun Club\, 200 E. Boot Rd\, West Chester\, PA\, 19341\, United States
ATTACH;FMTTYPE=image/jpeg:https://www.westchestergunclub.com/wp-content/uploads/2023/02/WCGC-K-Image-9414-Calendar.jpg
END:VEVENT
BEGIN:VEVENT
DTSTART;TZID=America/New_York:20270810T173000
DTEND;TZID=America/New_York:20270810T183000
DTSTAMP:20260423T060019
CREATED:20230425T104112Z
LAST-MODIFIED:20241228T195743Z
UID:10002136-1817919000-1817922600@www.westchestergunclub.com
SUMMARY:Board of Directors Meeting
DESCRIPTION:
URL:https://www.westchestergunclub.com/event/board-of-directors-meeting/2027-08-10/
LOCATION:West Chester Gun Club\, 200 E. Boot Rd\, West Chester\, PA\, 19341\, United States
ATTACH;FMTTYPE=image/jpeg:https://www.westchestergunclub.com/wp-content/uploads/2023/04/home_about.jpg
END:VEVENT
BEGIN:VEVENT
DTSTART;TZID=America/New_York:20270815T100000
DTEND;TZID=America/New_York:20270815T150000
DTSTAMP:20260423T060019
CREATED:20230206T093733Z
LAST-MODIFIED:20260306T180255Z
UID:10001982-1818324000-1818342000@www.westchestergunclub.com
SUMMARY:Sunday Practice
DESCRIPTION:Join us Sundays for practice from 10:00 am to 3:00 pm. \n11:30 AM: Safety Checks for New Members/Public
URL:https://www.westchestergunclub.com/event/sunday-practice/2027-08-15/
LOCATION:West Chester Gun Club\, 200 E. Boot Rd\, West Chester\, PA\, 19341\, United States
ATTACH;FMTTYPE=image/jpeg:https://www.westchestergunclub.com/wp-content/uploads/2023/02/calendar-4420.jpg
END:VEVENT
BEGIN:VEVENT
DTSTART;TZID=America/New_York:20270817T150000
DTEND;TZID=America/New_York:20270817T190000
DTSTAMP:20260423T060019
CREATED:20250102T173851Z
LAST-MODIFIED:20251202T002718Z
UID:10004310-1818514800-1818529200@www.westchestergunclub.com
SUMMARY:Tuesday Practice
DESCRIPTION:Join us Tuesdays for practice from 3:00 pm to 7:00 pm.
URL:https://www.westchestergunclub.com/event/tuesday-practice-2-2-2/2027-08-17/
LOCATION:West Chester Gun Club\, 200 E. Boot Rd\, West Chester\, PA\, 19341\, United States
ATTACH;FMTTYPE=image/jpeg:https://www.westchestergunclub.com/wp-content/uploads/2023/02/WCGC-K-Image-9414-Calendar.jpg
END:VEVENT
BEGIN:VEVENT
DTSTART;TZID=America/New_York:20270822T100000
DTEND;TZID=America/New_York:20270822T150000
DTSTAMP:20260423T060019
CREATED:20230206T093733Z
LAST-MODIFIED:20260306T180255Z
UID:10001983-1818928800-1818946800@www.westchestergunclub.com
SUMMARY:Sunday Practice
DESCRIPTION:Join us Sundays for practice from 10:00 am to 3:00 pm. \n11:30 AM: Safety Checks for New Members/Public
URL:https://www.westchestergunclub.com/event/sunday-practice/2027-08-22/
LOCATION:West Chester Gun Club\, 200 E. Boot Rd\, West Chester\, PA\, 19341\, United States
ATTACH;FMTTYPE=image/jpeg:https://www.westchestergunclub.com/wp-content/uploads/2023/02/calendar-4420.jpg
END:VEVENT
BEGIN:VEVENT
DTSTART;TZID=America/New_York:20270824T150000
DTEND;TZID=America/New_York:20270824T190000
DTSTAMP:20260423T060019
CREATED:20250102T173851Z
LAST-MODIFIED:20251202T002718Z
UID:10004311-1819119600-1819134000@www.westchestergunclub.com
SUMMARY:Tuesday Practice
DESCRIPTION:Join us Tuesdays for practice from 3:00 pm to 7:00 pm.
URL:https://www.westchestergunclub.com/event/tuesday-practice-2-2-2/2027-08-24/
LOCATION:West Chester Gun Club\, 200 E. Boot Rd\, West Chester\, PA\, 19341\, United States
ATTACH;FMTTYPE=image/jpeg:https://www.westchestergunclub.com/wp-content/uploads/2023/02/WCGC-K-Image-9414-Calendar.jpg
END:VEVENT
BEGIN:VEVENT
DTSTART;TZID=America/New_York:20270829T100000
DTEND;TZID=America/New_York:20270829T150000
DTSTAMP:20260423T060019
CREATED:20230206T093733Z
LAST-MODIFIED:20260306T180255Z
UID:10001984-1819533600-1819551600@www.westchestergunclub.com
SUMMARY:Sunday Practice
DESCRIPTION:Join us Sundays for practice from 10:00 am to 3:00 pm. \n11:30 AM: Safety Checks for New Members/Public
URL:https://www.westchestergunclub.com/event/sunday-practice/2027-08-29/
LOCATION:West Chester Gun Club\, 200 E. Boot Rd\, West Chester\, PA\, 19341\, United States
ATTACH;FMTTYPE=image/jpeg:https://www.westchestergunclub.com/wp-content/uploads/2023/02/calendar-4420.jpg
END:VEVENT
BEGIN:VEVENT
DTSTART;TZID=America/New_York:20270831T150000
DTEND;TZID=America/New_York:20270831T190000
DTSTAMP:20260423T060019
CREATED:20250102T173851Z
LAST-MODIFIED:20251202T002718Z
UID:10004312-1819724400-1819738800@www.westchestergunclub.com
SUMMARY:Tuesday Practice
DESCRIPTION:Join us Tuesdays for practice from 3:00 pm to 7:00 pm.
URL:https://www.westchestergunclub.com/event/tuesday-practice-2-2-2/2027-08-31/
LOCATION:West Chester Gun Club\, 200 E. Boot Rd\, West Chester\, PA\, 19341\, United States
ATTACH;FMTTYPE=image/jpeg:https://www.westchestergunclub.com/wp-content/uploads/2023/02/WCGC-K-Image-9414-Calendar.jpg
END:VEVENT
BEGIN:VEVENT
DTSTART;TZID=America/New_York:20270905T100000
DTEND;TZID=America/New_York:20270905T150000
DTSTAMP:20260423T060019
CREATED:20230206T093733Z
LAST-MODIFIED:20260306T180255Z
UID:10001985-1820138400-1820156400@www.westchestergunclub.com
SUMMARY:Sunday Practice
DESCRIPTION:Join us Sundays for practice from 10:00 am to 3:00 pm. \n11:30 AM: Safety Checks for New Members/Public
URL:https://www.westchestergunclub.com/event/sunday-practice/2027-09-05/
LOCATION:West Chester Gun Club\, 200 E. Boot Rd\, West Chester\, PA\, 19341\, United States
ATTACH;FMTTYPE=image/jpeg:https://www.westchestergunclub.com/wp-content/uploads/2023/02/calendar-4420.jpg
END:VEVENT
BEGIN:VEVENT
DTSTART;TZID=America/New_York:20270907T150000
DTEND;TZID=America/New_York:20270907T190000
DTSTAMP:20260423T060019
CREATED:20250102T173851Z
LAST-MODIFIED:20251202T002718Z
UID:10004313-1820329200-1820343600@www.westchestergunclub.com
SUMMARY:Tuesday Practice
DESCRIPTION:Join us Tuesdays for practice from 3:00 pm to 7:00 pm.
URL:https://www.westchestergunclub.com/event/tuesday-practice-2-2-2/2027-09-07/
LOCATION:West Chester Gun Club\, 200 E. Boot Rd\, West Chester\, PA\, 19341\, United States
ATTACH;FMTTYPE=image/jpeg:https://www.westchestergunclub.com/wp-content/uploads/2023/02/WCGC-K-Image-9414-Calendar.jpg
END:VEVENT
BEGIN:VEVENT
DTSTART;TZID=America/New_York:20270912T100000
DTEND;TZID=America/New_York:20270912T150000
DTSTAMP:20260423T060019
CREATED:20230206T093733Z
LAST-MODIFIED:20260306T180255Z
UID:10001986-1820743200-1820761200@www.westchestergunclub.com
SUMMARY:Sunday Practice
DESCRIPTION:Join us Sundays for practice from 10:00 am to 3:00 pm. \n11:30 AM: Safety Checks for New Members/Public
URL:https://www.westchestergunclub.com/event/sunday-practice/2027-09-12/
LOCATION:West Chester Gun Club\, 200 E. Boot Rd\, West Chester\, PA\, 19341\, United States
ATTACH;FMTTYPE=image/jpeg:https://www.westchestergunclub.com/wp-content/uploads/2023/02/calendar-4420.jpg
END:VEVENT
BEGIN:VEVENT
DTSTART;TZID=America/New_York:20270914T150000
DTEND;TZID=America/New_York:20270914T190000
DTSTAMP:20260423T060019
CREATED:20250102T173851Z
LAST-MODIFIED:20251202T002718Z
UID:10004314-1820934000-1820948400@www.westchestergunclub.com
SUMMARY:Tuesday Practice
DESCRIPTION:Join us Tuesdays for practice from 3:00 pm to 7:00 pm.
URL:https://www.westchestergunclub.com/event/tuesday-practice-2-2-2/2027-09-14/
LOCATION:West Chester Gun Club\, 200 E. Boot Rd\, West Chester\, PA\, 19341\, United States
ATTACH;FMTTYPE=image/jpeg:https://www.westchestergunclub.com/wp-content/uploads/2023/02/WCGC-K-Image-9414-Calendar.jpg
END:VEVENT
BEGIN:VEVENT
DTSTART;TZID=America/New_York:20270914T173000
DTEND;TZID=America/New_York:20270914T183000
DTSTAMP:20260423T060019
CREATED:20230425T104112Z
LAST-MODIFIED:20241228T195743Z
UID:10002137-1820943000-1820946600@www.westchestergunclub.com
SUMMARY:Board of Directors Meeting
DESCRIPTION:
URL:https://www.westchestergunclub.com/event/board-of-directors-meeting/2027-09-14/
LOCATION:West Chester Gun Club\, 200 E. Boot Rd\, West Chester\, PA\, 19341\, United States
ATTACH;FMTTYPE=image/jpeg:https://www.westchestergunclub.com/wp-content/uploads/2023/04/home_about.jpg
END:VEVENT
BEGIN:VEVENT
DTSTART;TZID=America/New_York:20270919T100000
DTEND;TZID=America/New_York:20270919T150000
DTSTAMP:20260423T060019
CREATED:20230206T093733Z
LAST-MODIFIED:20260306T180255Z
UID:10001987-1821348000-1821366000@www.westchestergunclub.com
SUMMARY:Sunday Practice
DESCRIPTION:Join us Sundays for practice from 10:00 am to 3:00 pm. \n11:30 AM: Safety Checks for New Members/Public
URL:https://www.westchestergunclub.com/event/sunday-practice/2027-09-19/
LOCATION:West Chester Gun Club\, 200 E. Boot Rd\, West Chester\, PA\, 19341\, United States
ATTACH;FMTTYPE=image/jpeg:https://www.westchestergunclub.com/wp-content/uploads/2023/02/calendar-4420.jpg
END:VEVENT
BEGIN:VEVENT
DTSTART;TZID=America/New_York:20270921T150000
DTEND;TZID=America/New_York:20270921T190000
DTSTAMP:20260423T060019
CREATED:20250102T173851Z
LAST-MODIFIED:20251202T002718Z
UID:10004315-1821538800-1821553200@www.westchestergunclub.com
SUMMARY:Tuesday Practice
DESCRIPTION:Join us Tuesdays for practice from 3:00 pm to 7:00 pm.
URL:https://www.westchestergunclub.com/event/tuesday-practice-2-2-2/2027-09-21/
LOCATION:West Chester Gun Club\, 200 E. Boot Rd\, West Chester\, PA\, 19341\, United States
ATTACH;FMTTYPE=image/jpeg:https://www.westchestergunclub.com/wp-content/uploads/2023/02/WCGC-K-Image-9414-Calendar.jpg
END:VEVENT
BEGIN:VEVENT
DTSTART;TZID=America/New_York:20270926T100000
DTEND;TZID=America/New_York:20270926T150000
DTSTAMP:20260423T060019
CREATED:20230206T093733Z
LAST-MODIFIED:20260306T180255Z
UID:10001988-1821952800-1821970800@www.westchestergunclub.com
SUMMARY:Sunday Practice
DESCRIPTION:Join us Sundays for practice from 10:00 am to 3:00 pm. \n11:30 AM: Safety Checks for New Members/Public
URL:https://www.westchestergunclub.com/event/sunday-practice/2027-09-26/
LOCATION:West Chester Gun Club\, 200 E. Boot Rd\, West Chester\, PA\, 19341\, United States
ATTACH;FMTTYPE=image/jpeg:https://www.westchestergunclub.com/wp-content/uploads/2023/02/calendar-4420.jpg
END:VEVENT
BEGIN:VEVENT
DTSTART;TZID=America/New_York:20270928T150000
DTEND;TZID=America/New_York:20270928T190000
DTSTAMP:20260423T060019
CREATED:20250102T173851Z
LAST-MODIFIED:20251202T002718Z
UID:10004316-1822143600-1822158000@www.westchestergunclub.com
SUMMARY:Tuesday Practice
DESCRIPTION:Join us Tuesdays for practice from 3:00 pm to 7:00 pm.
URL:https://www.westchestergunclub.com/event/tuesday-practice-2-2-2/2027-09-28/
LOCATION:West Chester Gun Club\, 200 E. Boot Rd\, West Chester\, PA\, 19341\, United States
ATTACH;FMTTYPE=image/jpeg:https://www.westchestergunclub.com/wp-content/uploads/2023/02/WCGC-K-Image-9414-Calendar.jpg
END:VEVENT
END:VCALENDAR