BEGIN:VCALENDAR
VERSION:2.0
PRODID:-//West Chester  Gun Club - ECPv6.15.18//NONSGML v1.0//EN
CALSCALE:GREGORIAN
METHOD:PUBLISH
X-WR-CALNAME:West Chester  Gun Club
X-ORIGINAL-URL:https://www.westchestergunclub.com
X-WR-CALDESC:Events for West Chester  Gun Club
REFRESH-INTERVAL;VALUE=DURATION:PT1H
X-Robots-Tag:noindex
X-PUBLISHED-TTL:PT1H
BEGIN:VTIMEZONE
TZID:America/New_York
BEGIN:DAYLIGHT
TZOFFSETFROM:-0500
TZOFFSETTO:-0400
TZNAME:EDT
DTSTART:20260308T070000
END:DAYLIGHT
BEGIN:STANDARD
TZOFFSETFROM:-0400
TZOFFSETTO:-0500
TZNAME:EST
DTSTART:20261101T060000
END:STANDARD
BEGIN:DAYLIGHT
TZOFFSETFROM:-0500
TZOFFSETTO:-0400
TZNAME:EDT
DTSTART:20270314T070000
END:DAYLIGHT
BEGIN:STANDARD
TZOFFSETFROM:-0400
TZOFFSETTO:-0500
TZNAME:EST
DTSTART:20271107T060000
END:STANDARD
BEGIN:DAYLIGHT
TZOFFSETFROM:-0500
TZOFFSETTO:-0400
TZNAME:EDT
DTSTART:20280312T070000
END:DAYLIGHT
BEGIN:STANDARD
TZOFFSETFROM:-0400
TZOFFSETTO:-0500
TZNAME:EST
DTSTART:20281105T060000
END:STANDARD
BEGIN:DAYLIGHT
TZOFFSETFROM:-0500
TZOFFSETTO:-0400
TZNAME:EDT
DTSTART:20290311T070000
END:DAYLIGHT
BEGIN:STANDARD
TZOFFSETFROM:-0400
TZOFFSETTO:-0500
TZNAME:EST
DTSTART:20291104T060000
END:STANDARD
END:VTIMEZONE
BEGIN:VEVENT
DTSTART;TZID=America/New_York:20271207T150000
DTEND;TZID=America/New_York:20271207T190000
DTSTAMP:20260423T161631
CREATED:20250102T173851Z
LAST-MODIFIED:20251202T002718Z
UID:10004326-1828191600-1828206000@www.westchestergunclub.com
SUMMARY:Tuesday Practice
DESCRIPTION:Join us Tuesdays for practice from 3:00 pm to 7:00 pm.
URL:https://www.westchestergunclub.com/event/tuesday-practice-2-2-2/2027-12-07/
LOCATION:West Chester Gun Club\, 200 E. Boot Rd\, West Chester\, PA\, 19341\, United States
ATTACH;FMTTYPE=image/jpeg:https://www.westchestergunclub.com/wp-content/uploads/2023/02/WCGC-K-Image-9414-Calendar.jpg
END:VEVENT
BEGIN:VEVENT
DTSTART;TZID=America/New_York:20271212T100000
DTEND;TZID=America/New_York:20271212T150000
DTSTAMP:20260423T161631
CREATED:20230206T093733Z
LAST-MODIFIED:20260306T180255Z
UID:10001999-1828605600-1828623600@www.westchestergunclub.com
SUMMARY:Sunday Practice
DESCRIPTION:Join us Sundays for practice from 10:00 am to 3:00 pm. \n11:30 AM: Safety Checks for New Members/Public
URL:https://www.westchestergunclub.com/event/sunday-practice/2027-12-12/
LOCATION:West Chester Gun Club\, 200 E. Boot Rd\, West Chester\, PA\, 19341\, United States
ATTACH;FMTTYPE=image/jpeg:https://www.westchestergunclub.com/wp-content/uploads/2023/02/calendar-4420.jpg
END:VEVENT
BEGIN:VEVENT
DTSTART;TZID=America/New_York:20271214T150000
DTEND;TZID=America/New_York:20271214T190000
DTSTAMP:20260423T161631
CREATED:20250102T173851Z
LAST-MODIFIED:20251202T002718Z
UID:10004327-1828796400-1828810800@www.westchestergunclub.com
SUMMARY:Tuesday Practice
DESCRIPTION:Join us Tuesdays for practice from 3:00 pm to 7:00 pm.
URL:https://www.westchestergunclub.com/event/tuesday-practice-2-2-2/2027-12-14/
LOCATION:West Chester Gun Club\, 200 E. Boot Rd\, West Chester\, PA\, 19341\, United States
ATTACH;FMTTYPE=image/jpeg:https://www.westchestergunclub.com/wp-content/uploads/2023/02/WCGC-K-Image-9414-Calendar.jpg
END:VEVENT
BEGIN:VEVENT
DTSTART;TZID=America/New_York:20271214T173000
DTEND;TZID=America/New_York:20271214T183000
DTSTAMP:20260423T161631
CREATED:20230425T104112Z
LAST-MODIFIED:20241228T195743Z
UID:10002140-1828805400-1828809000@www.westchestergunclub.com
SUMMARY:Board of Directors Meeting
DESCRIPTION:
URL:https://www.westchestergunclub.com/event/board-of-directors-meeting/2027-12-14/
LOCATION:West Chester Gun Club\, 200 E. Boot Rd\, West Chester\, PA\, 19341\, United States
ATTACH;FMTTYPE=image/jpeg:https://www.westchestergunclub.com/wp-content/uploads/2023/04/home_about.jpg
END:VEVENT
BEGIN:VEVENT
DTSTART;TZID=America/New_York:20271219T100000
DTEND;TZID=America/New_York:20271219T150000
DTSTAMP:20260423T161631
CREATED:20230206T093733Z
LAST-MODIFIED:20260306T180255Z
UID:10002000-1829210400-1829228400@www.westchestergunclub.com
SUMMARY:Sunday Practice
DESCRIPTION:Join us Sundays for practice from 10:00 am to 3:00 pm. \n11:30 AM: Safety Checks for New Members/Public
URL:https://www.westchestergunclub.com/event/sunday-practice/2027-12-19/
LOCATION:West Chester Gun Club\, 200 E. Boot Rd\, West Chester\, PA\, 19341\, United States
ATTACH;FMTTYPE=image/jpeg:https://www.westchestergunclub.com/wp-content/uploads/2023/02/calendar-4420.jpg
END:VEVENT
BEGIN:VEVENT
DTSTART;TZID=America/New_York:20271221T150000
DTEND;TZID=America/New_York:20271221T190000
DTSTAMP:20260423T161631
CREATED:20250102T173851Z
LAST-MODIFIED:20251202T002718Z
UID:10004328-1829401200-1829415600@www.westchestergunclub.com
SUMMARY:Tuesday Practice
DESCRIPTION:Join us Tuesdays for practice from 3:00 pm to 7:00 pm.
URL:https://www.westchestergunclub.com/event/tuesday-practice-2-2-2/2027-12-21/
LOCATION:West Chester Gun Club\, 200 E. Boot Rd\, West Chester\, PA\, 19341\, United States
ATTACH;FMTTYPE=image/jpeg:https://www.westchestergunclub.com/wp-content/uploads/2023/02/WCGC-K-Image-9414-Calendar.jpg
END:VEVENT
BEGIN:VEVENT
DTSTART;TZID=America/New_York:20271226T100000
DTEND;TZID=America/New_York:20271226T150000
DTSTAMP:20260423T161631
CREATED:20230206T093733Z
LAST-MODIFIED:20260306T180255Z
UID:10002001-1829815200-1829833200@www.westchestergunclub.com
SUMMARY:Sunday Practice
DESCRIPTION:Join us Sundays for practice from 10:00 am to 3:00 pm. \n11:30 AM: Safety Checks for New Members/Public
URL:https://www.westchestergunclub.com/event/sunday-practice/2027-12-26/
LOCATION:West Chester Gun Club\, 200 E. Boot Rd\, West Chester\, PA\, 19341\, United States
ATTACH;FMTTYPE=image/jpeg:https://www.westchestergunclub.com/wp-content/uploads/2023/02/calendar-4420.jpg
END:VEVENT
BEGIN:VEVENT
DTSTART;TZID=America/New_York:20271228T150000
DTEND;TZID=America/New_York:20271228T190000
DTSTAMP:20260423T161631
CREATED:20250102T173851Z
LAST-MODIFIED:20251202T002718Z
UID:10004329-1830006000-1830020400@www.westchestergunclub.com
SUMMARY:Tuesday Practice
DESCRIPTION:Join us Tuesdays for practice from 3:00 pm to 7:00 pm.
URL:https://www.westchestergunclub.com/event/tuesday-practice-2-2-2/2027-12-28/
LOCATION:West Chester Gun Club\, 200 E. Boot Rd\, West Chester\, PA\, 19341\, United States
ATTACH;FMTTYPE=image/jpeg:https://www.westchestergunclub.com/wp-content/uploads/2023/02/WCGC-K-Image-9414-Calendar.jpg
END:VEVENT
BEGIN:VEVENT
DTSTART;TZID=America/New_York:20280102T100000
DTEND;TZID=America/New_York:20280102T150000
DTSTAMP:20260423T161631
CREATED:20230206T093733Z
LAST-MODIFIED:20260306T180255Z
UID:10002002-1830420000-1830438000@www.westchestergunclub.com
SUMMARY:Sunday Practice
DESCRIPTION:Join us Sundays for practice from 10:00 am to 3:00 pm. \n11:30 AM: Safety Checks for New Members/Public
URL:https://www.westchestergunclub.com/event/sunday-practice/2028-01-02/
LOCATION:West Chester Gun Club\, 200 E. Boot Rd\, West Chester\, PA\, 19341\, United States
ATTACH;FMTTYPE=image/jpeg:https://www.westchestergunclub.com/wp-content/uploads/2023/02/calendar-4420.jpg
END:VEVENT
BEGIN:VEVENT
DTSTART;TZID=America/New_York:20280104T150000
DTEND;TZID=America/New_York:20280104T190000
DTSTAMP:20260423T161631
CREATED:20250102T173851Z
LAST-MODIFIED:20251202T002718Z
UID:10004330-1830610800-1830625200@www.westchestergunclub.com
SUMMARY:Tuesday Practice
DESCRIPTION:Join us Tuesdays for practice from 3:00 pm to 7:00 pm.
URL:https://www.westchestergunclub.com/event/tuesday-practice-2-2-2/2028-01-04/
LOCATION:West Chester Gun Club\, 200 E. Boot Rd\, West Chester\, PA\, 19341\, United States
ATTACH;FMTTYPE=image/jpeg:https://www.westchestergunclub.com/wp-content/uploads/2023/02/WCGC-K-Image-9414-Calendar.jpg
END:VEVENT
BEGIN:VEVENT
DTSTART;TZID=America/New_York:20280109T100000
DTEND;TZID=America/New_York:20280109T150000
DTSTAMP:20260423T161631
CREATED:20230206T093733Z
LAST-MODIFIED:20260306T180255Z
UID:10002003-1831024800-1831042800@www.westchestergunclub.com
SUMMARY:Sunday Practice
DESCRIPTION:Join us Sundays for practice from 10:00 am to 3:00 pm. \n11:30 AM: Safety Checks for New Members/Public
URL:https://www.westchestergunclub.com/event/sunday-practice/2028-01-09/
LOCATION:West Chester Gun Club\, 200 E. Boot Rd\, West Chester\, PA\, 19341\, United States
ATTACH;FMTTYPE=image/jpeg:https://www.westchestergunclub.com/wp-content/uploads/2023/02/calendar-4420.jpg
END:VEVENT
BEGIN:VEVENT
DTSTART;TZID=America/New_York:20280111T150000
DTEND;TZID=America/New_York:20280111T190000
DTSTAMP:20260423T161631
CREATED:20250102T173851Z
LAST-MODIFIED:20251202T002718Z
UID:10004331-1831215600-1831230000@www.westchestergunclub.com
SUMMARY:Tuesday Practice
DESCRIPTION:Join us Tuesdays for practice from 3:00 pm to 7:00 pm.
URL:https://www.westchestergunclub.com/event/tuesday-practice-2-2-2/2028-01-11/
LOCATION:West Chester Gun Club\, 200 E. Boot Rd\, West Chester\, PA\, 19341\, United States
ATTACH;FMTTYPE=image/jpeg:https://www.westchestergunclub.com/wp-content/uploads/2023/02/WCGC-K-Image-9414-Calendar.jpg
END:VEVENT
BEGIN:VEVENT
DTSTART;TZID=America/New_York:20280111T173000
DTEND;TZID=America/New_York:20280111T183000
DTSTAMP:20260423T161631
CREATED:20230425T104112Z
LAST-MODIFIED:20241228T195743Z
UID:10002141-1831224600-1831228200@www.westchestergunclub.com
SUMMARY:Board of Directors Meeting
DESCRIPTION:
URL:https://www.westchestergunclub.com/event/board-of-directors-meeting/2028-01-11/
LOCATION:West Chester Gun Club\, 200 E. Boot Rd\, West Chester\, PA\, 19341\, United States
ATTACH;FMTTYPE=image/jpeg:https://www.westchestergunclub.com/wp-content/uploads/2023/04/home_about.jpg
END:VEVENT
BEGIN:VEVENT
DTSTART;TZID=America/New_York:20280116T100000
DTEND;TZID=America/New_York:20280116T150000
DTSTAMP:20260423T161631
CREATED:20230206T093733Z
LAST-MODIFIED:20260306T180255Z
UID:10002004-1831629600-1831647600@www.westchestergunclub.com
SUMMARY:Sunday Practice
DESCRIPTION:Join us Sundays for practice from 10:00 am to 3:00 pm. \n11:30 AM: Safety Checks for New Members/Public
URL:https://www.westchestergunclub.com/event/sunday-practice/2028-01-16/
LOCATION:West Chester Gun Club\, 200 E. Boot Rd\, West Chester\, PA\, 19341\, United States
ATTACH;FMTTYPE=image/jpeg:https://www.westchestergunclub.com/wp-content/uploads/2023/02/calendar-4420.jpg
END:VEVENT
BEGIN:VEVENT
DTSTART;TZID=America/New_York:20280118T150000
DTEND;TZID=America/New_York:20280118T190000
DTSTAMP:20260423T161631
CREATED:20250102T173851Z
LAST-MODIFIED:20251202T002718Z
UID:10004332-1831820400-1831834800@www.westchestergunclub.com
SUMMARY:Tuesday Practice
DESCRIPTION:Join us Tuesdays for practice from 3:00 pm to 7:00 pm.
URL:https://www.westchestergunclub.com/event/tuesday-practice-2-2-2/2028-01-18/
LOCATION:West Chester Gun Club\, 200 E. Boot Rd\, West Chester\, PA\, 19341\, United States
ATTACH;FMTTYPE=image/jpeg:https://www.westchestergunclub.com/wp-content/uploads/2023/02/WCGC-K-Image-9414-Calendar.jpg
END:VEVENT
BEGIN:VEVENT
DTSTART;TZID=America/New_York:20280123T100000
DTEND;TZID=America/New_York:20280123T150000
DTSTAMP:20260423T161631
CREATED:20230206T093733Z
LAST-MODIFIED:20260306T180255Z
UID:10002005-1832234400-1832252400@www.westchestergunclub.com
SUMMARY:Sunday Practice
DESCRIPTION:Join us Sundays for practice from 10:00 am to 3:00 pm. \n11:30 AM: Safety Checks for New Members/Public
URL:https://www.westchestergunclub.com/event/sunday-practice/2028-01-23/
LOCATION:West Chester Gun Club\, 200 E. Boot Rd\, West Chester\, PA\, 19341\, United States
ATTACH;FMTTYPE=image/jpeg:https://www.westchestergunclub.com/wp-content/uploads/2023/02/calendar-4420.jpg
END:VEVENT
BEGIN:VEVENT
DTSTART;TZID=America/New_York:20280125T150000
DTEND;TZID=America/New_York:20280125T190000
DTSTAMP:20260423T161631
CREATED:20250102T173851Z
LAST-MODIFIED:20251202T002718Z
UID:10004333-1832425200-1832439600@www.westchestergunclub.com
SUMMARY:Tuesday Practice
DESCRIPTION:Join us Tuesdays for practice from 3:00 pm to 7:00 pm.
URL:https://www.westchestergunclub.com/event/tuesday-practice-2-2-2/2028-01-25/
LOCATION:West Chester Gun Club\, 200 E. Boot Rd\, West Chester\, PA\, 19341\, United States
ATTACH;FMTTYPE=image/jpeg:https://www.westchestergunclub.com/wp-content/uploads/2023/02/WCGC-K-Image-9414-Calendar.jpg
END:VEVENT
BEGIN:VEVENT
DTSTART;TZID=America/New_York:20280130T100000
DTEND;TZID=America/New_York:20280130T150000
DTSTAMP:20260423T161631
CREATED:20230206T093733Z
LAST-MODIFIED:20260306T180255Z
UID:10002006-1832839200-1832857200@www.westchestergunclub.com
SUMMARY:Sunday Practice
DESCRIPTION:Join us Sundays for practice from 10:00 am to 3:00 pm. \n11:30 AM: Safety Checks for New Members/Public
URL:https://www.westchestergunclub.com/event/sunday-practice/2028-01-30/
LOCATION:West Chester Gun Club\, 200 E. Boot Rd\, West Chester\, PA\, 19341\, United States
ATTACH;FMTTYPE=image/jpeg:https://www.westchestergunclub.com/wp-content/uploads/2023/02/calendar-4420.jpg
END:VEVENT
BEGIN:VEVENT
DTSTART;TZID=America/New_York:20280201T150000
DTEND;TZID=America/New_York:20280201T190000
DTSTAMP:20260423T161631
CREATED:20250102T173851Z
LAST-MODIFIED:20251202T002718Z
UID:10004334-1833030000-1833044400@www.westchestergunclub.com
SUMMARY:Tuesday Practice
DESCRIPTION:Join us Tuesdays for practice from 3:00 pm to 7:00 pm.
URL:https://www.westchestergunclub.com/event/tuesday-practice-2-2-2/2028-02-01/
LOCATION:West Chester Gun Club\, 200 E. Boot Rd\, West Chester\, PA\, 19341\, United States
ATTACH;FMTTYPE=image/jpeg:https://www.westchestergunclub.com/wp-content/uploads/2023/02/WCGC-K-Image-9414-Calendar.jpg
END:VEVENT
BEGIN:VEVENT
DTSTART;TZID=America/New_York:20280206T100000
DTEND;TZID=America/New_York:20280206T150000
DTSTAMP:20260423T161631
CREATED:20230206T093733Z
LAST-MODIFIED:20260306T180255Z
UID:10002007-1833444000-1833462000@www.westchestergunclub.com
SUMMARY:Sunday Practice
DESCRIPTION:Join us Sundays for practice from 10:00 am to 3:00 pm. \n11:30 AM: Safety Checks for New Members/Public
URL:https://www.westchestergunclub.com/event/sunday-practice/2028-02-06/
LOCATION:West Chester Gun Club\, 200 E. Boot Rd\, West Chester\, PA\, 19341\, United States
ATTACH;FMTTYPE=image/jpeg:https://www.westchestergunclub.com/wp-content/uploads/2023/02/calendar-4420.jpg
END:VEVENT
BEGIN:VEVENT
DTSTART;TZID=America/New_York:20280208T150000
DTEND;TZID=America/New_York:20280208T190000
DTSTAMP:20260423T161631
CREATED:20250102T173851Z
LAST-MODIFIED:20251202T002718Z
UID:10004335-1833634800-1833649200@www.westchestergunclub.com
SUMMARY:Tuesday Practice
DESCRIPTION:Join us Tuesdays for practice from 3:00 pm to 7:00 pm.
URL:https://www.westchestergunclub.com/event/tuesday-practice-2-2-2/2028-02-08/
LOCATION:West Chester Gun Club\, 200 E. Boot Rd\, West Chester\, PA\, 19341\, United States
ATTACH;FMTTYPE=image/jpeg:https://www.westchestergunclub.com/wp-content/uploads/2023/02/WCGC-K-Image-9414-Calendar.jpg
END:VEVENT
BEGIN:VEVENT
DTSTART;TZID=America/New_York:20280208T173000
DTEND;TZID=America/New_York:20280208T183000
DTSTAMP:20260423T161631
CREATED:20230425T104112Z
LAST-MODIFIED:20241228T195743Z
UID:10002142-1833643800-1833647400@www.westchestergunclub.com
SUMMARY:Board of Directors Meeting
DESCRIPTION:
URL:https://www.westchestergunclub.com/event/board-of-directors-meeting/2028-02-08/
LOCATION:West Chester Gun Club\, 200 E. Boot Rd\, West Chester\, PA\, 19341\, United States
ATTACH;FMTTYPE=image/jpeg:https://www.westchestergunclub.com/wp-content/uploads/2023/04/home_about.jpg
END:VEVENT
BEGIN:VEVENT
DTSTART;TZID=America/New_York:20280213T100000
DTEND;TZID=America/New_York:20280213T150000
DTSTAMP:20260423T161631
CREATED:20230206T093733Z
LAST-MODIFIED:20260306T180255Z
UID:10002008-1834048800-1834066800@www.westchestergunclub.com
SUMMARY:Sunday Practice
DESCRIPTION:Join us Sundays for practice from 10:00 am to 3:00 pm. \n11:30 AM: Safety Checks for New Members/Public
URL:https://www.westchestergunclub.com/event/sunday-practice/2028-02-13/
LOCATION:West Chester Gun Club\, 200 E. Boot Rd\, West Chester\, PA\, 19341\, United States
ATTACH;FMTTYPE=image/jpeg:https://www.westchestergunclub.com/wp-content/uploads/2023/02/calendar-4420.jpg
END:VEVENT
BEGIN:VEVENT
DTSTART;TZID=America/New_York:20280215T150000
DTEND;TZID=America/New_York:20280215T190000
DTSTAMP:20260423T161631
CREATED:20250102T173851Z
LAST-MODIFIED:20251202T002718Z
UID:10004336-1834239600-1834254000@www.westchestergunclub.com
SUMMARY:Tuesday Practice
DESCRIPTION:Join us Tuesdays for practice from 3:00 pm to 7:00 pm.
URL:https://www.westchestergunclub.com/event/tuesday-practice-2-2-2/2028-02-15/
LOCATION:West Chester Gun Club\, 200 E. Boot Rd\, West Chester\, PA\, 19341\, United States
ATTACH;FMTTYPE=image/jpeg:https://www.westchestergunclub.com/wp-content/uploads/2023/02/WCGC-K-Image-9414-Calendar.jpg
END:VEVENT
BEGIN:VEVENT
DTSTART;TZID=America/New_York:20280220T100000
DTEND;TZID=America/New_York:20280220T150000
DTSTAMP:20260423T161631
CREATED:20230206T093733Z
LAST-MODIFIED:20260306T180255Z
UID:10002009-1834653600-1834671600@www.westchestergunclub.com
SUMMARY:Sunday Practice
DESCRIPTION:Join us Sundays for practice from 10:00 am to 3:00 pm. \n11:30 AM: Safety Checks for New Members/Public
URL:https://www.westchestergunclub.com/event/sunday-practice/2028-02-20/
LOCATION:West Chester Gun Club\, 200 E. Boot Rd\, West Chester\, PA\, 19341\, United States
ATTACH;FMTTYPE=image/jpeg:https://www.westchestergunclub.com/wp-content/uploads/2023/02/calendar-4420.jpg
END:VEVENT
BEGIN:VEVENT
DTSTART;TZID=America/New_York:20280222T150000
DTEND;TZID=America/New_York:20280222T190000
DTSTAMP:20260423T161631
CREATED:20250102T173851Z
LAST-MODIFIED:20251202T002718Z
UID:10004337-1834844400-1834858800@www.westchestergunclub.com
SUMMARY:Tuesday Practice
DESCRIPTION:Join us Tuesdays for practice from 3:00 pm to 7:00 pm.
URL:https://www.westchestergunclub.com/event/tuesday-practice-2-2-2/2028-02-22/
LOCATION:West Chester Gun Club\, 200 E. Boot Rd\, West Chester\, PA\, 19341\, United States
ATTACH;FMTTYPE=image/jpeg:https://www.westchestergunclub.com/wp-content/uploads/2023/02/WCGC-K-Image-9414-Calendar.jpg
END:VEVENT
BEGIN:VEVENT
DTSTART;TZID=America/New_York:20280227T100000
DTEND;TZID=America/New_York:20280227T150000
DTSTAMP:20260423T161631
CREATED:20230206T093733Z
LAST-MODIFIED:20260306T180255Z
UID:10002010-1835258400-1835276400@www.westchestergunclub.com
SUMMARY:Sunday Practice
DESCRIPTION:Join us Sundays for practice from 10:00 am to 3:00 pm. \n11:30 AM: Safety Checks for New Members/Public
URL:https://www.westchestergunclub.com/event/sunday-practice/2028-02-27/
LOCATION:West Chester Gun Club\, 200 E. Boot Rd\, West Chester\, PA\, 19341\, United States
ATTACH;FMTTYPE=image/jpeg:https://www.westchestergunclub.com/wp-content/uploads/2023/02/calendar-4420.jpg
END:VEVENT
BEGIN:VEVENT
DTSTART;TZID=America/New_York:20280229T150000
DTEND;TZID=America/New_York:20280229T190000
DTSTAMP:20260423T161631
CREATED:20250102T173851Z
LAST-MODIFIED:20251202T002718Z
UID:10004338-1835449200-1835463600@www.westchestergunclub.com
SUMMARY:Tuesday Practice
DESCRIPTION:Join us Tuesdays for practice from 3:00 pm to 7:00 pm.
URL:https://www.westchestergunclub.com/event/tuesday-practice-2-2-2/2028-02-29/
LOCATION:West Chester Gun Club\, 200 E. Boot Rd\, West Chester\, PA\, 19341\, United States
ATTACH;FMTTYPE=image/jpeg:https://www.westchestergunclub.com/wp-content/uploads/2023/02/WCGC-K-Image-9414-Calendar.jpg
END:VEVENT
BEGIN:VEVENT
DTSTART;TZID=America/New_York:20280305T100000
DTEND;TZID=America/New_York:20280305T150000
DTSTAMP:20260423T161631
CREATED:20230206T093733Z
LAST-MODIFIED:20260306T180255Z
UID:10002011-1835863200-1835881200@www.westchestergunclub.com
SUMMARY:Sunday Practice
DESCRIPTION:Join us Sundays for practice from 10:00 am to 3:00 pm. \n11:30 AM: Safety Checks for New Members/Public
URL:https://www.westchestergunclub.com/event/sunday-practice/2028-03-05/
LOCATION:West Chester Gun Club\, 200 E. Boot Rd\, West Chester\, PA\, 19341\, United States
ATTACH;FMTTYPE=image/jpeg:https://www.westchestergunclub.com/wp-content/uploads/2023/02/calendar-4420.jpg
END:VEVENT
BEGIN:VEVENT
DTSTART;TZID=America/New_York:20280307T150000
DTEND;TZID=America/New_York:20280307T190000
DTSTAMP:20260423T161631
CREATED:20250102T173851Z
LAST-MODIFIED:20251202T002718Z
UID:10004339-1836054000-1836068400@www.westchestergunclub.com
SUMMARY:Tuesday Practice
DESCRIPTION:Join us Tuesdays for practice from 3:00 pm to 7:00 pm.
URL:https://www.westchestergunclub.com/event/tuesday-practice-2-2-2/2028-03-07/
LOCATION:West Chester Gun Club\, 200 E. Boot Rd\, West Chester\, PA\, 19341\, United States
ATTACH;FMTTYPE=image/jpeg:https://www.westchestergunclub.com/wp-content/uploads/2023/02/WCGC-K-Image-9414-Calendar.jpg
END:VEVENT
END:VCALENDAR