BEGIN:VCALENDAR
VERSION:2.0
PRODID:-//West Chester  Gun Club - ECPv6.15.18//NONSGML v1.0//EN
CALSCALE:GREGORIAN
METHOD:PUBLISH
X-WR-CALNAME:West Chester  Gun Club
X-ORIGINAL-URL:https://www.westchestergunclub.com
X-WR-CALDESC:Events for West Chester  Gun Club
REFRESH-INTERVAL;VALUE=DURATION:PT1H
X-Robots-Tag:noindex
X-PUBLISHED-TTL:PT1H
BEGIN:VTIMEZONE
TZID:America/New_York
BEGIN:DAYLIGHT
TZOFFSETFROM:-0500
TZOFFSETTO:-0400
TZNAME:EDT
DTSTART:20220313T070000
END:DAYLIGHT
BEGIN:STANDARD
TZOFFSETFROM:-0400
TZOFFSETTO:-0500
TZNAME:EST
DTSTART:20221106T060000
END:STANDARD
BEGIN:DAYLIGHT
TZOFFSETFROM:-0500
TZOFFSETTO:-0400
TZNAME:EDT
DTSTART:20230312T070000
END:DAYLIGHT
BEGIN:STANDARD
TZOFFSETFROM:-0400
TZOFFSETTO:-0500
TZNAME:EST
DTSTART:20231105T060000
END:STANDARD
BEGIN:DAYLIGHT
TZOFFSETFROM:-0500
TZOFFSETTO:-0400
TZNAME:EDT
DTSTART:20240310T070000
END:DAYLIGHT
BEGIN:STANDARD
TZOFFSETFROM:-0400
TZOFFSETTO:-0500
TZNAME:EST
DTSTART:20241103T060000
END:STANDARD
END:VTIMEZONE
BEGIN:VEVENT
DTSTART;TZID=America/New_York:20231210T100000
DTEND;TZID=America/New_York:20231210T150000
DTSTAMP:20260424T001034
CREATED:20230206T093733Z
LAST-MODIFIED:20260306T180255Z
UID:10004126-1702202400-1702220400@www.westchestergunclub.com
SUMMARY:Sunday Practice
DESCRIPTION:Join us Sundays for practice from 10:00 am to 3:00 pm. \n11:30 AM: Safety Checks for New Members/Public
URL:https://www.westchestergunclub.com/event/sunday-practice/2023-12-10/
LOCATION:West Chester Gun Club\, 200 E. Boot Rd\, West Chester\, PA\, 19341\, United States
ATTACH;FMTTYPE=image/jpeg:https://www.westchestergunclub.com/wp-content/uploads/2023/02/calendar-4420.jpg
END:VEVENT
BEGIN:VEVENT
DTSTART;TZID=America/New_York:20231203T100000
DTEND;TZID=America/New_York:20231203T150000
DTSTAMP:20260424T001034
CREATED:20230206T093733Z
LAST-MODIFIED:20260306T180255Z
UID:10004125-1701597600-1701615600@www.westchestergunclub.com
SUMMARY:Sunday Practice
DESCRIPTION:Join us Sundays for practice from 10:00 am to 3:00 pm. \n11:30 AM: Safety Checks for New Members/Public
URL:https://www.westchestergunclub.com/event/sunday-practice/2023-12-03/
LOCATION:West Chester Gun Club\, 200 E. Boot Rd\, West Chester\, PA\, 19341\, United States
ATTACH;FMTTYPE=image/jpeg:https://www.westchestergunclub.com/wp-content/uploads/2023/02/calendar-4420.jpg
END:VEVENT
BEGIN:VEVENT
DTSTART;TZID=America/New_York:20231126T100000
DTEND;TZID=America/New_York:20231126T150000
DTSTAMP:20260424T001034
CREATED:20230206T093733Z
LAST-MODIFIED:20260306T180255Z
UID:10001788-1700992800-1701010800@www.westchestergunclub.com
SUMMARY:Sunday Practice
DESCRIPTION:Join us Sundays for practice from 10:00 am to 3:00 pm. \n11:30 AM: Safety Checks for New Members/Public
URL:https://www.westchestergunclub.com/event/sunday-practice/2023-11-26/
LOCATION:West Chester Gun Club\, 200 E. Boot Rd\, West Chester\, PA\, 19341\, United States
ATTACH;FMTTYPE=image/jpeg:https://www.westchestergunclub.com/wp-content/uploads/2023/02/calendar-4420.jpg
END:VEVENT
BEGIN:VEVENT
DTSTART;TZID=America/New_York:20231119T100000
DTEND;TZID=America/New_York:20231119T150000
DTSTAMP:20260424T001034
CREATED:20230206T093733Z
LAST-MODIFIED:20260306T180255Z
UID:10002955-1700388000-1700406000@www.westchestergunclub.com
SUMMARY:Sunday Practice
DESCRIPTION:Join us Sundays for practice from 10:00 am to 3:00 pm. \n11:30 AM: Safety Checks for New Members/Public
URL:https://www.westchestergunclub.com/event/sunday-practice/2023-11-19/
LOCATION:West Chester Gun Club\, 200 E. Boot Rd\, West Chester\, PA\, 19341\, United States
ATTACH;FMTTYPE=image/jpeg:https://www.westchestergunclub.com/wp-content/uploads/2023/02/calendar-4420.jpg
END:VEVENT
BEGIN:VEVENT
DTSTART;TZID=America/New_York:20231114T173000
DTEND;TZID=America/New_York:20231114T183000
DTSTAMP:20260424T001034
CREATED:20230425T104112Z
LAST-MODIFIED:20241228T195743Z
UID:10002091-1699983000-1699986600@www.westchestergunclub.com
SUMMARY:Board of Directors Meeting
DESCRIPTION:
URL:https://www.westchestergunclub.com/event/board-of-directors-meeting/2023-11-14/
LOCATION:West Chester Gun Club\, 200 E. Boot Rd\, West Chester\, PA\, 19341\, United States
ATTACH;FMTTYPE=image/jpeg:https://www.westchestergunclub.com/wp-content/uploads/2023/04/home_about.jpg
END:VEVENT
BEGIN:VEVENT
DTSTART;TZID=America/New_York:20231112T100000
DTEND;TZID=America/New_York:20231112T150000
DTSTAMP:20260424T001034
CREATED:20230206T093733Z
LAST-MODIFIED:20260306T180255Z
UID:10001787-1699783200-1699801200@www.westchestergunclub.com
SUMMARY:Sunday Practice
DESCRIPTION:Join us Sundays for practice from 10:00 am to 3:00 pm. \n11:30 AM: Safety Checks for New Members/Public
URL:https://www.westchestergunclub.com/event/sunday-practice/2023-11-12/
LOCATION:West Chester Gun Club\, 200 E. Boot Rd\, West Chester\, PA\, 19341\, United States
ATTACH;FMTTYPE=image/jpeg:https://www.westchestergunclub.com/wp-content/uploads/2023/02/calendar-4420.jpg
END:VEVENT
BEGIN:VEVENT
DTSTART;TZID=America/New_York:20231105T100000
DTEND;TZID=America/New_York:20231105T150000
DTSTAMP:20260424T001034
CREATED:20230206T093733Z
LAST-MODIFIED:20260306T180255Z
UID:10001786-1699178400-1699196400@www.westchestergunclub.com
SUMMARY:Sunday Practice
DESCRIPTION:Join us Sundays for practice from 10:00 am to 3:00 pm. \n11:30 AM: Safety Checks for New Members/Public
URL:https://www.westchestergunclub.com/event/sunday-practice/2023-11-05/
LOCATION:West Chester Gun Club\, 200 E. Boot Rd\, West Chester\, PA\, 19341\, United States
ATTACH;FMTTYPE=image/jpeg:https://www.westchestergunclub.com/wp-content/uploads/2023/02/calendar-4420.jpg
END:VEVENT
BEGIN:VEVENT
DTSTART;TZID=America/New_York:20231029T100000
DTEND;TZID=America/New_York:20231029T150000
DTSTAMP:20260424T001034
CREATED:20230206T093733Z
LAST-MODIFIED:20260306T180255Z
UID:10001785-1698573600-1698591600@www.westchestergunclub.com
SUMMARY:Sunday Practice
DESCRIPTION:Join us Sundays for practice from 10:00 am to 3:00 pm. \n11:30 AM: Safety Checks for New Members/Public
URL:https://www.westchestergunclub.com/event/sunday-practice/2023-10-29/
LOCATION:West Chester Gun Club\, 200 E. Boot Rd\, West Chester\, PA\, 19341\, United States
ATTACH;FMTTYPE=image/jpeg:https://www.westchestergunclub.com/wp-content/uploads/2023/02/calendar-4420.jpg
END:VEVENT
BEGIN:VEVENT
DTSTART;TZID=America/New_York:20231022T100000
DTEND;TZID=America/New_York:20231022T150000
DTSTAMP:20260424T001034
CREATED:20230206T093733Z
LAST-MODIFIED:20260306T180255Z
UID:10001784-1697968800-1697986800@www.westchestergunclub.com
SUMMARY:Sunday Practice
DESCRIPTION:Join us Sundays for practice from 10:00 am to 3:00 pm. \n11:30 AM: Safety Checks for New Members/Public
URL:https://www.westchestergunclub.com/event/sunday-practice/2023-10-22/
LOCATION:West Chester Gun Club\, 200 E. Boot Rd\, West Chester\, PA\, 19341\, United States
ATTACH;FMTTYPE=image/jpeg:https://www.westchestergunclub.com/wp-content/uploads/2023/02/calendar-4420.jpg
END:VEVENT
BEGIN:VEVENT
DTSTART;TZID=America/New_York:20231015T100000
DTEND;TZID=America/New_York:20231015T150000
DTSTAMP:20260424T001034
CREATED:20230206T093733Z
LAST-MODIFIED:20260306T180255Z
UID:10001783-1697364000-1697382000@www.westchestergunclub.com
SUMMARY:Sunday Practice
DESCRIPTION:Join us Sundays for practice from 10:00 am to 3:00 pm. \n11:30 AM: Safety Checks for New Members/Public
URL:https://www.westchestergunclub.com/event/sunday-practice/2023-10-15/
LOCATION:West Chester Gun Club\, 200 E. Boot Rd\, West Chester\, PA\, 19341\, United States
ATTACH;FMTTYPE=image/jpeg:https://www.westchestergunclub.com/wp-content/uploads/2023/02/calendar-4420.jpg
END:VEVENT
BEGIN:VEVENT
DTSTART;TZID=America/New_York:20231010T173000
DTEND;TZID=America/New_York:20231010T183000
DTSTAMP:20260424T001034
CREATED:20230425T104112Z
LAST-MODIFIED:20241228T195743Z
UID:10002090-1696959000-1696962600@www.westchestergunclub.com
SUMMARY:Board of Directors Meeting
DESCRIPTION:
URL:https://www.westchestergunclub.com/event/board-of-directors-meeting/2023-10-10/
LOCATION:West Chester Gun Club\, 200 E. Boot Rd\, West Chester\, PA\, 19341\, United States
ATTACH;FMTTYPE=image/jpeg:https://www.westchestergunclub.com/wp-content/uploads/2023/04/home_about.jpg
END:VEVENT
BEGIN:VEVENT
DTSTART;TZID=America/New_York:20231008T100000
DTEND;TZID=America/New_York:20231008T150000
DTSTAMP:20260424T001034
CREATED:20230206T093733Z
LAST-MODIFIED:20260306T180255Z
UID:10002954-1696759200-1696777200@www.westchestergunclub.com
SUMMARY:Sunday Practice
DESCRIPTION:Join us Sundays for practice from 10:00 am to 3:00 pm. \n11:30 AM: Safety Checks for New Members/Public
URL:https://www.westchestergunclub.com/event/sunday-practice/2023-10-08/
LOCATION:West Chester Gun Club\, 200 E. Boot Rd\, West Chester\, PA\, 19341\, United States
ATTACH;FMTTYPE=image/jpeg:https://www.westchestergunclub.com/wp-content/uploads/2023/02/calendar-4420.jpg
END:VEVENT
BEGIN:VEVENT
DTSTART;TZID=America/New_York:20231001T100000
DTEND;TZID=America/New_York:20231001T150000
DTSTAMP:20260424T001034
CREATED:20230206T093733Z
LAST-MODIFIED:20260306T180255Z
UID:10002993-1696154400-1696172400@www.westchestergunclub.com
SUMMARY:Sunday Practice
DESCRIPTION:Join us Sundays for practice from 10:00 am to 3:00 pm. \n11:30 AM: Safety Checks for New Members/Public
URL:https://www.westchestergunclub.com/event/sunday-practice/2023-10-01/
LOCATION:West Chester Gun Club\, 200 E. Boot Rd\, West Chester\, PA\, 19341\, United States
ATTACH;FMTTYPE=image/jpeg:https://www.westchestergunclub.com/wp-content/uploads/2023/02/calendar-4420.jpg
END:VEVENT
BEGIN:VEVENT
DTSTART;TZID=America/New_York:20230924T100000
DTEND;TZID=America/New_York:20230924T150000
DTSTAMP:20260424T001034
CREATED:20230206T093733Z
LAST-MODIFIED:20260306T180255Z
UID:10002992-1695549600-1695567600@www.westchestergunclub.com
SUMMARY:Sunday Practice
DESCRIPTION:Join us Sundays for practice from 10:00 am to 3:00 pm. \n11:30 AM: Safety Checks for New Members/Public
URL:https://www.westchestergunclub.com/event/sunday-practice/2023-09-24/
LOCATION:West Chester Gun Club\, 200 E. Boot Rd\, West Chester\, PA\, 19341\, United States
ATTACH;FMTTYPE=image/jpeg:https://www.westchestergunclub.com/wp-content/uploads/2023/02/calendar-4420.jpg
END:VEVENT
BEGIN:VEVENT
DTSTART;TZID=America/New_York:20230917T100000
DTEND;TZID=America/New_York:20230917T150000
DTSTAMP:20260424T001034
CREATED:20230206T093733Z
LAST-MODIFIED:20260306T180255Z
UID:10001780-1694944800-1694962800@www.westchestergunclub.com
SUMMARY:Sunday Practice
DESCRIPTION:Join us Sundays for practice from 10:00 am to 3:00 pm. \n11:30 AM: Safety Checks for New Members/Public
URL:https://www.westchestergunclub.com/event/sunday-practice/2023-09-17/
LOCATION:West Chester Gun Club\, 200 E. Boot Rd\, West Chester\, PA\, 19341\, United States
ATTACH;FMTTYPE=image/jpeg:https://www.westchestergunclub.com/wp-content/uploads/2023/02/calendar-4420.jpg
END:VEVENT
BEGIN:VEVENT
DTSTART;TZID=America/New_York:20230912T173000
DTEND;TZID=America/New_York:20230912T183000
DTSTAMP:20260424T001034
CREATED:20230425T104112Z
LAST-MODIFIED:20241228T195743Z
UID:10002089-1694539800-1694543400@www.westchestergunclub.com
SUMMARY:Board of Directors Meeting
DESCRIPTION:
URL:https://www.westchestergunclub.com/event/board-of-directors-meeting/2023-09-12/
LOCATION:West Chester Gun Club\, 200 E. Boot Rd\, West Chester\, PA\, 19341\, United States
ATTACH;FMTTYPE=image/jpeg:https://www.westchestergunclub.com/wp-content/uploads/2023/04/home_about.jpg
END:VEVENT
BEGIN:VEVENT
DTSTART;TZID=America/New_York:20230910T100000
DTEND;TZID=America/New_York:20230910T150000
DTSTAMP:20260424T001034
CREATED:20230206T093733Z
LAST-MODIFIED:20260306T180255Z
UID:10001779-1694340000-1694358000@www.westchestergunclub.com
SUMMARY:Sunday Practice
DESCRIPTION:Join us Sundays for practice from 10:00 am to 3:00 pm. \n11:30 AM: Safety Checks for New Members/Public
URL:https://www.westchestergunclub.com/event/sunday-practice/2023-09-10/
LOCATION:West Chester Gun Club\, 200 E. Boot Rd\, West Chester\, PA\, 19341\, United States
ATTACH;FMTTYPE=image/jpeg:https://www.westchestergunclub.com/wp-content/uploads/2023/02/calendar-4420.jpg
END:VEVENT
BEGIN:VEVENT
DTSTART;TZID=America/New_York:20230903T100000
DTEND;TZID=America/New_York:20230903T150000
DTSTAMP:20260424T001034
CREATED:20230206T093733Z
LAST-MODIFIED:20260306T180255Z
UID:10001778-1693735200-1693753200@www.westchestergunclub.com
SUMMARY:Sunday Practice
DESCRIPTION:Join us Sundays for practice from 10:00 am to 3:00 pm. \n11:30 AM: Safety Checks for New Members/Public
URL:https://www.westchestergunclub.com/event/sunday-practice/2023-09-03/
LOCATION:West Chester Gun Club\, 200 E. Boot Rd\, West Chester\, PA\, 19341\, United States
ATTACH;FMTTYPE=image/jpeg:https://www.westchestergunclub.com/wp-content/uploads/2023/02/calendar-4420.jpg
END:VEVENT
BEGIN:VEVENT
DTSTART;TZID=America/New_York:20230827T100000
DTEND;TZID=America/New_York:20230827T150000
DTSTAMP:20260424T001034
CREATED:20230206T093733Z
LAST-MODIFIED:20260306T180255Z
UID:10001777-1693130400-1693148400@www.westchestergunclub.com
SUMMARY:Sunday Practice
DESCRIPTION:Join us Sundays for practice from 10:00 am to 3:00 pm. \n11:30 AM: Safety Checks for New Members/Public
URL:https://www.westchestergunclub.com/event/sunday-practice/2023-08-27/
LOCATION:West Chester Gun Club\, 200 E. Boot Rd\, West Chester\, PA\, 19341\, United States
ATTACH;FMTTYPE=image/jpeg:https://www.westchestergunclub.com/wp-content/uploads/2023/02/calendar-4420.jpg
END:VEVENT
BEGIN:VEVENT
DTSTART;TZID=America/New_York:20230820T100000
DTEND;TZID=America/New_York:20230820T150000
DTSTAMP:20260424T001034
CREATED:20230206T093733Z
LAST-MODIFIED:20260306T180255Z
UID:10001776-1692525600-1692543600@www.westchestergunclub.com
SUMMARY:Sunday Practice
DESCRIPTION:Join us Sundays for practice from 10:00 am to 3:00 pm. \n11:30 AM: Safety Checks for New Members/Public
URL:https://www.westchestergunclub.com/event/sunday-practice/2023-08-20/
LOCATION:West Chester Gun Club\, 200 E. Boot Rd\, West Chester\, PA\, 19341\, United States
ATTACH;FMTTYPE=image/jpeg:https://www.westchestergunclub.com/wp-content/uploads/2023/02/calendar-4420.jpg
END:VEVENT
BEGIN:VEVENT
DTSTART;TZID=America/New_York:20230813T100000
DTEND;TZID=America/New_York:20230813T150000
DTSTAMP:20260424T001034
CREATED:20230206T093733Z
LAST-MODIFIED:20260306T180255Z
UID:10001775-1691920800-1691938800@www.westchestergunclub.com
SUMMARY:Sunday Practice
DESCRIPTION:Join us Sundays for practice from 10:00 am to 3:00 pm. \n11:30 AM: Safety Checks for New Members/Public
URL:https://www.westchestergunclub.com/event/sunday-practice/2023-08-13/
LOCATION:West Chester Gun Club\, 200 E. Boot Rd\, West Chester\, PA\, 19341\, United States
ATTACH;FMTTYPE=image/jpeg:https://www.westchestergunclub.com/wp-content/uploads/2023/02/calendar-4420.jpg
END:VEVENT
BEGIN:VEVENT
DTSTART;TZID=America/New_York:20230808T173000
DTEND;TZID=America/New_York:20230808T183000
DTSTAMP:20260424T001034
CREATED:20230425T104112Z
LAST-MODIFIED:20241228T195743Z
UID:10002088-1691515800-1691519400@www.westchestergunclub.com
SUMMARY:Board of Directors Meeting
DESCRIPTION:
URL:https://www.westchestergunclub.com/event/board-of-directors-meeting/2023-08-08/
LOCATION:West Chester Gun Club\, 200 E. Boot Rd\, West Chester\, PA\, 19341\, United States
ATTACH;FMTTYPE=image/jpeg:https://www.westchestergunclub.com/wp-content/uploads/2023/04/home_about.jpg
END:VEVENT
BEGIN:VEVENT
DTSTART;TZID=America/New_York:20230806T100000
DTEND;TZID=America/New_York:20230806T150000
DTSTAMP:20260424T001034
CREATED:20230206T093733Z
LAST-MODIFIED:20260306T180255Z
UID:10002991-1691316000-1691334000@www.westchestergunclub.com
SUMMARY:Sunday Practice
DESCRIPTION:Join us Sundays for practice from 10:00 am to 3:00 pm. \n11:30 AM: Safety Checks for New Members/Public
URL:https://www.westchestergunclub.com/event/sunday-practice/2023-08-06/
LOCATION:West Chester Gun Club\, 200 E. Boot Rd\, West Chester\, PA\, 19341\, United States
ATTACH;FMTTYPE=image/jpeg:https://www.westchestergunclub.com/wp-content/uploads/2023/02/calendar-4420.jpg
END:VEVENT
BEGIN:VEVENT
DTSTART;TZID=America/New_York:20230730T100000
DTEND;TZID=America/New_York:20230730T150000
DTSTAMP:20260424T001034
CREATED:20230206T093733Z
LAST-MODIFIED:20260306T180255Z
UID:10001774-1690711200-1690729200@www.westchestergunclub.com
SUMMARY:Sunday Practice
DESCRIPTION:Join us Sundays for practice from 10:00 am to 3:00 pm. \n11:30 AM: Safety Checks for New Members/Public
URL:https://www.westchestergunclub.com/event/sunday-practice/2023-07-30/
LOCATION:West Chester Gun Club\, 200 E. Boot Rd\, West Chester\, PA\, 19341\, United States
ATTACH;FMTTYPE=image/jpeg:https://www.westchestergunclub.com/wp-content/uploads/2023/02/calendar-4420.jpg
END:VEVENT
BEGIN:VEVENT
DTSTART;TZID=America/New_York:20230723T100000
DTEND;TZID=America/New_York:20230723T150000
DTSTAMP:20260424T001034
CREATED:20230206T093733Z
LAST-MODIFIED:20260306T180255Z
UID:10001773-1690106400-1690124400@www.westchestergunclub.com
SUMMARY:Sunday Practice
DESCRIPTION:Join us Sundays for practice from 10:00 am to 3:00 pm. \n11:30 AM: Safety Checks for New Members/Public
URL:https://www.westchestergunclub.com/event/sunday-practice/2023-07-23/
LOCATION:West Chester Gun Club\, 200 E. Boot Rd\, West Chester\, PA\, 19341\, United States
ATTACH;FMTTYPE=image/jpeg:https://www.westchestergunclub.com/wp-content/uploads/2023/02/calendar-4420.jpg
END:VEVENT
BEGIN:VEVENT
DTSTART;TZID=America/New_York:20230716T100000
DTEND;TZID=America/New_York:20230716T150000
DTSTAMP:20260424T001034
CREATED:20230206T093733Z
LAST-MODIFIED:20260306T180255Z
UID:10001772-1689501600-1689519600@www.westchestergunclub.com
SUMMARY:Sunday Practice
DESCRIPTION:Join us Sundays for practice from 10:00 am to 3:00 pm. \n11:30 AM: Safety Checks for New Members/Public
URL:https://www.westchestergunclub.com/event/sunday-practice/2023-07-16/
LOCATION:West Chester Gun Club\, 200 E. Boot Rd\, West Chester\, PA\, 19341\, United States
ATTACH;FMTTYPE=image/jpeg:https://www.westchestergunclub.com/wp-content/uploads/2023/02/calendar-4420.jpg
END:VEVENT
BEGIN:VEVENT
DTSTART;TZID=America/New_York:20230711T173000
DTEND;TZID=America/New_York:20230711T183000
DTSTAMP:20260424T001034
CREATED:20230425T104112Z
LAST-MODIFIED:20241228T195743Z
UID:10002087-1689096600-1689100200@www.westchestergunclub.com
SUMMARY:Board of Directors Meeting
DESCRIPTION:
URL:https://www.westchestergunclub.com/event/board-of-directors-meeting/2023-07-11/
LOCATION:West Chester Gun Club\, 200 E. Boot Rd\, West Chester\, PA\, 19341\, United States
ATTACH;FMTTYPE=image/jpeg:https://www.westchestergunclub.com/wp-content/uploads/2023/04/home_about.jpg
END:VEVENT
BEGIN:VEVENT
DTSTART;TZID=America/New_York:20230709T100000
DTEND;TZID=America/New_York:20230709T150000
DTSTAMP:20260424T001034
CREATED:20230206T093733Z
LAST-MODIFIED:20260306T180255Z
UID:10002990-1688896800-1688914800@www.westchestergunclub.com
SUMMARY:Sunday Practice
DESCRIPTION:Join us Sundays for practice from 10:00 am to 3:00 pm. \n11:30 AM: Safety Checks for New Members/Public
URL:https://www.westchestergunclub.com/event/sunday-practice/2023-07-09/
LOCATION:West Chester Gun Club\, 200 E. Boot Rd\, West Chester\, PA\, 19341\, United States
ATTACH;FMTTYPE=image/jpeg:https://www.westchestergunclub.com/wp-content/uploads/2023/02/calendar-4420.jpg
END:VEVENT
BEGIN:VEVENT
DTSTART;TZID=America/New_York:20230702T100000
DTEND;TZID=America/New_York:20230702T150000
DTSTAMP:20260424T001034
CREATED:20230206T093733Z
LAST-MODIFIED:20260306T180255Z
UID:10001771-1688292000-1688310000@www.westchestergunclub.com
SUMMARY:Sunday Practice
DESCRIPTION:Join us Sundays for practice from 10:00 am to 3:00 pm. \n11:30 AM: Safety Checks for New Members/Public
URL:https://www.westchestergunclub.com/event/sunday-practice/2023-07-02/
LOCATION:West Chester Gun Club\, 200 E. Boot Rd\, West Chester\, PA\, 19341\, United States
ATTACH;FMTTYPE=image/jpeg:https://www.westchestergunclub.com/wp-content/uploads/2023/02/calendar-4420.jpg
END:VEVENT
BEGIN:VEVENT
DTSTART;TZID=America/New_York:20230625T100000
DTEND;TZID=America/New_York:20230625T150000
DTSTAMP:20260424T001034
CREATED:20230206T093733Z
LAST-MODIFIED:20260306T180255Z
UID:10001770-1687687200-1687705200@www.westchestergunclub.com
SUMMARY:Sunday Practice
DESCRIPTION:Join us Sundays for practice from 10:00 am to 3:00 pm. \n11:30 AM: Safety Checks for New Members/Public
URL:https://www.westchestergunclub.com/event/sunday-practice/2023-06-25/
LOCATION:West Chester Gun Club\, 200 E. Boot Rd\, West Chester\, PA\, 19341\, United States
ATTACH;FMTTYPE=image/jpeg:https://www.westchestergunclub.com/wp-content/uploads/2023/02/calendar-4420.jpg
END:VEVENT
END:VCALENDAR