BEGIN:VCALENDAR
VERSION:2.0
PRODID:-//West Chester  Gun Club - ECPv6.15.18//NONSGML v1.0//EN
CALSCALE:GREGORIAN
METHOD:PUBLISH
X-WR-CALNAME:West Chester  Gun Club
X-ORIGINAL-URL:https://www.westchestergunclub.com
X-WR-CALDESC:Events for West Chester  Gun Club
REFRESH-INTERVAL;VALUE=DURATION:PT1H
X-Robots-Tag:noindex
X-PUBLISHED-TTL:PT1H
BEGIN:VTIMEZONE
TZID:America/New_York
BEGIN:DAYLIGHT
TZOFFSETFROM:-0500
TZOFFSETTO:-0400
TZNAME:EDT
DTSTART:20220313T070000
END:DAYLIGHT
BEGIN:STANDARD
TZOFFSETFROM:-0400
TZOFFSETTO:-0500
TZNAME:EST
DTSTART:20221106T060000
END:STANDARD
BEGIN:DAYLIGHT
TZOFFSETFROM:-0500
TZOFFSETTO:-0400
TZNAME:EDT
DTSTART:20230312T070000
END:DAYLIGHT
BEGIN:STANDARD
TZOFFSETFROM:-0400
TZOFFSETTO:-0500
TZNAME:EST
DTSTART:20231105T060000
END:STANDARD
BEGIN:DAYLIGHT
TZOFFSETFROM:-0500
TZOFFSETTO:-0400
TZNAME:EDT
DTSTART:20240310T070000
END:DAYLIGHT
BEGIN:STANDARD
TZOFFSETFROM:-0400
TZOFFSETTO:-0500
TZNAME:EST
DTSTART:20241103T060000
END:STANDARD
END:VTIMEZONE
BEGIN:VEVENT
DTSTART;TZID=America/New_York:20230723T100000
DTEND;TZID=America/New_York:20230723T150000
DTSTAMP:20260424T034528
CREATED:20230206T093733Z
LAST-MODIFIED:20260306T180255Z
UID:10001773-1690106400-1690124400@www.westchestergunclub.com
SUMMARY:Sunday Practice
DESCRIPTION:Join us Sundays for practice from 10:00 am to 3:00 pm. \n11:30 AM: Safety Checks for New Members/Public
URL:https://www.westchestergunclub.com/event/sunday-practice/2023-07-23/
LOCATION:West Chester Gun Club\, 200 E. Boot Rd\, West Chester\, PA\, 19341\, United States
ATTACH;FMTTYPE=image/jpeg:https://www.westchestergunclub.com/wp-content/uploads/2023/02/calendar-4420.jpg
END:VEVENT
BEGIN:VEVENT
DTSTART;TZID=America/New_York:20230716T100000
DTEND;TZID=America/New_York:20230716T150000
DTSTAMP:20260424T034528
CREATED:20230206T093733Z
LAST-MODIFIED:20260306T180255Z
UID:10001772-1689501600-1689519600@www.westchestergunclub.com
SUMMARY:Sunday Practice
DESCRIPTION:Join us Sundays for practice from 10:00 am to 3:00 pm. \n11:30 AM: Safety Checks for New Members/Public
URL:https://www.westchestergunclub.com/event/sunday-practice/2023-07-16/
LOCATION:West Chester Gun Club\, 200 E. Boot Rd\, West Chester\, PA\, 19341\, United States
ATTACH;FMTTYPE=image/jpeg:https://www.westchestergunclub.com/wp-content/uploads/2023/02/calendar-4420.jpg
END:VEVENT
BEGIN:VEVENT
DTSTART;TZID=America/New_York:20230711T173000
DTEND;TZID=America/New_York:20230711T183000
DTSTAMP:20260424T034528
CREATED:20230425T104112Z
LAST-MODIFIED:20241228T195743Z
UID:10002087-1689096600-1689100200@www.westchestergunclub.com
SUMMARY:Board of Directors Meeting
DESCRIPTION:
URL:https://www.westchestergunclub.com/event/board-of-directors-meeting/2023-07-11/
LOCATION:West Chester Gun Club\, 200 E. Boot Rd\, West Chester\, PA\, 19341\, United States
ATTACH;FMTTYPE=image/jpeg:https://www.westchestergunclub.com/wp-content/uploads/2023/04/home_about.jpg
END:VEVENT
BEGIN:VEVENT
DTSTART;TZID=America/New_York:20230709T100000
DTEND;TZID=America/New_York:20230709T150000
DTSTAMP:20260424T034528
CREATED:20230206T093733Z
LAST-MODIFIED:20260306T180255Z
UID:10002990-1688896800-1688914800@www.westchestergunclub.com
SUMMARY:Sunday Practice
DESCRIPTION:Join us Sundays for practice from 10:00 am to 3:00 pm. \n11:30 AM: Safety Checks for New Members/Public
URL:https://www.westchestergunclub.com/event/sunday-practice/2023-07-09/
LOCATION:West Chester Gun Club\, 200 E. Boot Rd\, West Chester\, PA\, 19341\, United States
ATTACH;FMTTYPE=image/jpeg:https://www.westchestergunclub.com/wp-content/uploads/2023/02/calendar-4420.jpg
END:VEVENT
BEGIN:VEVENT
DTSTART;TZID=America/New_York:20230702T100000
DTEND;TZID=America/New_York:20230702T150000
DTSTAMP:20260424T034528
CREATED:20230206T093733Z
LAST-MODIFIED:20260306T180255Z
UID:10001771-1688292000-1688310000@www.westchestergunclub.com
SUMMARY:Sunday Practice
DESCRIPTION:Join us Sundays for practice from 10:00 am to 3:00 pm. \n11:30 AM: Safety Checks for New Members/Public
URL:https://www.westchestergunclub.com/event/sunday-practice/2023-07-02/
LOCATION:West Chester Gun Club\, 200 E. Boot Rd\, West Chester\, PA\, 19341\, United States
ATTACH;FMTTYPE=image/jpeg:https://www.westchestergunclub.com/wp-content/uploads/2023/02/calendar-4420.jpg
END:VEVENT
BEGIN:VEVENT
DTSTART;TZID=America/New_York:20230625T100000
DTEND;TZID=America/New_York:20230625T150000
DTSTAMP:20260424T034528
CREATED:20230206T093733Z
LAST-MODIFIED:20260306T180255Z
UID:10001770-1687687200-1687705200@www.westchestergunclub.com
SUMMARY:Sunday Practice
DESCRIPTION:Join us Sundays for practice from 10:00 am to 3:00 pm. \n11:30 AM: Safety Checks for New Members/Public
URL:https://www.westchestergunclub.com/event/sunday-practice/2023-06-25/
LOCATION:West Chester Gun Club\, 200 E. Boot Rd\, West Chester\, PA\, 19341\, United States
ATTACH;FMTTYPE=image/jpeg:https://www.westchestergunclub.com/wp-content/uploads/2023/02/calendar-4420.jpg
END:VEVENT
BEGIN:VEVENT
DTSTART;TZID=America/New_York:20230618T100000
DTEND;TZID=America/New_York:20230618T150000
DTSTAMP:20260424T034528
CREATED:20230206T093733Z
LAST-MODIFIED:20260306T180255Z
UID:10001769-1687082400-1687100400@www.westchestergunclub.com
SUMMARY:Sunday Practice
DESCRIPTION:Join us Sundays for practice from 10:00 am to 3:00 pm. \n11:30 AM: Safety Checks for New Members/Public
URL:https://www.westchestergunclub.com/event/sunday-practice/2023-06-18/
LOCATION:West Chester Gun Club\, 200 E. Boot Rd\, West Chester\, PA\, 19341\, United States
ATTACH;FMTTYPE=image/jpeg:https://www.westchestergunclub.com/wp-content/uploads/2023/02/calendar-4420.jpg
END:VEVENT
BEGIN:VEVENT
DTSTART;TZID=America/New_York:20230613T173000
DTEND;TZID=America/New_York:20230613T183000
DTSTAMP:20260424T034528
CREATED:20230425T104112Z
LAST-MODIFIED:20241228T195743Z
UID:10004104-1686677400-1686681000@www.westchestergunclub.com
SUMMARY:Board of Directors Meeting
DESCRIPTION:
URL:https://www.westchestergunclub.com/event/board-of-directors-meeting/2023-06-13/
LOCATION:West Chester Gun Club\, 200 E. Boot Rd\, West Chester\, PA\, 19341\, United States
ATTACH;FMTTYPE=image/jpeg:https://www.westchestergunclub.com/wp-content/uploads/2023/04/home_about.jpg
END:VEVENT
BEGIN:VEVENT
DTSTART;TZID=America/New_York:20230611T100000
DTEND;TZID=America/New_York:20230611T150000
DTSTAMP:20260424T034528
CREATED:20230206T093733Z
LAST-MODIFIED:20260306T180255Z
UID:10001768-1686477600-1686495600@www.westchestergunclub.com
SUMMARY:Sunday Practice
DESCRIPTION:Join us Sundays for practice from 10:00 am to 3:00 pm. \n11:30 AM: Safety Checks for New Members/Public
URL:https://www.westchestergunclub.com/event/sunday-practice/2023-06-11/
LOCATION:West Chester Gun Club\, 200 E. Boot Rd\, West Chester\, PA\, 19341\, United States
ATTACH;FMTTYPE=image/jpeg:https://www.westchestergunclub.com/wp-content/uploads/2023/02/calendar-4420.jpg
END:VEVENT
BEGIN:VEVENT
DTSTART;TZID=America/New_York:20230604T100000
DTEND;TZID=America/New_York:20230604T150000
DTSTAMP:20260424T034528
CREATED:20230206T093733Z
LAST-MODIFIED:20260306T180255Z
UID:10001767-1685872800-1685890800@www.westchestergunclub.com
SUMMARY:Sunday Practice
DESCRIPTION:Join us Sundays for practice from 10:00 am to 3:00 pm. \n11:30 AM: Safety Checks for New Members/Public
URL:https://www.westchestergunclub.com/event/sunday-practice/2023-06-04/
LOCATION:West Chester Gun Club\, 200 E. Boot Rd\, West Chester\, PA\, 19341\, United States
ATTACH;FMTTYPE=image/jpeg:https://www.westchestergunclub.com/wp-content/uploads/2023/02/calendar-4420.jpg
END:VEVENT
BEGIN:VEVENT
DTSTART;TZID=America/New_York:20230528T100000
DTEND;TZID=America/New_York:20230528T150000
DTSTAMP:20260424T034528
CREATED:20230206T093733Z
LAST-MODIFIED:20260306T180255Z
UID:10001766-1685268000-1685286000@www.westchestergunclub.com
SUMMARY:Sunday Practice
DESCRIPTION:Join us Sundays for practice from 10:00 am to 3:00 pm. \n11:30 AM: Safety Checks for New Members/Public
URL:https://www.westchestergunclub.com/event/sunday-practice/2023-05-28/
LOCATION:West Chester Gun Club\, 200 E. Boot Rd\, West Chester\, PA\, 19341\, United States
ATTACH;FMTTYPE=image/jpeg:https://www.westchestergunclub.com/wp-content/uploads/2023/02/calendar-4420.jpg
END:VEVENT
BEGIN:VEVENT
DTSTART;TZID=America/New_York:20230521T100000
DTEND;TZID=America/New_York:20230521T150000
DTSTAMP:20260424T034528
CREATED:20230206T093733Z
LAST-MODIFIED:20260306T180255Z
UID:10001765-1684663200-1684681200@www.westchestergunclub.com
SUMMARY:Sunday Practice
DESCRIPTION:Join us Sundays for practice from 10:00 am to 3:00 pm. \n11:30 AM: Safety Checks for New Members/Public
URL:https://www.westchestergunclub.com/event/sunday-practice/2023-05-21/
LOCATION:West Chester Gun Club\, 200 E. Boot Rd\, West Chester\, PA\, 19341\, United States
ATTACH;FMTTYPE=image/jpeg:https://www.westchestergunclub.com/wp-content/uploads/2023/02/calendar-4420.jpg
END:VEVENT
BEGIN:VEVENT
DTSTART;TZID=America/New_York:20230514T100000
DTEND;TZID=America/New_York:20230514T150000
DTSTAMP:20260424T034528
CREATED:20230206T093733Z
LAST-MODIFIED:20260306T180255Z
UID:10001764-1684058400-1684076400@www.westchestergunclub.com
SUMMARY:Sunday Practice
DESCRIPTION:Join us Sundays for practice from 10:00 am to 3:00 pm. \n11:30 AM: Safety Checks for New Members/Public
URL:https://www.westchestergunclub.com/event/sunday-practice/2023-05-14/
LOCATION:West Chester Gun Club\, 200 E. Boot Rd\, West Chester\, PA\, 19341\, United States
ATTACH;FMTTYPE=image/jpeg:https://www.westchestergunclub.com/wp-content/uploads/2023/02/calendar-4420.jpg
END:VEVENT
BEGIN:VEVENT
DTSTART;TZID=America/New_York:20230509T173000
DTEND;TZID=America/New_York:20230509T183000
DTSTAMP:20260424T034528
CREATED:20230425T104112Z
LAST-MODIFIED:20241228T195743Z
UID:10002085-1683653400-1683657000@www.westchestergunclub.com
SUMMARY:Board of Directors Meeting
DESCRIPTION:
URL:https://www.westchestergunclub.com/event/board-of-directors-meeting/2023-05-09/
LOCATION:West Chester Gun Club\, 200 E. Boot Rd\, West Chester\, PA\, 19341\, United States
ATTACH;FMTTYPE=image/jpeg:https://www.westchestergunclub.com/wp-content/uploads/2023/04/home_about.jpg
END:VEVENT
BEGIN:VEVENT
DTSTART;TZID=America/New_York:20230507T100000
DTEND;TZID=America/New_York:20230507T150000
DTSTAMP:20260424T034528
CREATED:20230206T093733Z
LAST-MODIFIED:20260306T180255Z
UID:10001763-1683453600-1683471600@www.westchestergunclub.com
SUMMARY:Sunday Practice
DESCRIPTION:Join us Sundays for practice from 10:00 am to 3:00 pm. \n11:30 AM: Safety Checks for New Members/Public
URL:https://www.westchestergunclub.com/event/sunday-practice/2023-05-07/
LOCATION:West Chester Gun Club\, 200 E. Boot Rd\, West Chester\, PA\, 19341\, United States
ATTACH;FMTTYPE=image/jpeg:https://www.westchestergunclub.com/wp-content/uploads/2023/02/calendar-4420.jpg
END:VEVENT
BEGIN:VEVENT
DTSTART;TZID=America/New_York:20230430T100000
DTEND;TZID=America/New_York:20230430T150000
DTSTAMP:20260424T034528
CREATED:20230206T093733Z
LAST-MODIFIED:20260306T180255Z
UID:10001762-1682848800-1682866800@www.westchestergunclub.com
SUMMARY:Sunday Practice
DESCRIPTION:Join us Sundays for practice from 10:00 am to 3:00 pm. \n11:30 AM: Safety Checks for New Members/Public
URL:https://www.westchestergunclub.com/event/sunday-practice/2023-04-30/
LOCATION:West Chester Gun Club\, 200 E. Boot Rd\, West Chester\, PA\, 19341\, United States
ATTACH;FMTTYPE=image/jpeg:https://www.westchestergunclub.com/wp-content/uploads/2023/02/calendar-4420.jpg
END:VEVENT
BEGIN:VEVENT
DTSTART;TZID=America/New_York:20230423T100000
DTEND;TZID=America/New_York:20230423T150000
DTSTAMP:20260424T034528
CREATED:20230206T093733Z
LAST-MODIFIED:20260306T180255Z
UID:10001761-1682244000-1682262000@www.westchestergunclub.com
SUMMARY:Sunday Practice
DESCRIPTION:Join us Sundays for practice from 10:00 am to 3:00 pm. \n11:30 AM: Safety Checks for New Members/Public
URL:https://www.westchestergunclub.com/event/sunday-practice/2023-04-23/
LOCATION:West Chester Gun Club\, 200 E. Boot Rd\, West Chester\, PA\, 19341\, United States
ATTACH;FMTTYPE=image/jpeg:https://www.westchestergunclub.com/wp-content/uploads/2023/02/calendar-4420.jpg
END:VEVENT
BEGIN:VEVENT
DTSTART;TZID=America/New_York:20230416T100000
DTEND;TZID=America/New_York:20230416T150000
DTSTAMP:20260424T034528
CREATED:20230206T093733Z
LAST-MODIFIED:20260306T180255Z
UID:10001760-1681639200-1681657200@www.westchestergunclub.com
SUMMARY:Sunday Practice
DESCRIPTION:Join us Sundays for practice from 10:00 am to 3:00 pm. \n11:30 AM: Safety Checks for New Members/Public
URL:https://www.westchestergunclub.com/event/sunday-practice/2023-04-16/
LOCATION:West Chester Gun Club\, 200 E. Boot Rd\, West Chester\, PA\, 19341\, United States
ATTACH;FMTTYPE=image/jpeg:https://www.westchestergunclub.com/wp-content/uploads/2023/02/calendar-4420.jpg
END:VEVENT
BEGIN:VEVENT
DTSTART;TZID=America/New_York:20230409T100000
DTEND;TZID=America/New_York:20230409T150000
DTSTAMP:20260424T034528
CREATED:20230206T093733Z
LAST-MODIFIED:20260306T180255Z
UID:10001759-1681034400-1681052400@www.westchestergunclub.com
SUMMARY:Sunday Practice
DESCRIPTION:Join us Sundays for practice from 10:00 am to 3:00 pm. \n11:30 AM: Safety Checks for New Members/Public
URL:https://www.westchestergunclub.com/event/sunday-practice/2023-04-09/
LOCATION:West Chester Gun Club\, 200 E. Boot Rd\, West Chester\, PA\, 19341\, United States
ATTACH;FMTTYPE=image/jpeg:https://www.westchestergunclub.com/wp-content/uploads/2023/02/calendar-4420.jpg
END:VEVENT
BEGIN:VEVENT
DTSTART;TZID=America/New_York:20230402T100000
DTEND;TZID=America/New_York:20230402T150000
DTSTAMP:20260424T034528
CREATED:20230206T093733Z
LAST-MODIFIED:20260306T180255Z
UID:10001758-1680429600-1680447600@www.westchestergunclub.com
SUMMARY:Sunday Practice
DESCRIPTION:Join us Sundays for practice from 10:00 am to 3:00 pm. \n11:30 AM: Safety Checks for New Members/Public
URL:https://www.westchestergunclub.com/event/sunday-practice/2023-04-02/
LOCATION:West Chester Gun Club\, 200 E. Boot Rd\, West Chester\, PA\, 19341\, United States
ATTACH;FMTTYPE=image/jpeg:https://www.westchestergunclub.com/wp-content/uploads/2023/02/calendar-4420.jpg
END:VEVENT
BEGIN:VEVENT
DTSTART;TZID=America/New_York:20230326T100000
DTEND;TZID=America/New_York:20230326T150000
DTSTAMP:20260424T034528
CREATED:20230206T093733Z
LAST-MODIFIED:20260306T180255Z
UID:10001757-1679824800-1679842800@www.westchestergunclub.com
SUMMARY:Sunday Practice
DESCRIPTION:Join us Sundays for practice from 10:00 am to 3:00 pm. \n11:30 AM: Safety Checks for New Members/Public
URL:https://www.westchestergunclub.com/event/sunday-practice/2023-03-26/
LOCATION:West Chester Gun Club\, 200 E. Boot Rd\, West Chester\, PA\, 19341\, United States
ATTACH;FMTTYPE=image/jpeg:https://www.westchestergunclub.com/wp-content/uploads/2023/02/calendar-4420.jpg
END:VEVENT
BEGIN:VEVENT
DTSTART;TZID=America/New_York:20230319T100000
DTEND;TZID=America/New_York:20230319T150000
DTSTAMP:20260424T034528
CREATED:20230206T093733Z
LAST-MODIFIED:20260306T180255Z
UID:10001756-1679220000-1679238000@www.westchestergunclub.com
SUMMARY:Sunday Practice
DESCRIPTION:Join us Sundays for practice from 10:00 am to 3:00 pm. \n11:30 AM: Safety Checks for New Members/Public
URL:https://www.westchestergunclub.com/event/sunday-practice/2023-03-19/
LOCATION:West Chester Gun Club\, 200 E. Boot Rd\, West Chester\, PA\, 19341\, United States
ATTACH;FMTTYPE=image/jpeg:https://www.westchestergunclub.com/wp-content/uploads/2023/02/calendar-4420.jpg
END:VEVENT
BEGIN:VEVENT
DTSTART;TZID=America/New_York:20230312T100000
DTEND;TZID=America/New_York:20230312T150000
DTSTAMP:20260424T034528
CREATED:20230206T093733Z
LAST-MODIFIED:20260306T180255Z
UID:10001755-1678615200-1678633200@www.westchestergunclub.com
SUMMARY:Sunday Practice
DESCRIPTION:Join us Sundays for practice from 10:00 am to 3:00 pm. \n11:30 AM: Safety Checks for New Members/Public
URL:https://www.westchestergunclub.com/event/sunday-practice/2023-03-12/
LOCATION:West Chester Gun Club\, 200 E. Boot Rd\, West Chester\, PA\, 19341\, United States
ATTACH;FMTTYPE=image/jpeg:https://www.westchestergunclub.com/wp-content/uploads/2023/02/calendar-4420.jpg
END:VEVENT
BEGIN:VEVENT
DTSTART;TZID=America/New_York:20230305T100000
DTEND;TZID=America/New_York:20230305T150000
DTSTAMP:20260424T034528
CREATED:20230206T093733Z
LAST-MODIFIED:20260306T180255Z
UID:10001754-1678010400-1678028400@www.westchestergunclub.com
SUMMARY:Sunday Practice
DESCRIPTION:Join us Sundays for practice from 10:00 am to 3:00 pm. \n11:30 AM: Safety Checks for New Members/Public
URL:https://www.westchestergunclub.com/event/sunday-practice/2023-03-05/
LOCATION:West Chester Gun Club\, 200 E. Boot Rd\, West Chester\, PA\, 19341\, United States
ATTACH;FMTTYPE=image/jpeg:https://www.westchestergunclub.com/wp-content/uploads/2023/02/calendar-4420.jpg
END:VEVENT
BEGIN:VEVENT
DTSTART;TZID=America/New_York:20230226T100000
DTEND;TZID=America/New_York:20230226T150000
DTSTAMP:20260424T034528
CREATED:20230206T093733Z
LAST-MODIFIED:20260306T180255Z
UID:10001753-1677405600-1677423600@www.westchestergunclub.com
SUMMARY:Sunday Practice
DESCRIPTION:Join us Sundays for practice from 10:00 am to 3:00 pm. \n11:30 AM: Safety Checks for New Members/Public
URL:https://www.westchestergunclub.com/event/sunday-practice/2023-02-26/
LOCATION:West Chester Gun Club\, 200 E. Boot Rd\, West Chester\, PA\, 19341\, United States
ATTACH;FMTTYPE=image/jpeg:https://www.westchestergunclub.com/wp-content/uploads/2023/02/calendar-4420.jpg
END:VEVENT
BEGIN:VEVENT
DTSTART;TZID=America/New_York:20230219T100000
DTEND;TZID=America/New_York:20230219T150000
DTSTAMP:20260424T034528
CREATED:20230206T093733Z
LAST-MODIFIED:20260306T180255Z
UID:10001752-1676800800-1676818800@www.westchestergunclub.com
SUMMARY:Sunday Practice
DESCRIPTION:Join us Sundays for practice from 10:00 am to 3:00 pm. \n11:30 AM: Safety Checks for New Members/Public
URL:https://www.westchestergunclub.com/event/sunday-practice/2023-02-19/
LOCATION:West Chester Gun Club\, 200 E. Boot Rd\, West Chester\, PA\, 19341\, United States
ATTACH;FMTTYPE=image/jpeg:https://www.westchestergunclub.com/wp-content/uploads/2023/02/calendar-4420.jpg
END:VEVENT
BEGIN:VEVENT
DTSTART;TZID=America/New_York:20230212T100000
DTEND;TZID=America/New_York:20230212T150000
DTSTAMP:20260424T034528
CREATED:20230206T093733Z
LAST-MODIFIED:20260306T180255Z
UID:10001751-1676196000-1676214000@www.westchestergunclub.com
SUMMARY:Sunday Practice
DESCRIPTION:Join us Sundays for practice from 10:00 am to 3:00 pm. \n11:30 AM: Safety Checks for New Members/Public
URL:https://www.westchestergunclub.com/event/sunday-practice/2023-02-12/
LOCATION:West Chester Gun Club\, 200 E. Boot Rd\, West Chester\, PA\, 19341\, United States
ATTACH;FMTTYPE=image/jpeg:https://www.westchestergunclub.com/wp-content/uploads/2023/02/calendar-4420.jpg
END:VEVENT
BEGIN:VEVENT
DTSTART;TZID=America/New_York:20230205T100000
DTEND;TZID=America/New_York:20230205T150000
DTSTAMP:20260424T034528
CREATED:20230206T093733Z
LAST-MODIFIED:20260306T180255Z
UID:10001750-1675591200-1675609200@www.westchestergunclub.com
SUMMARY:Sunday Practice
DESCRIPTION:Join us Sundays for practice from 10:00 am to 3:00 pm. \n11:30 AM: Safety Checks for New Members/Public
URL:https://www.westchestergunclub.com/event/sunday-practice/2023-02-05/
LOCATION:West Chester Gun Club\, 200 E. Boot Rd\, West Chester\, PA\, 19341\, United States
ATTACH;FMTTYPE=image/jpeg:https://www.westchestergunclub.com/wp-content/uploads/2023/02/calendar-4420.jpg
END:VEVENT
BEGIN:VEVENT
DTSTART;TZID=America/New_York:20230129T100000
DTEND;TZID=America/New_York:20230129T150000
DTSTAMP:20260424T034528
CREATED:20230206T093733Z
LAST-MODIFIED:20260306T180255Z
UID:10001749-1674986400-1675004400@www.westchestergunclub.com
SUMMARY:Sunday Practice
DESCRIPTION:Join us Sundays for practice from 10:00 am to 3:00 pm. \n11:30 AM: Safety Checks for New Members/Public
URL:https://www.westchestergunclub.com/event/sunday-practice/2023-01-29/
LOCATION:West Chester Gun Club\, 200 E. Boot Rd\, West Chester\, PA\, 19341\, United States
ATTACH;FMTTYPE=image/jpeg:https://www.westchestergunclub.com/wp-content/uploads/2023/02/calendar-4420.jpg
END:VEVENT
BEGIN:VEVENT
DTSTART;TZID=America/New_York:20230122T100000
DTEND;TZID=America/New_York:20230122T150000
DTSTAMP:20260424T034528
CREATED:20230206T093733Z
LAST-MODIFIED:20260306T180255Z
UID:10001748-1674381600-1674399600@www.westchestergunclub.com
SUMMARY:Sunday Practice
DESCRIPTION:Join us Sundays for practice from 10:00 am to 3:00 pm. \n11:30 AM: Safety Checks for New Members/Public
URL:https://www.westchestergunclub.com/event/sunday-practice/2023-01-22/
LOCATION:West Chester Gun Club\, 200 E. Boot Rd\, West Chester\, PA\, 19341\, United States
ATTACH;FMTTYPE=image/jpeg:https://www.westchestergunclub.com/wp-content/uploads/2023/02/calendar-4420.jpg
END:VEVENT
END:VCALENDAR