BEGIN:VCALENDAR
VERSION:2.0
PRODID:-//West Chester  Gun Club - ECPv6.15.18//NONSGML v1.0//EN
CALSCALE:GREGORIAN
METHOD:PUBLISH
X-WR-CALNAME:West Chester  Gun Club
X-ORIGINAL-URL:https://www.westchestergunclub.com
X-WR-CALDESC:Events for West Chester  Gun Club
REFRESH-INTERVAL;VALUE=DURATION:PT1H
X-Robots-Tag:noindex
X-PUBLISHED-TTL:PT1H
BEGIN:VTIMEZONE
TZID:America/New_York
BEGIN:DAYLIGHT
TZOFFSETFROM:-0500
TZOFFSETTO:-0400
TZNAME:EDT
DTSTART:20240310T070000
END:DAYLIGHT
BEGIN:STANDARD
TZOFFSETFROM:-0400
TZOFFSETTO:-0500
TZNAME:EST
DTSTART:20241103T060000
END:STANDARD
BEGIN:DAYLIGHT
TZOFFSETFROM:-0500
TZOFFSETTO:-0400
TZNAME:EDT
DTSTART:20250309T070000
END:DAYLIGHT
BEGIN:STANDARD
TZOFFSETFROM:-0400
TZOFFSETTO:-0500
TZNAME:EST
DTSTART:20251102T060000
END:STANDARD
BEGIN:DAYLIGHT
TZOFFSETFROM:-0500
TZOFFSETTO:-0400
TZNAME:EDT
DTSTART:20260308T070000
END:DAYLIGHT
BEGIN:STANDARD
TZOFFSETFROM:-0400
TZOFFSETTO:-0500
TZNAME:EST
DTSTART:20261101T060000
END:STANDARD
END:VTIMEZONE
BEGIN:VEVENT
DTSTART;VALUE=DATE:20251202
DTEND;VALUE=DATE:20251203
DTSTAMP:20260422T165003
CREATED:20240116T180644Z
LAST-MODIFIED:20251215T200024Z
UID:10004805-1764687600-1764705600@www.westchestergunclub.com
SUMMARY:🥶 Closed: Due To Weather 🥶
DESCRIPTION:
URL:https://www.westchestergunclub.com/event/closed-due-to-weather-2/2025-12-02/
LOCATION:West Chester Gun Club\, 200 E. Boot Rd\, West Chester\, PA\, 19341\, United States
ATTACH;FMTTYPE=image/jpeg:https://www.westchestergunclub.com/wp-content/uploads/2024/01/WCGC_snowday.jpg
END:VEVENT
BEGIN:VEVENT
DTSTART;TZID=America/New_York:20251130T100000
DTEND;TZID=America/New_York:20251130T150000
DTSTAMP:20260422T165003
CREATED:20230206T093733Z
LAST-MODIFIED:20260306T180255Z
UID:10001893-1764496800-1764514800@www.westchestergunclub.com
SUMMARY:Sunday Practice
DESCRIPTION:Join us Sundays for practice from 10:00 am to 3:00 pm. \n11:30 AM: Safety Checks for New Members/Public
URL:https://www.westchestergunclub.com/event/sunday-practice/2025-11-30/
LOCATION:West Chester Gun Club\, 200 E. Boot Rd\, West Chester\, PA\, 19341\, United States
ATTACH;FMTTYPE=image/jpeg:https://www.westchestergunclub.com/wp-content/uploads/2023/02/calendar-4420.jpg
END:VEVENT
BEGIN:VEVENT
DTSTART;TZID=America/New_York:20251125T150000
DTEND;TZID=America/New_York:20251125T190000
DTSTAMP:20260422T165003
CREATED:20250102T173851Z
LAST-MODIFIED:20251202T002718Z
UID:10004220-1764082800-1764097200@www.westchestergunclub.com
SUMMARY:Tuesday Practice
DESCRIPTION:Join us Tuesdays for practice from 3:00 pm to 7:00 pm.
URL:https://www.westchestergunclub.com/event/tuesday-practice-2-2-2/2025-11-25/
LOCATION:West Chester Gun Club\, 200 E. Boot Rd\, West Chester\, PA\, 19341\, United States
ATTACH;FMTTYPE=image/jpeg:https://www.westchestergunclub.com/wp-content/uploads/2023/02/WCGC-K-Image-9414-Calendar.jpg
END:VEVENT
BEGIN:VEVENT
DTSTART;TZID=America/New_York:20251123T100000
DTEND;TZID=America/New_York:20251123T150000
DTSTAMP:20260422T165003
CREATED:20230206T093733Z
LAST-MODIFIED:20260306T180255Z
UID:10004894-1763892000-1763910000@www.westchestergunclub.com
SUMMARY:Sunday Practice
DESCRIPTION:Join us Sundays for practice from 10:00 am to 3:00 pm. \n11:30 AM: Safety Checks for New Members/Public
URL:https://www.westchestergunclub.com/event/sunday-practice/2025-11-23/
LOCATION:West Chester Gun Club\, 200 E. Boot Rd\, West Chester\, PA\, 19341\, United States
ATTACH;FMTTYPE=image/jpeg:https://www.westchestergunclub.com/wp-content/uploads/2023/02/calendar-4420.jpg
END:VEVENT
BEGIN:VEVENT
DTSTART;VALUE=DATE:20251123
DTEND;VALUE=DATE:20251124
DTSTAMP:20260422T165003
CREATED:20251104T161910Z
LAST-MODIFIED:20251104T162031Z
UID:10004804-1763856000-1763942399@www.westchestergunclub.com
SUMMARY:- Limited Practice
DESCRIPTION:One trap will be open for Practice during event.
URL:https://www.westchestergunclub.com/event/limited-practice/
LOCATION:West Chester Gun Club\, 200 E. Boot Rd\, West Chester\, PA\, 19341\, United States
END:VEVENT
BEGIN:VEVENT
DTSTART;TZID=America/New_York:20251118T150000
DTEND;TZID=America/New_York:20251118T190000
DTSTAMP:20260422T165003
CREATED:20250102T173851Z
LAST-MODIFIED:20251202T002718Z
UID:10004219-1763478000-1763492400@www.westchestergunclub.com
SUMMARY:Tuesday Practice
DESCRIPTION:Join us Tuesdays for practice from 3:00 pm to 7:00 pm.
URL:https://www.westchestergunclub.com/event/tuesday-practice-2-2-2/2025-11-18/
LOCATION:West Chester Gun Club\, 200 E. Boot Rd\, West Chester\, PA\, 19341\, United States
ATTACH;FMTTYPE=image/jpeg:https://www.westchestergunclub.com/wp-content/uploads/2023/02/WCGC-K-Image-9414-Calendar.jpg
END:VEVENT
BEGIN:VEVENT
DTSTART;TZID=America/New_York:20251116T100000
DTEND;TZID=America/New_York:20251116T150000
DTSTAMP:20260422T165003
CREATED:20230206T093733Z
LAST-MODIFIED:20260306T180255Z
UID:10001891-1763287200-1763305200@www.westchestergunclub.com
SUMMARY:Sunday Practice
DESCRIPTION:Join us Sundays for practice from 10:00 am to 3:00 pm. \n11:30 AM: Safety Checks for New Members/Public
URL:https://www.westchestergunclub.com/event/sunday-practice/2025-11-16/
LOCATION:West Chester Gun Club\, 200 E. Boot Rd\, West Chester\, PA\, 19341\, United States
ATTACH;FMTTYPE=image/jpeg:https://www.westchestergunclub.com/wp-content/uploads/2023/02/calendar-4420.jpg
END:VEVENT
BEGIN:VEVENT
DTSTART;TZID=America/New_York:20251111T173000
DTEND;TZID=America/New_York:20251111T183000
DTSTAMP:20260422T165003
CREATED:20230425T104112Z
LAST-MODIFIED:20241228T195743Z
UID:10002115-1762882200-1762885800@www.westchestergunclub.com
SUMMARY:Board of Directors Meeting
DESCRIPTION:
URL:https://www.westchestergunclub.com/event/board-of-directors-meeting/2025-11-11/
LOCATION:West Chester Gun Club\, 200 E. Boot Rd\, West Chester\, PA\, 19341\, United States
ATTACH;FMTTYPE=image/jpeg:https://www.westchestergunclub.com/wp-content/uploads/2023/04/home_about.jpg
END:VEVENT
BEGIN:VEVENT
DTSTART;TZID=America/New_York:20251111T150000
DTEND;TZID=America/New_York:20251111T190000
DTSTAMP:20260422T165003
CREATED:20250102T173851Z
LAST-MODIFIED:20251202T002718Z
UID:10004218-1762873200-1762887600@www.westchestergunclub.com
SUMMARY:Tuesday Practice
DESCRIPTION:Join us Tuesdays for practice from 3:00 pm to 7:00 pm.
URL:https://www.westchestergunclub.com/event/tuesday-practice-2-2-2/2025-11-11/
LOCATION:West Chester Gun Club\, 200 E. Boot Rd\, West Chester\, PA\, 19341\, United States
ATTACH;FMTTYPE=image/jpeg:https://www.westchestergunclub.com/wp-content/uploads/2023/02/WCGC-K-Image-9414-Calendar.jpg
END:VEVENT
BEGIN:VEVENT
DTSTART;TZID=America/New_York:20251109T100000
DTEND;TZID=America/New_York:20251109T150000
DTSTAMP:20260422T165003
CREATED:20230206T093733Z
LAST-MODIFIED:20260306T180255Z
UID:10001890-1762682400-1762700400@www.westchestergunclub.com
SUMMARY:Sunday Practice
DESCRIPTION:Join us Sundays for practice from 10:00 am to 3:00 pm. \n11:30 AM: Safety Checks for New Members/Public
URL:https://www.westchestergunclub.com/event/sunday-practice/2025-11-09/
LOCATION:West Chester Gun Club\, 200 E. Boot Rd\, West Chester\, PA\, 19341\, United States
ATTACH;FMTTYPE=image/jpeg:https://www.westchestergunclub.com/wp-content/uploads/2023/02/calendar-4420.jpg
END:VEVENT
BEGIN:VEVENT
DTSTART;TZID=America/New_York:20251104T150000
DTEND;TZID=America/New_York:20251104T190000
DTSTAMP:20260422T165003
CREATED:20250102T173851Z
LAST-MODIFIED:20251202T002718Z
UID:10004217-1762268400-1762282800@www.westchestergunclub.com
SUMMARY:Tuesday Practice
DESCRIPTION:Join us Tuesdays for practice from 3:00 pm to 7:00 pm.
URL:https://www.westchestergunclub.com/event/tuesday-practice-2-2-2/2025-11-04/
LOCATION:West Chester Gun Club\, 200 E. Boot Rd\, West Chester\, PA\, 19341\, United States
ATTACH;FMTTYPE=image/jpeg:https://www.westchestergunclub.com/wp-content/uploads/2023/02/WCGC-K-Image-9414-Calendar.jpg
END:VEVENT
BEGIN:VEVENT
DTSTART;TZID=America/New_York:20251102T100000
DTEND;TZID=America/New_York:20251102T150000
DTSTAMP:20260422T165003
CREATED:20230206T093733Z
LAST-MODIFIED:20260306T180255Z
UID:10001889-1762077600-1762095600@www.westchestergunclub.com
SUMMARY:Sunday Practice
DESCRIPTION:Join us Sundays for practice from 10:00 am to 3:00 pm. \n11:30 AM: Safety Checks for New Members/Public
URL:https://www.westchestergunclub.com/event/sunday-practice/2025-11-02/
LOCATION:West Chester Gun Club\, 200 E. Boot Rd\, West Chester\, PA\, 19341\, United States
ATTACH;FMTTYPE=image/jpeg:https://www.westchestergunclub.com/wp-content/uploads/2023/02/calendar-4420.jpg
END:VEVENT
BEGIN:VEVENT
DTSTART;TZID=America/New_York:20251028T150000
DTEND;TZID=America/New_York:20251028T190000
DTSTAMP:20260422T165003
CREATED:20250102T173851Z
LAST-MODIFIED:20251202T002718Z
UID:10004216-1761663600-1761678000@www.westchestergunclub.com
SUMMARY:Tuesday Practice
DESCRIPTION:Join us Tuesdays for practice from 3:00 pm to 7:00 pm.
URL:https://www.westchestergunclub.com/event/tuesday-practice-2-2-2/2025-10-28/
LOCATION:West Chester Gun Club\, 200 E. Boot Rd\, West Chester\, PA\, 19341\, United States
ATTACH;FMTTYPE=image/jpeg:https://www.westchestergunclub.com/wp-content/uploads/2023/02/WCGC-K-Image-9414-Calendar.jpg
END:VEVENT
BEGIN:VEVENT
DTSTART;TZID=America/New_York:20251026T100000
DTEND;TZID=America/New_York:20251026T150000
DTSTAMP:20260422T165003
CREATED:20230206T093733Z
LAST-MODIFIED:20260306T180255Z
UID:10001888-1761472800-1761490800@www.westchestergunclub.com
SUMMARY:Sunday Practice
DESCRIPTION:Join us Sundays for practice from 10:00 am to 3:00 pm. \n11:30 AM: Safety Checks for New Members/Public
URL:https://www.westchestergunclub.com/event/sunday-practice/2025-10-26/
LOCATION:West Chester Gun Club\, 200 E. Boot Rd\, West Chester\, PA\, 19341\, United States
ATTACH;FMTTYPE=image/jpeg:https://www.westchestergunclub.com/wp-content/uploads/2023/02/calendar-4420.jpg
END:VEVENT
BEGIN:VEVENT
DTSTART;TZID=America/New_York:20251021T150000
DTEND;TZID=America/New_York:20251021T190000
DTSTAMP:20260422T165003
CREATED:20250102T173851Z
LAST-MODIFIED:20251202T002718Z
UID:10004215-1761058800-1761073200@www.westchestergunclub.com
SUMMARY:Tuesday Practice
DESCRIPTION:Join us Tuesdays for practice from 3:00 pm to 7:00 pm.
URL:https://www.westchestergunclub.com/event/tuesday-practice-2-2-2/2025-10-21/
LOCATION:West Chester Gun Club\, 200 E. Boot Rd\, West Chester\, PA\, 19341\, United States
ATTACH;FMTTYPE=image/jpeg:https://www.westchestergunclub.com/wp-content/uploads/2023/02/WCGC-K-Image-9414-Calendar.jpg
END:VEVENT
BEGIN:VEVENT
DTSTART;TZID=America/New_York:20251019T100000
DTEND;TZID=America/New_York:20251019T150000
DTSTAMP:20260422T165003
CREATED:20230206T093733Z
LAST-MODIFIED:20260306T180255Z
UID:10001887-1760868000-1760886000@www.westchestergunclub.com
SUMMARY:Sunday Practice
DESCRIPTION:Join us Sundays for practice from 10:00 am to 3:00 pm. \n11:30 AM: Safety Checks for New Members/Public
URL:https://www.westchestergunclub.com/event/sunday-practice/2025-10-19/
LOCATION:West Chester Gun Club\, 200 E. Boot Rd\, West Chester\, PA\, 19341\, United States
ATTACH;FMTTYPE=image/jpeg:https://www.westchestergunclub.com/wp-content/uploads/2023/02/calendar-4420.jpg
END:VEVENT
BEGIN:VEVENT
DTSTART;TZID=America/New_York:20251014T173000
DTEND;TZID=America/New_York:20251014T183000
DTSTAMP:20260422T165003
CREATED:20230425T104112Z
LAST-MODIFIED:20241228T195743Z
UID:10002114-1760463000-1760466600@www.westchestergunclub.com
SUMMARY:Board of Directors Meeting
DESCRIPTION:
URL:https://www.westchestergunclub.com/event/board-of-directors-meeting/2025-10-14/
LOCATION:West Chester Gun Club\, 200 E. Boot Rd\, West Chester\, PA\, 19341\, United States
ATTACH;FMTTYPE=image/jpeg:https://www.westchestergunclub.com/wp-content/uploads/2023/04/home_about.jpg
END:VEVENT
BEGIN:VEVENT
DTSTART;TZID=America/New_York:20251014T150000
DTEND;TZID=America/New_York:20251014T190000
DTSTAMP:20260422T165003
CREATED:20250102T173851Z
LAST-MODIFIED:20251202T002718Z
UID:10004214-1760454000-1760468400@www.westchestergunclub.com
SUMMARY:Tuesday Practice
DESCRIPTION:Join us Tuesdays for practice from 3:00 pm to 7:00 pm.
URL:https://www.westchestergunclub.com/event/tuesday-practice-2-2-2/2025-10-14/
LOCATION:West Chester Gun Club\, 200 E. Boot Rd\, West Chester\, PA\, 19341\, United States
ATTACH;FMTTYPE=image/jpeg:https://www.westchestergunclub.com/wp-content/uploads/2023/02/WCGC-K-Image-9414-Calendar.jpg
END:VEVENT
BEGIN:VEVENT
DTSTART;TZID=America/New_York:20251012T100000
DTEND;TZID=America/New_York:20251012T150000
DTSTAMP:20260422T165003
CREATED:20230206T093733Z
LAST-MODIFIED:20260306T180255Z
UID:10001886-1760263200-1760281200@www.westchestergunclub.com
SUMMARY:Sunday Practice
DESCRIPTION:Join us Sundays for practice from 10:00 am to 3:00 pm. \n11:30 AM: Safety Checks for New Members/Public
URL:https://www.westchestergunclub.com/event/sunday-practice/2025-10-12/
LOCATION:West Chester Gun Club\, 200 E. Boot Rd\, West Chester\, PA\, 19341\, United States
ATTACH;FMTTYPE=image/jpeg:https://www.westchestergunclub.com/wp-content/uploads/2023/02/calendar-4420.jpg
END:VEVENT
BEGIN:VEVENT
DTSTART;TZID=America/New_York:20251007T150000
DTEND;TZID=America/New_York:20251007T190000
DTSTAMP:20260422T165003
CREATED:20250102T173851Z
LAST-MODIFIED:20251202T002718Z
UID:10004213-1759849200-1759863600@www.westchestergunclub.com
SUMMARY:Tuesday Practice
DESCRIPTION:Join us Tuesdays for practice from 3:00 pm to 7:00 pm.
URL:https://www.westchestergunclub.com/event/tuesday-practice-2-2-2/2025-10-07/
LOCATION:West Chester Gun Club\, 200 E. Boot Rd\, West Chester\, PA\, 19341\, United States
ATTACH;FMTTYPE=image/jpeg:https://www.westchestergunclub.com/wp-content/uploads/2023/02/WCGC-K-Image-9414-Calendar.jpg
END:VEVENT
BEGIN:VEVENT
DTSTART;TZID=America/New_York:20251005T100000
DTEND;TZID=America/New_York:20251005T150000
DTSTAMP:20260422T165003
CREATED:20230206T093733Z
LAST-MODIFIED:20260306T180255Z
UID:10004893-1759658400-1759676400@www.westchestergunclub.com
SUMMARY:Sunday Practice
DESCRIPTION:Join us Sundays for practice from 10:00 am to 3:00 pm. \n11:30 AM: Safety Checks for New Members/Public
URL:https://www.westchestergunclub.com/event/sunday-practice/2025-10-05/
LOCATION:West Chester Gun Club\, 200 E. Boot Rd\, West Chester\, PA\, 19341\, United States
ATTACH;FMTTYPE=image/jpeg:https://www.westchestergunclub.com/wp-content/uploads/2023/02/calendar-4420.jpg
END:VEVENT
BEGIN:VEVENT
DTSTART;TZID=America/New_York:20250930T150000
DTEND;TZID=America/New_York:20250930T190000
DTSTAMP:20260422T165003
CREATED:20250102T173851Z
LAST-MODIFIED:20251202T002718Z
UID:10004212-1759244400-1759258800@www.westchestergunclub.com
SUMMARY:Tuesday Practice
DESCRIPTION:Join us Tuesdays for practice from 3:00 pm to 7:00 pm.
URL:https://www.westchestergunclub.com/event/tuesday-practice-2-2-2/2025-09-30/
LOCATION:West Chester Gun Club\, 200 E. Boot Rd\, West Chester\, PA\, 19341\, United States
ATTACH;FMTTYPE=image/jpeg:https://www.westchestergunclub.com/wp-content/uploads/2023/02/WCGC-K-Image-9414-Calendar.jpg
END:VEVENT
BEGIN:VEVENT
DTSTART;TZID=America/New_York:20250928T100000
DTEND;TZID=America/New_York:20250928T150000
DTSTAMP:20260422T165003
CREATED:20230206T093733Z
LAST-MODIFIED:20260306T180255Z
UID:10001884-1759053600-1759071600@www.westchestergunclub.com
SUMMARY:Sunday Practice
DESCRIPTION:Join us Sundays for practice from 10:00 am to 3:00 pm. \n11:30 AM: Safety Checks for New Members/Public
URL:https://www.westchestergunclub.com/event/sunday-practice/2025-09-28/
LOCATION:West Chester Gun Club\, 200 E. Boot Rd\, West Chester\, PA\, 19341\, United States
ATTACH;FMTTYPE=image/jpeg:https://www.westchestergunclub.com/wp-content/uploads/2023/02/calendar-4420.jpg
END:VEVENT
BEGIN:VEVENT
DTSTART;TZID=America/New_York:20250925T153000
DTEND;TZID=America/New_York:20250925T183000
DTSTAMP:20260422T165003
CREATED:20250611T143237Z
LAST-MODIFIED:20250829T212949Z
UID:10004799-1758814200-1758825000@www.westchestergunclub.com
SUMMARY:Thursday Night Trap
DESCRIPTION:After working hard all day\, beat the heat and shoot till 8!\nSlip over to your West Chester Gun Club and shoot a few rounds of trap. \n\nThis special opening period will occur every Thursday thru September. \nDates:  7/3\, 7/17\, 7/24\, 7/31\, 8/14\, 8/28\, 9/4\, 9/11\, 9/18\, and 9/25. \n\nCash payment only. $5.00 per round of targets.\nAmmo will be on sale.\nTraps #2 and #3 open at 3:30 pm.\nChill atmosphere! Clubhouse temperature at 68 degrees.\nYes ….. this is a special summer & fall opening on Thursday evenings.\n(Not Tuesday or Sunday!)\nHave dinner and shoot…..or pick up dinner on the way over and\ndine in the clubhouse.\nThe Archery Range will be closed during these periods.
URL:https://www.westchestergunclub.com/event/thursday-night-trap/2025-09-25/
LOCATION:West Chester Gun Club\, 200 E. Boot Rd\, West Chester\, PA\, 19341\, United States
END:VEVENT
BEGIN:VEVENT
DTSTART;TZID=America/New_York:20250923T150000
DTEND;TZID=America/New_York:20250923T190000
DTSTAMP:20260422T165003
CREATED:20250102T173851Z
LAST-MODIFIED:20251202T002718Z
UID:10004211-1758639600-1758654000@www.westchestergunclub.com
SUMMARY:Tuesday Practice
DESCRIPTION:Join us Tuesdays for practice from 3:00 pm to 7:00 pm.
URL:https://www.westchestergunclub.com/event/tuesday-practice-2-2-2/2025-09-23/
LOCATION:West Chester Gun Club\, 200 E. Boot Rd\, West Chester\, PA\, 19341\, United States
ATTACH;FMTTYPE=image/jpeg:https://www.westchestergunclub.com/wp-content/uploads/2023/02/WCGC-K-Image-9414-Calendar.jpg
END:VEVENT
BEGIN:VEVENT
DTSTART;TZID=America/New_York:20250921T100000
DTEND;TZID=America/New_York:20250921T150000
DTSTAMP:20260422T165003
CREATED:20230206T093733Z
LAST-MODIFIED:20260306T180255Z
UID:10001883-1758448800-1758466800@www.westchestergunclub.com
SUMMARY:Sunday Practice
DESCRIPTION:Join us Sundays for practice from 10:00 am to 3:00 pm. \n11:30 AM: Safety Checks for New Members/Public
URL:https://www.westchestergunclub.com/event/sunday-practice/2025-09-21/
LOCATION:West Chester Gun Club\, 200 E. Boot Rd\, West Chester\, PA\, 19341\, United States
ATTACH;FMTTYPE=image/jpeg:https://www.westchestergunclub.com/wp-content/uploads/2023/02/calendar-4420.jpg
END:VEVENT
BEGIN:VEVENT
DTSTART;TZID=America/New_York:20250918T153000
DTEND;TZID=America/New_York:20250918T183000
DTSTAMP:20260422T165003
CREATED:20250611T143237Z
LAST-MODIFIED:20250829T212949Z
UID:10004798-1758209400-1758220200@www.westchestergunclub.com
SUMMARY:Thursday Night Trap
DESCRIPTION:After working hard all day\, beat the heat and shoot till 8!\nSlip over to your West Chester Gun Club and shoot a few rounds of trap. \n\nThis special opening period will occur every Thursday thru September. \nDates:  7/3\, 7/17\, 7/24\, 7/31\, 8/14\, 8/28\, 9/4\, 9/11\, 9/18\, and 9/25. \n\nCash payment only. $5.00 per round of targets.\nAmmo will be on sale.\nTraps #2 and #3 open at 3:30 pm.\nChill atmosphere! Clubhouse temperature at 68 degrees.\nYes ….. this is a special summer & fall opening on Thursday evenings.\n(Not Tuesday or Sunday!)\nHave dinner and shoot…..or pick up dinner on the way over and\ndine in the clubhouse.\nThe Archery Range will be closed during these periods.
URL:https://www.westchestergunclub.com/event/thursday-night-trap/2025-09-18/
LOCATION:West Chester Gun Club\, 200 E. Boot Rd\, West Chester\, PA\, 19341\, United States
END:VEVENT
BEGIN:VEVENT
DTSTART;TZID=America/New_York:20250916T150000
DTEND;TZID=America/New_York:20250916T190000
DTSTAMP:20260422T165003
CREATED:20250102T173851Z
LAST-MODIFIED:20251202T002718Z
UID:10004210-1758034800-1758049200@www.westchestergunclub.com
SUMMARY:Tuesday Practice
DESCRIPTION:Join us Tuesdays for practice from 3:00 pm to 7:00 pm.
URL:https://www.westchestergunclub.com/event/tuesday-practice-2-2-2/2025-09-16/
LOCATION:West Chester Gun Club\, 200 E. Boot Rd\, West Chester\, PA\, 19341\, United States
ATTACH;FMTTYPE=image/jpeg:https://www.westchestergunclub.com/wp-content/uploads/2023/02/WCGC-K-Image-9414-Calendar.jpg
END:VEVENT
BEGIN:VEVENT
DTSTART;TZID=America/New_York:20250914T100000
DTEND;TZID=America/New_York:20250914T150000
DTSTAMP:20260422T165003
CREATED:20230206T093733Z
LAST-MODIFIED:20260306T180255Z
UID:10004892-1757844000-1757862000@www.westchestergunclub.com
SUMMARY:Sunday Practice
DESCRIPTION:Join us Sundays for practice from 10:00 am to 3:00 pm. \n11:30 AM: Safety Checks for New Members/Public
URL:https://www.westchestergunclub.com/event/sunday-practice/2025-09-14/
LOCATION:West Chester Gun Club\, 200 E. Boot Rd\, West Chester\, PA\, 19341\, United States
ATTACH;FMTTYPE=image/jpeg:https://www.westchestergunclub.com/wp-content/uploads/2023/02/calendar-4420.jpg
END:VEVENT
BEGIN:VEVENT
DTSTART;TZID=America/New_York:20250911T153000
DTEND;TZID=America/New_York:20250911T183000
DTSTAMP:20260422T165003
CREATED:20250611T143237Z
LAST-MODIFIED:20250829T212949Z
UID:10004797-1757604600-1757615400@www.westchestergunclub.com
SUMMARY:Thursday Night Trap
DESCRIPTION:After working hard all day\, beat the heat and shoot till 8!\nSlip over to your West Chester Gun Club and shoot a few rounds of trap. \n\nThis special opening period will occur every Thursday thru September. \nDates:  7/3\, 7/17\, 7/24\, 7/31\, 8/14\, 8/28\, 9/4\, 9/11\, 9/18\, and 9/25. \n\nCash payment only. $5.00 per round of targets.\nAmmo will be on sale.\nTraps #2 and #3 open at 3:30 pm.\nChill atmosphere! Clubhouse temperature at 68 degrees.\nYes ….. this is a special summer & fall opening on Thursday evenings.\n(Not Tuesday or Sunday!)\nHave dinner and shoot…..or pick up dinner on the way over and\ndine in the clubhouse.\nThe Archery Range will be closed during these periods.
URL:https://www.westchestergunclub.com/event/thursday-night-trap/2025-09-11/
LOCATION:West Chester Gun Club\, 200 E. Boot Rd\, West Chester\, PA\, 19341\, United States
END:VEVENT
END:VCALENDAR