BEGIN:VCALENDAR
VERSION:2.0
PRODID:-//West Chester  Gun Club - ECPv6.15.18//NONSGML v1.0//EN
CALSCALE:GREGORIAN
METHOD:PUBLISH
X-WR-CALNAME:West Chester  Gun Club
X-ORIGINAL-URL:https://www.westchestergunclub.com
X-WR-CALDESC:Events for West Chester  Gun Club
REFRESH-INTERVAL;VALUE=DURATION:PT1H
X-Robots-Tag:noindex
X-PUBLISHED-TTL:PT1H
BEGIN:VTIMEZONE
TZID:America/New_York
BEGIN:DAYLIGHT
TZOFFSETFROM:-0500
TZOFFSETTO:-0400
TZNAME:EDT
DTSTART:20250309T070000
END:DAYLIGHT
BEGIN:STANDARD
TZOFFSETFROM:-0400
TZOFFSETTO:-0500
TZNAME:EST
DTSTART:20251102T060000
END:STANDARD
BEGIN:DAYLIGHT
TZOFFSETFROM:-0500
TZOFFSETTO:-0400
TZNAME:EDT
DTSTART:20260308T070000
END:DAYLIGHT
BEGIN:STANDARD
TZOFFSETFROM:-0400
TZOFFSETTO:-0500
TZNAME:EST
DTSTART:20261101T060000
END:STANDARD
BEGIN:DAYLIGHT
TZOFFSETFROM:-0500
TZOFFSETTO:-0400
TZNAME:EDT
DTSTART:20270314T070000
END:DAYLIGHT
BEGIN:STANDARD
TZOFFSETFROM:-0400
TZOFFSETTO:-0500
TZNAME:EST
DTSTART:20271107T060000
END:STANDARD
END:VTIMEZONE
BEGIN:VEVENT
DTSTART;TZID=America/New_York:20260915T150000
DTEND;TZID=America/New_York:20260915T190000
DTSTAMP:20260422T184543
CREATED:20250102T173851Z
LAST-MODIFIED:20251202T002718Z
UID:10004262-1789484400-1789498800@www.westchestergunclub.com
SUMMARY:Tuesday Practice
DESCRIPTION:Join us Tuesdays for practice from 3:00 pm to 7:00 pm.
URL:https://www.westchestergunclub.com/event/tuesday-practice-2-2-2/2026-09-15/
LOCATION:West Chester Gun Club\, 200 E. Boot Rd\, West Chester\, PA\, 19341\, United States
ATTACH;FMTTYPE=image/jpeg:https://www.westchestergunclub.com/wp-content/uploads/2023/02/WCGC-K-Image-9414-Calendar.jpg
END:VEVENT
BEGIN:VEVENT
DTSTART;TZID=America/New_York:20260920T100000
DTEND;TZID=America/New_York:20260920T150000
DTSTAMP:20260422T184543
CREATED:20230206T093733Z
LAST-MODIFIED:20260306T180255Z
UID:10001935-1789898400-1789916400@www.westchestergunclub.com
SUMMARY:Sunday Practice
DESCRIPTION:Join us Sundays for practice from 10:00 am to 3:00 pm. \n11:30 AM: Safety Checks for New Members/Public
URL:https://www.westchestergunclub.com/event/sunday-practice/2026-09-20/
LOCATION:West Chester Gun Club\, 200 E. Boot Rd\, West Chester\, PA\, 19341\, United States
ATTACH;FMTTYPE=image/jpeg:https://www.westchestergunclub.com/wp-content/uploads/2023/02/calendar-4420.jpg
END:VEVENT
BEGIN:VEVENT
DTSTART;TZID=America/New_York:20260922T150000
DTEND;TZID=America/New_York:20260922T190000
DTSTAMP:20260422T184543
CREATED:20250102T173851Z
LAST-MODIFIED:20251202T002718Z
UID:10004263-1790089200-1790103600@www.westchestergunclub.com
SUMMARY:Tuesday Practice
DESCRIPTION:Join us Tuesdays for practice from 3:00 pm to 7:00 pm.
URL:https://www.westchestergunclub.com/event/tuesday-practice-2-2-2/2026-09-22/
LOCATION:West Chester Gun Club\, 200 E. Boot Rd\, West Chester\, PA\, 19341\, United States
ATTACH;FMTTYPE=image/jpeg:https://www.westchestergunclub.com/wp-content/uploads/2023/02/WCGC-K-Image-9414-Calendar.jpg
END:VEVENT
BEGIN:VEVENT
DTSTART;TZID=America/New_York:20260927T100000
DTEND;TZID=America/New_York:20260927T150000
DTSTAMP:20260422T184543
CREATED:20230206T093733Z
LAST-MODIFIED:20260306T180255Z
UID:10001936-1790503200-1790521200@www.westchestergunclub.com
SUMMARY:Sunday Practice
DESCRIPTION:Join us Sundays for practice from 10:00 am to 3:00 pm. \n11:30 AM: Safety Checks for New Members/Public
URL:https://www.westchestergunclub.com/event/sunday-practice/2026-09-27/
LOCATION:West Chester Gun Club\, 200 E. Boot Rd\, West Chester\, PA\, 19341\, United States
ATTACH;FMTTYPE=image/jpeg:https://www.westchestergunclub.com/wp-content/uploads/2023/02/calendar-4420.jpg
END:VEVENT
BEGIN:VEVENT
DTSTART;TZID=America/New_York:20260929T150000
DTEND;TZID=America/New_York:20260929T190000
DTSTAMP:20260422T184543
CREATED:20250102T173851Z
LAST-MODIFIED:20251202T002718Z
UID:10004264-1790694000-1790708400@www.westchestergunclub.com
SUMMARY:Tuesday Practice
DESCRIPTION:Join us Tuesdays for practice from 3:00 pm to 7:00 pm.
URL:https://www.westchestergunclub.com/event/tuesday-practice-2-2-2/2026-09-29/
LOCATION:West Chester Gun Club\, 200 E. Boot Rd\, West Chester\, PA\, 19341\, United States
ATTACH;FMTTYPE=image/jpeg:https://www.westchestergunclub.com/wp-content/uploads/2023/02/WCGC-K-Image-9414-Calendar.jpg
END:VEVENT
BEGIN:VEVENT
DTSTART;VALUE=DATE:20261004
DTEND;VALUE=DATE:20261005
DTSTAMP:20260422T184543
CREATED:20240422T225204Z
LAST-MODIFIED:20260306T174537Z
UID:10004899-1791100800-1791133200@www.westchestergunclub.com
SUMMARY:- No Practice
DESCRIPTION:
URL:https://www.westchestergunclub.com/event/no-practice/2026-10-04/
LOCATION:West Chester Gun Club\, 200 E. Boot Rd\, West Chester\, PA\, 19341\, United States
END:VEVENT
BEGIN:VEVENT
DTSTART;VALUE=DATE:20261004
DTEND;VALUE=DATE:20261005
DTSTAMP:20260422T184543
CREATED:20240422T225531Z
LAST-MODIFIED:20260306T182223Z
UID:10004909-1791100800-1791133200@www.westchestergunclub.com
SUMMARY:- No Safety Checks
DESCRIPTION:
URL:https://www.westchestergunclub.com/event/no-safety-checks/2026-10-04/
LOCATION:West Chester Gun Club\, 200 E. Boot Rd\, West Chester\, PA\, 19341\, United States
END:VEVENT
BEGIN:VEVENT
DTSTART;TZID=America/New_York:20261004T093000
DTEND;TZID=America/New_York:20261004T093000
DTSTAMP:20260422T184543
CREATED:20230604T124529Z
LAST-MODIFIED:20260306T183759Z
UID:10002146-1791106200-1791106200@www.westchestergunclub.com
SUMMARY:Club Championship
DESCRIPTION:8:30 AM – Office Opens\n9:30 AM – Event #1 Start\n10:30 AM – Singles Registration Ends\n\nIn the event of inclement weather\, October 11th has been scheduled as the rain date.
URL:https://www.westchestergunclub.com/event/club-championship/
LOCATION:West Chester Gun Club\, 200 E. Boot Rd\, West Chester\, PA\, 19341\, United States
ATTACH;FMTTYPE=image/jpeg:https://www.westchestergunclub.com/wp-content/uploads/2023/06/RMZ4420-scaled-e1685967490724.jpg
END:VEVENT
BEGIN:VEVENT
DTSTART;TZID=America/New_York:20261006T150000
DTEND;TZID=America/New_York:20261006T190000
DTSTAMP:20260422T184543
CREATED:20250102T173851Z
LAST-MODIFIED:20251202T002718Z
UID:10004265-1791298800-1791313200@www.westchestergunclub.com
SUMMARY:Tuesday Practice
DESCRIPTION:Join us Tuesdays for practice from 3:00 pm to 7:00 pm.
URL:https://www.westchestergunclub.com/event/tuesday-practice-2-2-2/2026-10-06/
LOCATION:West Chester Gun Club\, 200 E. Boot Rd\, West Chester\, PA\, 19341\, United States
ATTACH;FMTTYPE=image/jpeg:https://www.westchestergunclub.com/wp-content/uploads/2023/02/WCGC-K-Image-9414-Calendar.jpg
END:VEVENT
BEGIN:VEVENT
DTSTART;TZID=America/New_York:20261011T093000
DTEND;TZID=America/New_York:20261011T093000
DTSTAMP:20260422T184543
CREATED:20230425T111313Z
LAST-MODIFIED:20260306T183825Z
UID:10000619-1791711000-1791711000@www.westchestergunclub.com
SUMMARY:Club Championship -- RAIN DATE
DESCRIPTION:8:30 AM – Office Opens\n9:30 AM – Event #1 Start\n10:30 AM – Singles Registration Ends
URL:https://www.westchestergunclub.com/event/club-championship-rain-date/
LOCATION:West Chester Gun Club\, 200 E. Boot Rd\, West Chester\, PA\, 19341\, United States
ATTACH;FMTTYPE=image/jpeg:https://www.westchestergunclub.com/wp-content/uploads/2023/06/RMZ4420-scaled-e1685967490724.jpg
END:VEVENT
BEGIN:VEVENT
DTSTART;TZID=America/New_York:20261011T100000
DTEND;TZID=America/New_York:20261011T150000
DTSTAMP:20260422T184543
CREATED:20230206T093733Z
LAST-MODIFIED:20260306T180255Z
UID:10001938-1791712800-1791730800@www.westchestergunclub.com
SUMMARY:Sunday Practice
DESCRIPTION:Join us Sundays for practice from 10:00 am to 3:00 pm. \n11:30 AM: Safety Checks for New Members/Public
URL:https://www.westchestergunclub.com/event/sunday-practice/2026-10-11/
LOCATION:West Chester Gun Club\, 200 E. Boot Rd\, West Chester\, PA\, 19341\, United States
ATTACH;FMTTYPE=image/jpeg:https://www.westchestergunclub.com/wp-content/uploads/2023/02/calendar-4420.jpg
END:VEVENT
BEGIN:VEVENT
DTSTART;TZID=America/New_York:20261013T150000
DTEND;TZID=America/New_York:20261013T190000
DTSTAMP:20260422T184543
CREATED:20250102T173851Z
LAST-MODIFIED:20251202T002718Z
UID:10004266-1791903600-1791918000@www.westchestergunclub.com
SUMMARY:Tuesday Practice
DESCRIPTION:Join us Tuesdays for practice from 3:00 pm to 7:00 pm.
URL:https://www.westchestergunclub.com/event/tuesday-practice-2-2-2/2026-10-13/
LOCATION:West Chester Gun Club\, 200 E. Boot Rd\, West Chester\, PA\, 19341\, United States
ATTACH;FMTTYPE=image/jpeg:https://www.westchestergunclub.com/wp-content/uploads/2023/02/WCGC-K-Image-9414-Calendar.jpg
END:VEVENT
BEGIN:VEVENT
DTSTART;TZID=America/New_York:20261013T173000
DTEND;TZID=America/New_York:20261013T183000
DTSTAMP:20260422T184543
CREATED:20230425T104112Z
LAST-MODIFIED:20241228T195743Z
UID:10002126-1791912600-1791916200@www.westchestergunclub.com
SUMMARY:Board of Directors Meeting
DESCRIPTION:
URL:https://www.westchestergunclub.com/event/board-of-directors-meeting/2026-10-13/
LOCATION:West Chester Gun Club\, 200 E. Boot Rd\, West Chester\, PA\, 19341\, United States
ATTACH;FMTTYPE=image/jpeg:https://www.westchestergunclub.com/wp-content/uploads/2023/04/home_about.jpg
END:VEVENT
BEGIN:VEVENT
DTSTART;TZID=America/New_York:20261018T100000
DTEND;TZID=America/New_York:20261018T150000
DTSTAMP:20260422T184543
CREATED:20230206T093733Z
LAST-MODIFIED:20260306T180255Z
UID:10001939-1792317600-1792335600@www.westchestergunclub.com
SUMMARY:Sunday Practice
DESCRIPTION:Join us Sundays for practice from 10:00 am to 3:00 pm. \n11:30 AM: Safety Checks for New Members/Public
URL:https://www.westchestergunclub.com/event/sunday-practice/2026-10-18/
LOCATION:West Chester Gun Club\, 200 E. Boot Rd\, West Chester\, PA\, 19341\, United States
ATTACH;FMTTYPE=image/jpeg:https://www.westchestergunclub.com/wp-content/uploads/2023/02/calendar-4420.jpg
END:VEVENT
BEGIN:VEVENT
DTSTART;TZID=America/New_York:20261020T150000
DTEND;TZID=America/New_York:20261020T190000
DTSTAMP:20260422T184543
CREATED:20250102T173851Z
LAST-MODIFIED:20251202T002718Z
UID:10004267-1792508400-1792522800@www.westchestergunclub.com
SUMMARY:Tuesday Practice
DESCRIPTION:Join us Tuesdays for practice from 3:00 pm to 7:00 pm.
URL:https://www.westchestergunclub.com/event/tuesday-practice-2-2-2/2026-10-20/
LOCATION:West Chester Gun Club\, 200 E. Boot Rd\, West Chester\, PA\, 19341\, United States
ATTACH;FMTTYPE=image/jpeg:https://www.westchestergunclub.com/wp-content/uploads/2023/02/WCGC-K-Image-9414-Calendar.jpg
END:VEVENT
BEGIN:VEVENT
DTSTART;TZID=America/New_York:20261025T100000
DTEND;TZID=America/New_York:20261025T150000
DTSTAMP:20260422T184543
CREATED:20230206T093733Z
LAST-MODIFIED:20260306T180255Z
UID:10001940-1792922400-1792940400@www.westchestergunclub.com
SUMMARY:Sunday Practice
DESCRIPTION:Join us Sundays for practice from 10:00 am to 3:00 pm. \n11:30 AM: Safety Checks for New Members/Public
URL:https://www.westchestergunclub.com/event/sunday-practice/2026-10-25/
LOCATION:West Chester Gun Club\, 200 E. Boot Rd\, West Chester\, PA\, 19341\, United States
ATTACH;FMTTYPE=image/jpeg:https://www.westchestergunclub.com/wp-content/uploads/2023/02/calendar-4420.jpg
END:VEVENT
BEGIN:VEVENT
DTSTART;TZID=America/New_York:20261027T150000
DTEND;TZID=America/New_York:20261027T190000
DTSTAMP:20260422T184543
CREATED:20250102T173851Z
LAST-MODIFIED:20251202T002718Z
UID:10004268-1793113200-1793127600@www.westchestergunclub.com
SUMMARY:Tuesday Practice
DESCRIPTION:Join us Tuesdays for practice from 3:00 pm to 7:00 pm.
URL:https://www.westchestergunclub.com/event/tuesday-practice-2-2-2/2026-10-27/
LOCATION:West Chester Gun Club\, 200 E. Boot Rd\, West Chester\, PA\, 19341\, United States
ATTACH;FMTTYPE=image/jpeg:https://www.westchestergunclub.com/wp-content/uploads/2023/02/WCGC-K-Image-9414-Calendar.jpg
END:VEVENT
BEGIN:VEVENT
DTSTART;TZID=America/New_York:20261101T100000
DTEND;TZID=America/New_York:20261101T150000
DTSTAMP:20260422T184543
CREATED:20230206T093733Z
LAST-MODIFIED:20260306T180255Z
UID:10001941-1793527200-1793545200@www.westchestergunclub.com
SUMMARY:Sunday Practice
DESCRIPTION:Join us Sundays for practice from 10:00 am to 3:00 pm. \n11:30 AM: Safety Checks for New Members/Public
URL:https://www.westchestergunclub.com/event/sunday-practice/2026-11-01/
LOCATION:West Chester Gun Club\, 200 E. Boot Rd\, West Chester\, PA\, 19341\, United States
ATTACH;FMTTYPE=image/jpeg:https://www.westchestergunclub.com/wp-content/uploads/2023/02/calendar-4420.jpg
END:VEVENT
BEGIN:VEVENT
DTSTART;TZID=America/New_York:20261103T150000
DTEND;TZID=America/New_York:20261103T190000
DTSTAMP:20260422T184543
CREATED:20250102T173851Z
LAST-MODIFIED:20251202T002718Z
UID:10004269-1793718000-1793732400@www.westchestergunclub.com
SUMMARY:Tuesday Practice
DESCRIPTION:Join us Tuesdays for practice from 3:00 pm to 7:00 pm.
URL:https://www.westchestergunclub.com/event/tuesday-practice-2-2-2/2026-11-03/
LOCATION:West Chester Gun Club\, 200 E. Boot Rd\, West Chester\, PA\, 19341\, United States
ATTACH;FMTTYPE=image/jpeg:https://www.westchestergunclub.com/wp-content/uploads/2023/02/WCGC-K-Image-9414-Calendar.jpg
END:VEVENT
BEGIN:VEVENT
DTSTART;TZID=America/New_York:20261108T100000
DTEND;TZID=America/New_York:20261108T150000
DTSTAMP:20260422T184543
CREATED:20230206T093733Z
LAST-MODIFIED:20260306T180255Z
UID:10001942-1794132000-1794150000@www.westchestergunclub.com
SUMMARY:Sunday Practice
DESCRIPTION:Join us Sundays for practice from 10:00 am to 3:00 pm. \n11:30 AM: Safety Checks for New Members/Public
URL:https://www.westchestergunclub.com/event/sunday-practice/2026-11-08/
LOCATION:West Chester Gun Club\, 200 E. Boot Rd\, West Chester\, PA\, 19341\, United States
ATTACH;FMTTYPE=image/jpeg:https://www.westchestergunclub.com/wp-content/uploads/2023/02/calendar-4420.jpg
END:VEVENT
BEGIN:VEVENT
DTSTART;TZID=America/New_York:20261110T150000
DTEND;TZID=America/New_York:20261110T190000
DTSTAMP:20260422T184543
CREATED:20250102T173851Z
LAST-MODIFIED:20251202T002718Z
UID:10004270-1794322800-1794337200@www.westchestergunclub.com
SUMMARY:Tuesday Practice
DESCRIPTION:Join us Tuesdays for practice from 3:00 pm to 7:00 pm.
URL:https://www.westchestergunclub.com/event/tuesday-practice-2-2-2/2026-11-10/
LOCATION:West Chester Gun Club\, 200 E. Boot Rd\, West Chester\, PA\, 19341\, United States
ATTACH;FMTTYPE=image/jpeg:https://www.westchestergunclub.com/wp-content/uploads/2023/02/WCGC-K-Image-9414-Calendar.jpg
END:VEVENT
BEGIN:VEVENT
DTSTART;TZID=America/New_York:20261110T173000
DTEND;TZID=America/New_York:20261110T183000
DTSTAMP:20260422T184543
CREATED:20230425T104112Z
LAST-MODIFIED:20241228T195743Z
UID:10002127-1794331800-1794335400@www.westchestergunclub.com
SUMMARY:Board of Directors Meeting
DESCRIPTION:
URL:https://www.westchestergunclub.com/event/board-of-directors-meeting/2026-11-10/
LOCATION:West Chester Gun Club\, 200 E. Boot Rd\, West Chester\, PA\, 19341\, United States
ATTACH;FMTTYPE=image/jpeg:https://www.westchestergunclub.com/wp-content/uploads/2023/04/home_about.jpg
END:VEVENT
BEGIN:VEVENT
DTSTART;TZID=America/New_York:20261115T100000
DTEND;TZID=America/New_York:20261115T150000
DTSTAMP:20260422T184543
CREATED:20230206T093733Z
LAST-MODIFIED:20260306T180255Z
UID:10001943-1794736800-1794754800@www.westchestergunclub.com
SUMMARY:Sunday Practice
DESCRIPTION:Join us Sundays for practice from 10:00 am to 3:00 pm. \n11:30 AM: Safety Checks for New Members/Public
URL:https://www.westchestergunclub.com/event/sunday-practice/2026-11-15/
LOCATION:West Chester Gun Club\, 200 E. Boot Rd\, West Chester\, PA\, 19341\, United States
ATTACH;FMTTYPE=image/jpeg:https://www.westchestergunclub.com/wp-content/uploads/2023/02/calendar-4420.jpg
END:VEVENT
BEGIN:VEVENT
DTSTART;TZID=America/New_York:20261117T150000
DTEND;TZID=America/New_York:20261117T190000
DTSTAMP:20260422T184543
CREATED:20250102T173851Z
LAST-MODIFIED:20251202T002718Z
UID:10004271-1794927600-1794942000@www.westchestergunclub.com
SUMMARY:Tuesday Practice
DESCRIPTION:Join us Tuesdays for practice from 3:00 pm to 7:00 pm.
URL:https://www.westchestergunclub.com/event/tuesday-practice-2-2-2/2026-11-17/
LOCATION:West Chester Gun Club\, 200 E. Boot Rd\, West Chester\, PA\, 19341\, United States
ATTACH;FMTTYPE=image/jpeg:https://www.westchestergunclub.com/wp-content/uploads/2023/02/WCGC-K-Image-9414-Calendar.jpg
END:VEVENT
BEGIN:VEVENT
DTSTART;TZID=America/New_York:20261121T093000
DTEND;TZID=America/New_York:20261121T093000
DTSTAMP:20260422T184543
CREATED:20230425T111338Z
LAST-MODIFIED:20260306T181414Z
UID:10000620-1795253400-1795253400@www.westchestergunclub.com
SUMMARY:Turkey Shoot
DESCRIPTION:** Registration must be made in advance on Nov 1st\, 3rd\, 8th\, or 10th **\n9:30 am Event Start\nNOTE: Practice Trap(s)s will be available on this day.
URL:https://www.westchestergunclub.com/event/turkey-shoot/
LOCATION:West Chester Gun Club\, 200 E. Boot Rd\, West Chester\, PA\, 19341\, United States
ATTACH;FMTTYPE=image/jpeg:https://www.westchestergunclub.com/wp-content/uploads/2023/06/RMZ4420-scaled-e1685967490724.jpg
END:VEVENT
BEGIN:VEVENT
DTSTART;TZID=America/New_York:20261121T093000
DTEND;TZID=America/New_York:20261121T140000
DTSTAMP:20260422T184543
CREATED:20250402T163559Z
LAST-MODIFIED:20260417T201004Z
UID:10004910-1795253400-1795269600@www.westchestergunclub.com
SUMMARY:No Archery
DESCRIPTION:Due to trapshooting activities\, the Archery range is closed during a portion of the day (primarily in mornings.) \n2 April – Pop-Up Shoot – Easter Green Bird Shoot: Noon – 4pm\n11 April – ATA – 100’s Event Singles and Handicap: 8:30 am – Finish (possibly 2 pm or later)\n18 April – Winter League: 8:30 am – Finish (possibly 2 pm or later)\n5 May – SFC Nevins Shoot: 9:00 am – Finish (possibly 2 pm or later)\n16 May – ATA – 100’s Event Singles and Handicap: 8:30 am – Finish (possibly 2 pm or later)\n12 September – ATA – 100’s Singles Event: 8:30 am – Finish (possibly 2 pm or later)\n21 November – Turkey Shoot Event: 9:30 am – Finish (possibly 2 pm or later)
URL:https://www.westchestergunclub.com/event/no-archery/2026-11-21/
LOCATION:West Chester Gun Club\, 200 E. Boot Rd\, West Chester\, PA\, 19341\, United States
END:VEVENT
BEGIN:VEVENT
DTSTART;TZID=America/New_York:20261122T100000
DTEND;TZID=America/New_York:20261122T150000
DTSTAMP:20260422T184543
CREATED:20230206T093733Z
LAST-MODIFIED:20260306T180255Z
UID:10001944-1795341600-1795359600@www.westchestergunclub.com
SUMMARY:Sunday Practice
DESCRIPTION:Join us Sundays for practice from 10:00 am to 3:00 pm. \n11:30 AM: Safety Checks for New Members/Public
URL:https://www.westchestergunclub.com/event/sunday-practice/2026-11-22/
LOCATION:West Chester Gun Club\, 200 E. Boot Rd\, West Chester\, PA\, 19341\, United States
ATTACH;FMTTYPE=image/jpeg:https://www.westchestergunclub.com/wp-content/uploads/2023/02/calendar-4420.jpg
END:VEVENT
BEGIN:VEVENT
DTSTART;TZID=America/New_York:20261124T150000
DTEND;TZID=America/New_York:20261124T190000
DTSTAMP:20260422T184543
CREATED:20250102T173851Z
LAST-MODIFIED:20251202T002718Z
UID:10004272-1795532400-1795546800@www.westchestergunclub.com
SUMMARY:Tuesday Practice
DESCRIPTION:Join us Tuesdays for practice from 3:00 pm to 7:00 pm.
URL:https://www.westchestergunclub.com/event/tuesday-practice-2-2-2/2026-11-24/
LOCATION:West Chester Gun Club\, 200 E. Boot Rd\, West Chester\, PA\, 19341\, United States
ATTACH;FMTTYPE=image/jpeg:https://www.westchestergunclub.com/wp-content/uploads/2023/02/WCGC-K-Image-9414-Calendar.jpg
END:VEVENT
BEGIN:VEVENT
DTSTART;TZID=America/New_York:20261129T100000
DTEND;TZID=America/New_York:20261129T150000
DTSTAMP:20260422T184543
CREATED:20230206T093733Z
LAST-MODIFIED:20260306T180255Z
UID:10001945-1795946400-1795964400@www.westchestergunclub.com
SUMMARY:Sunday Practice
DESCRIPTION:Join us Sundays for practice from 10:00 am to 3:00 pm. \n11:30 AM: Safety Checks for New Members/Public
URL:https://www.westchestergunclub.com/event/sunday-practice/2026-11-29/
LOCATION:West Chester Gun Club\, 200 E. Boot Rd\, West Chester\, PA\, 19341\, United States
ATTACH;FMTTYPE=image/jpeg:https://www.westchestergunclub.com/wp-content/uploads/2023/02/calendar-4420.jpg
END:VEVENT
BEGIN:VEVENT
DTSTART;TZID=America/New_York:20261201T150000
DTEND;TZID=America/New_York:20261201T190000
DTSTAMP:20260422T184544
CREATED:20250102T173851Z
LAST-MODIFIED:20251202T002718Z
UID:10004273-1796137200-1796151600@www.westchestergunclub.com
SUMMARY:Tuesday Practice
DESCRIPTION:Join us Tuesdays for practice from 3:00 pm to 7:00 pm.
URL:https://www.westchestergunclub.com/event/tuesday-practice-2-2-2/2026-12-01/
LOCATION:West Chester Gun Club\, 200 E. Boot Rd\, West Chester\, PA\, 19341\, United States
ATTACH;FMTTYPE=image/jpeg:https://www.westchestergunclub.com/wp-content/uploads/2023/02/WCGC-K-Image-9414-Calendar.jpg
END:VEVENT
END:VCALENDAR