BEGIN:VCALENDAR
VERSION:2.0
PRODID:-//West Chester  Gun Club - ECPv6.15.18//NONSGML v1.0//EN
CALSCALE:GREGORIAN
METHOD:PUBLISH
X-WR-CALNAME:West Chester  Gun Club
X-ORIGINAL-URL:https://www.westchestergunclub.com
X-WR-CALDESC:Events for West Chester  Gun Club
REFRESH-INTERVAL;VALUE=DURATION:PT1H
X-Robots-Tag:noindex
X-PUBLISHED-TTL:PT1H
BEGIN:VTIMEZONE
TZID:America/New_York
BEGIN:DAYLIGHT
TZOFFSETFROM:-0500
TZOFFSETTO:-0400
TZNAME:EDT
DTSTART:20240310T070000
END:DAYLIGHT
BEGIN:STANDARD
TZOFFSETFROM:-0400
TZOFFSETTO:-0500
TZNAME:EST
DTSTART:20241103T060000
END:STANDARD
BEGIN:DAYLIGHT
TZOFFSETFROM:-0500
TZOFFSETTO:-0400
TZNAME:EDT
DTSTART:20250309T070000
END:DAYLIGHT
BEGIN:STANDARD
TZOFFSETFROM:-0400
TZOFFSETTO:-0500
TZNAME:EST
DTSTART:20251102T060000
END:STANDARD
BEGIN:DAYLIGHT
TZOFFSETFROM:-0500
TZOFFSETTO:-0400
TZNAME:EDT
DTSTART:20260308T070000
END:DAYLIGHT
BEGIN:STANDARD
TZOFFSETFROM:-0400
TZOFFSETTO:-0500
TZNAME:EST
DTSTART:20261101T060000
END:STANDARD
END:VTIMEZONE
BEGIN:VEVENT
DTSTART;TZID=America/New_York:20250805T150000
DTEND;TZID=America/New_York:20250805T190000
DTSTAMP:20260423T004307
CREATED:20250102T173851Z
LAST-MODIFIED:20251202T002718Z
UID:10004204-1754406000-1754420400@www.westchestergunclub.com
SUMMARY:Tuesday Practice
DESCRIPTION:Join us Tuesdays for practice from 3:00 pm to 7:00 pm.
URL:https://www.westchestergunclub.com/event/tuesday-practice-2-2-2/2025-08-05/
LOCATION:West Chester Gun Club\, 200 E. Boot Rd\, West Chester\, PA\, 19341\, United States
ATTACH;FMTTYPE=image/jpeg:https://www.westchestergunclub.com/wp-content/uploads/2023/02/WCGC-K-Image-9414-Calendar.jpg
END:VEVENT
BEGIN:VEVENT
DTSTART;TZID=America/New_York:20250803T100000
DTEND;TZID=America/New_York:20250803T150000
DTSTAMP:20260423T004307
CREATED:20230206T093733Z
LAST-MODIFIED:20260306T180255Z
UID:10001876-1754215200-1754233200@www.westchestergunclub.com
SUMMARY:Sunday Practice
DESCRIPTION:Join us Sundays for practice from 10:00 am to 3:00 pm. \n11:30 AM: Safety Checks for New Members/Public
URL:https://www.westchestergunclub.com/event/sunday-practice/2025-08-03/
LOCATION:West Chester Gun Club\, 200 E. Boot Rd\, West Chester\, PA\, 19341\, United States
ATTACH;FMTTYPE=image/jpeg:https://www.westchestergunclub.com/wp-content/uploads/2023/02/calendar-4420.jpg
END:VEVENT
BEGIN:VEVENT
DTSTART;TZID=America/New_York:20250731T170000
DTEND;TZID=America/New_York:20250731T200000
DTSTAMP:20260423T004307
CREATED:20250611T143237Z
LAST-MODIFIED:20250829T212949Z
UID:10004745-1753981200-1753992000@www.westchestergunclub.com
SUMMARY:Thursday Night Trap
DESCRIPTION:After working hard all day\, beat the heat and shoot till 8!\nSlip over to your West Chester Gun Club and shoot a few rounds of trap. \n\nThis special opening period will occur every Thursday thru September. \nDates:  7/3\, 7/17\, 7/24\, 7/31\, 8/14\, 8/28\, 9/4\, 9/11\, 9/18\, and 9/25. \n\nCash payment only. $5.00 per round of targets.\nAmmo will be on sale.\nTraps #2 and #3 open at 3:30 pm.\nChill atmosphere! Clubhouse temperature at 68 degrees.\nYes ….. this is a special summer & fall opening on Thursday evenings.\n(Not Tuesday or Sunday!)\nHave dinner and shoot…..or pick up dinner on the way over and\ndine in the clubhouse.\nThe Archery Range will be closed during these periods.
URL:https://www.westchestergunclub.com/event/thursday-night-trap/2025-07-31/
LOCATION:West Chester Gun Club\, 200 E. Boot Rd\, West Chester\, PA\, 19341\, United States
END:VEVENT
BEGIN:VEVENT
DTSTART;TZID=America/New_York:20250729T150000
DTEND;TZID=America/New_York:20250729T190000
DTSTAMP:20260423T004307
CREATED:20250102T173851Z
LAST-MODIFIED:20251202T002718Z
UID:10004203-1753801200-1753815600@www.westchestergunclub.com
SUMMARY:Tuesday Practice
DESCRIPTION:Join us Tuesdays for practice from 3:00 pm to 7:00 pm.
URL:https://www.westchestergunclub.com/event/tuesday-practice-2-2-2/2025-07-29/
LOCATION:West Chester Gun Club\, 200 E. Boot Rd\, West Chester\, PA\, 19341\, United States
ATTACH;FMTTYPE=image/jpeg:https://www.westchestergunclub.com/wp-content/uploads/2023/02/WCGC-K-Image-9414-Calendar.jpg
END:VEVENT
BEGIN:VEVENT
DTSTART;TZID=America/New_York:20250727T100000
DTEND;TZID=America/New_York:20250727T150000
DTSTAMP:20260423T004307
CREATED:20230206T093733Z
LAST-MODIFIED:20260306T180255Z
UID:10001875-1753610400-1753628400@www.westchestergunclub.com
SUMMARY:Sunday Practice
DESCRIPTION:Join us Sundays for practice from 10:00 am to 3:00 pm. \n11:30 AM: Safety Checks for New Members/Public
URL:https://www.westchestergunclub.com/event/sunday-practice/2025-07-27/
LOCATION:West Chester Gun Club\, 200 E. Boot Rd\, West Chester\, PA\, 19341\, United States
ATTACH;FMTTYPE=image/jpeg:https://www.westchestergunclub.com/wp-content/uploads/2023/02/calendar-4420.jpg
END:VEVENT
BEGIN:VEVENT
DTSTART;TZID=America/New_York:20250724T170000
DTEND;TZID=America/New_York:20250724T200000
DTSTAMP:20260423T004307
CREATED:20250611T143237Z
LAST-MODIFIED:20250829T212949Z
UID:10004744-1753376400-1753387200@www.westchestergunclub.com
SUMMARY:Thursday Night Trap
DESCRIPTION:After working hard all day\, beat the heat and shoot till 8!\nSlip over to your West Chester Gun Club and shoot a few rounds of trap. \n\nThis special opening period will occur every Thursday thru September. \nDates:  7/3\, 7/17\, 7/24\, 7/31\, 8/14\, 8/28\, 9/4\, 9/11\, 9/18\, and 9/25. \n\nCash payment only. $5.00 per round of targets.\nAmmo will be on sale.\nTraps #2 and #3 open at 3:30 pm.\nChill atmosphere! Clubhouse temperature at 68 degrees.\nYes ….. this is a special summer & fall opening on Thursday evenings.\n(Not Tuesday or Sunday!)\nHave dinner and shoot…..or pick up dinner on the way over and\ndine in the clubhouse.\nThe Archery Range will be closed during these periods.
URL:https://www.westchestergunclub.com/event/thursday-night-trap/2025-07-24/
LOCATION:West Chester Gun Club\, 200 E. Boot Rd\, West Chester\, PA\, 19341\, United States
END:VEVENT
BEGIN:VEVENT
DTSTART;TZID=America/New_York:20250722T150000
DTEND;TZID=America/New_York:20250722T190000
DTSTAMP:20260423T004307
CREATED:20250102T173851Z
LAST-MODIFIED:20251202T002718Z
UID:10004202-1753196400-1753210800@www.westchestergunclub.com
SUMMARY:Tuesday Practice
DESCRIPTION:Join us Tuesdays for practice from 3:00 pm to 7:00 pm.
URL:https://www.westchestergunclub.com/event/tuesday-practice-2-2-2/2025-07-22/
LOCATION:West Chester Gun Club\, 200 E. Boot Rd\, West Chester\, PA\, 19341\, United States
ATTACH;FMTTYPE=image/jpeg:https://www.westchestergunclub.com/wp-content/uploads/2023/02/WCGC-K-Image-9414-Calendar.jpg
END:VEVENT
BEGIN:VEVENT
DTSTART;TZID=America/New_York:20250720T110000
DTEND;TZID=America/New_York:20250720T110000
DTSTAMP:20260423T004307
CREATED:20250321T000337Z
LAST-MODIFIED:20250321T151638Z
UID:10004710-1753009200-1753009200@www.westchestergunclub.com
SUMMARY:ATA Big 50
DESCRIPTION:April – August\, Second Tuesday @ 5pm*\, and third Sunday @ 11am* of each month.\n*Be sure to leave time before to register. \nPrice is $12 + $2 ATA Fee = $14
URL:https://www.westchestergunclub.com/event/ata-big-50/2025-07-20/
LOCATION:West Chester Gun Club\, 200 E. Boot Rd\, West Chester\, PA\, 19341\, United States
ATTACH;FMTTYPE=image/jpeg:https://www.westchestergunclub.com/wp-content/uploads/2025/03/ATA-BIG-50-Releaace_2025.jpg
END:VEVENT
BEGIN:VEVENT
DTSTART;TZID=America/New_York:20250720T100000
DTEND;TZID=America/New_York:20250720T150000
DTSTAMP:20260423T004307
CREATED:20230206T093733Z
LAST-MODIFIED:20260306T180255Z
UID:10001874-1753005600-1753023600@www.westchestergunclub.com
SUMMARY:Sunday Practice
DESCRIPTION:Join us Sundays for practice from 10:00 am to 3:00 pm. \n11:30 AM: Safety Checks for New Members/Public
URL:https://www.westchestergunclub.com/event/sunday-practice/2025-07-20/
LOCATION:West Chester Gun Club\, 200 E. Boot Rd\, West Chester\, PA\, 19341\, United States
ATTACH;FMTTYPE=image/jpeg:https://www.westchestergunclub.com/wp-content/uploads/2023/02/calendar-4420.jpg
END:VEVENT
BEGIN:VEVENT
DTSTART;TZID=America/New_York:20250717T170000
DTEND;TZID=America/New_York:20250717T200000
DTSTAMP:20260423T004307
CREATED:20250611T143237Z
LAST-MODIFIED:20250829T212949Z
UID:10004741-1752771600-1752782400@www.westchestergunclub.com
SUMMARY:Thursday Night Trap
DESCRIPTION:After working hard all day\, beat the heat and shoot till 8!\nSlip over to your West Chester Gun Club and shoot a few rounds of trap. \n\nThis special opening period will occur every Thursday thru September. \nDates:  7/3\, 7/17\, 7/24\, 7/31\, 8/14\, 8/28\, 9/4\, 9/11\, 9/18\, and 9/25. \n\nCash payment only. $5.00 per round of targets.\nAmmo will be on sale.\nTraps #2 and #3 open at 3:30 pm.\nChill atmosphere! Clubhouse temperature at 68 degrees.\nYes ….. this is a special summer & fall opening on Thursday evenings.\n(Not Tuesday or Sunday!)\nHave dinner and shoot…..or pick up dinner on the way over and\ndine in the clubhouse.\nThe Archery Range will be closed during these periods.
URL:https://www.westchestergunclub.com/event/thursday-night-trap/2025-07-17/
LOCATION:West Chester Gun Club\, 200 E. Boot Rd\, West Chester\, PA\, 19341\, United States
END:VEVENT
BEGIN:VEVENT
DTSTART;TZID=America/New_York:20250715T150000
DTEND;TZID=America/New_York:20250715T190000
DTSTAMP:20260423T004307
CREATED:20250102T173851Z
LAST-MODIFIED:20251202T002718Z
UID:10004201-1752591600-1752606000@www.westchestergunclub.com
SUMMARY:Tuesday Practice
DESCRIPTION:Join us Tuesdays for practice from 3:00 pm to 7:00 pm.
URL:https://www.westchestergunclub.com/event/tuesday-practice-2-2-2/2025-07-15/
LOCATION:West Chester Gun Club\, 200 E. Boot Rd\, West Chester\, PA\, 19341\, United States
ATTACH;FMTTYPE=image/jpeg:https://www.westchestergunclub.com/wp-content/uploads/2023/02/WCGC-K-Image-9414-Calendar.jpg
END:VEVENT
BEGIN:VEVENT
DTSTART;TZID=America/New_York:20250713T100000
DTEND;TZID=America/New_York:20250713T150000
DTSTAMP:20260423T004307
CREATED:20230206T093733Z
LAST-MODIFIED:20260306T180255Z
UID:10004891-1752400800-1752418800@www.westchestergunclub.com
SUMMARY:Sunday Practice
DESCRIPTION:Join us Sundays for practice from 10:00 am to 3:00 pm. \n11:30 AM: Safety Checks for New Members/Public
URL:https://www.westchestergunclub.com/event/sunday-practice/2025-07-13/
LOCATION:West Chester Gun Club\, 200 E. Boot Rd\, West Chester\, PA\, 19341\, United States
ATTACH;FMTTYPE=image/jpeg:https://www.westchestergunclub.com/wp-content/uploads/2023/02/calendar-4420.jpg
END:VEVENT
BEGIN:VEVENT
DTSTART;TZID=America/New_York:20250708T173000
DTEND;TZID=America/New_York:20250708T183000
DTSTAMP:20260423T004307
CREATED:20230425T104112Z
LAST-MODIFIED:20241228T195743Z
UID:10002111-1751995800-1751999400@www.westchestergunclub.com
SUMMARY:Board of Directors Meeting
DESCRIPTION:
URL:https://www.westchestergunclub.com/event/board-of-directors-meeting/2025-07-08/
LOCATION:West Chester Gun Club\, 200 E. Boot Rd\, West Chester\, PA\, 19341\, United States
ATTACH;FMTTYPE=image/jpeg:https://www.westchestergunclub.com/wp-content/uploads/2023/04/home_about.jpg
END:VEVENT
BEGIN:VEVENT
DTSTART;TZID=America/New_York:20250708T170000
DTEND;TZID=America/New_York:20250708T170000
DTSTAMP:20260423T004307
CREATED:20250321T000337Z
LAST-MODIFIED:20250321T151638Z
UID:10004709-1751994000-1751994000@www.westchestergunclub.com
SUMMARY:ATA Big 50
DESCRIPTION:April – August\, Second Tuesday @ 5pm*\, and third Sunday @ 11am* of each month.\n*Be sure to leave time before to register. \nPrice is $12 + $2 ATA Fee = $14
URL:https://www.westchestergunclub.com/event/ata-big-50/2025-07-08/
LOCATION:West Chester Gun Club\, 200 E. Boot Rd\, West Chester\, PA\, 19341\, United States
ATTACH;FMTTYPE=image/jpeg:https://www.westchestergunclub.com/wp-content/uploads/2025/03/ATA-BIG-50-Releaace_2025.jpg
END:VEVENT
BEGIN:VEVENT
DTSTART;TZID=America/New_York:20250708T150000
DTEND;TZID=America/New_York:20250708T190000
DTSTAMP:20260423T004307
CREATED:20250102T173851Z
LAST-MODIFIED:20251202T002718Z
UID:10004200-1751986800-1752001200@www.westchestergunclub.com
SUMMARY:Tuesday Practice
DESCRIPTION:Join us Tuesdays for practice from 3:00 pm to 7:00 pm.
URL:https://www.westchestergunclub.com/event/tuesday-practice-2-2-2/2025-07-08/
LOCATION:West Chester Gun Club\, 200 E. Boot Rd\, West Chester\, PA\, 19341\, United States
ATTACH;FMTTYPE=image/jpeg:https://www.westchestergunclub.com/wp-content/uploads/2023/02/WCGC-K-Image-9414-Calendar.jpg
END:VEVENT
BEGIN:VEVENT
DTSTART;TZID=America/New_York:20250706T100000
DTEND;TZID=America/New_York:20250706T150000
DTSTAMP:20260423T004307
CREATED:20230206T093733Z
LAST-MODIFIED:20260306T180255Z
UID:10001872-1751796000-1751814000@www.westchestergunclub.com
SUMMARY:Sunday Practice
DESCRIPTION:Join us Sundays for practice from 10:00 am to 3:00 pm. \n11:30 AM: Safety Checks for New Members/Public
URL:https://www.westchestergunclub.com/event/sunday-practice/2025-07-06/
LOCATION:West Chester Gun Club\, 200 E. Boot Rd\, West Chester\, PA\, 19341\, United States
ATTACH;FMTTYPE=image/jpeg:https://www.westchestergunclub.com/wp-content/uploads/2023/02/calendar-4420.jpg
END:VEVENT
BEGIN:VEVENT
DTSTART;TZID=America/New_York:20250703T170000
DTEND;TZID=America/New_York:20250703T200000
DTSTAMP:20260423T004307
CREATED:20250611T143237Z
LAST-MODIFIED:20250829T212949Z
UID:10004743-1751562000-1751572800@www.westchestergunclub.com
SUMMARY:Thursday Night Trap
DESCRIPTION:After working hard all day\, beat the heat and shoot till 8!\nSlip over to your West Chester Gun Club and shoot a few rounds of trap. \n\nThis special opening period will occur every Thursday thru September. \nDates:  7/3\, 7/17\, 7/24\, 7/31\, 8/14\, 8/28\, 9/4\, 9/11\, 9/18\, and 9/25. \n\nCash payment only. $5.00 per round of targets.\nAmmo will be on sale.\nTraps #2 and #3 open at 3:30 pm.\nChill atmosphere! Clubhouse temperature at 68 degrees.\nYes ….. this is a special summer & fall opening on Thursday evenings.\n(Not Tuesday or Sunday!)\nHave dinner and shoot…..or pick up dinner on the way over and\ndine in the clubhouse.\nThe Archery Range will be closed during these periods.
URL:https://www.westchestergunclub.com/event/thursday-night-trap/2025-07-03/
LOCATION:West Chester Gun Club\, 200 E. Boot Rd\, West Chester\, PA\, 19341\, United States
END:VEVENT
BEGIN:VEVENT
DTSTART;TZID=America/New_York:20250701T150000
DTEND;TZID=America/New_York:20250701T190000
DTSTAMP:20260423T004307
CREATED:20250102T173851Z
LAST-MODIFIED:20251202T002718Z
UID:10004199-1751382000-1751396400@www.westchestergunclub.com
SUMMARY:Tuesday Practice
DESCRIPTION:Join us Tuesdays for practice from 3:00 pm to 7:00 pm.
URL:https://www.westchestergunclub.com/event/tuesday-practice-2-2-2/2025-07-01/
LOCATION:West Chester Gun Club\, 200 E. Boot Rd\, West Chester\, PA\, 19341\, United States
ATTACH;FMTTYPE=image/jpeg:https://www.westchestergunclub.com/wp-content/uploads/2023/02/WCGC-K-Image-9414-Calendar.jpg
END:VEVENT
BEGIN:VEVENT
DTSTART;TZID=America/New_York:20250629T100000
DTEND;TZID=America/New_York:20250629T150000
DTSTAMP:20260423T004307
CREATED:20230206T093733Z
LAST-MODIFIED:20260306T180255Z
UID:10001871-1751191200-1751209200@www.westchestergunclub.com
SUMMARY:Sunday Practice
DESCRIPTION:Join us Sundays for practice from 10:00 am to 3:00 pm. \n11:30 AM: Safety Checks for New Members/Public
URL:https://www.westchestergunclub.com/event/sunday-practice/2025-06-29/
LOCATION:West Chester Gun Club\, 200 E. Boot Rd\, West Chester\, PA\, 19341\, United States
ATTACH;FMTTYPE=image/jpeg:https://www.westchestergunclub.com/wp-content/uploads/2023/02/calendar-4420.jpg
END:VEVENT
BEGIN:VEVENT
DTSTART;TZID=America/New_York:20250629T100000
DTEND;TZID=America/New_York:20250629T100000
DTSTAMP:20260423T004307
CREATED:20250625T003611Z
LAST-MODIFIED:20250625T003756Z
UID:10004729-1751191200-1751191200@www.westchestergunclub.com
SUMMARY:Green Bird Shoot
DESCRIPTION:Starts 10am on Traps 1 & 2 \n** No additional cost to participate for Club Members ** \nShoot a green bird and WIN !
URL:https://www.westchestergunclub.com/event/green-bird-shoot/
LOCATION:West Chester Gun Club\, 200 E. Boot Rd\, West Chester\, PA\, 19341\, United States
END:VEVENT
BEGIN:VEVENT
DTSTART;TZID=America/New_York:20250626T170000
DTEND;TZID=America/New_York:20250626T200000
DTSTAMP:20260423T004307
CREATED:20250611T143237Z
LAST-MODIFIED:20250829T212949Z
UID:10004725-1750957200-1750968000@www.westchestergunclub.com
SUMMARY:Thursday Night Trap
DESCRIPTION:After working hard all day\, beat the heat and shoot till 8!\nSlip over to your West Chester Gun Club and shoot a few rounds of trap. \n\nThis special opening period will occur every Thursday thru September. \nDates:  7/3\, 7/17\, 7/24\, 7/31\, 8/14\, 8/28\, 9/4\, 9/11\, 9/18\, and 9/25. \n\nCash payment only. $5.00 per round of targets.\nAmmo will be on sale.\nTraps #2 and #3 open at 3:30 pm.\nChill atmosphere! Clubhouse temperature at 68 degrees.\nYes ….. this is a special summer & fall opening on Thursday evenings.\n(Not Tuesday or Sunday!)\nHave dinner and shoot…..or pick up dinner on the way over and\ndine in the clubhouse.\nThe Archery Range will be closed during these periods.
URL:https://www.westchestergunclub.com/event/thursday-night-trap/2025-06-26/
LOCATION:West Chester Gun Club\, 200 E. Boot Rd\, West Chester\, PA\, 19341\, United States
END:VEVENT
BEGIN:VEVENT
DTSTART;TZID=America/New_York:20250624T150000
DTEND;TZID=America/New_York:20250624T190000
DTSTAMP:20260423T004307
CREATED:20250102T173851Z
LAST-MODIFIED:20251202T002718Z
UID:10004198-1750777200-1750791600@www.westchestergunclub.com
SUMMARY:Tuesday Practice
DESCRIPTION:Join us Tuesdays for practice from 3:00 pm to 7:00 pm.
URL:https://www.westchestergunclub.com/event/tuesday-practice-2-2-2/2025-06-24/
LOCATION:West Chester Gun Club\, 200 E. Boot Rd\, West Chester\, PA\, 19341\, United States
ATTACH;FMTTYPE=image/jpeg:https://www.westchestergunclub.com/wp-content/uploads/2023/02/WCGC-K-Image-9414-Calendar.jpg
END:VEVENT
BEGIN:VEVENT
DTSTART;TZID=America/New_York:20250622T100000
DTEND;TZID=America/New_York:20250622T150000
DTSTAMP:20260423T004307
CREATED:20230206T093733Z
LAST-MODIFIED:20260306T180255Z
UID:10001870-1750586400-1750604400@www.westchestergunclub.com
SUMMARY:Sunday Practice
DESCRIPTION:Join us Sundays for practice from 10:00 am to 3:00 pm. \n11:30 AM: Safety Checks for New Members/Public
URL:https://www.westchestergunclub.com/event/sunday-practice/2025-06-22/
LOCATION:West Chester Gun Club\, 200 E. Boot Rd\, West Chester\, PA\, 19341\, United States
ATTACH;FMTTYPE=image/jpeg:https://www.westchestergunclub.com/wp-content/uploads/2023/02/calendar-4420.jpg
END:VEVENT
BEGIN:VEVENT
DTSTART;TZID=America/New_York:20250619T170000
DTEND;TZID=America/New_York:20250619T200000
DTSTAMP:20260423T004307
CREATED:20250611T143237Z
LAST-MODIFIED:20250829T212949Z
UID:10004724-1750352400-1750363200@www.westchestergunclub.com
SUMMARY:Thursday Night Trap
DESCRIPTION:After working hard all day\, beat the heat and shoot till 8!\nSlip over to your West Chester Gun Club and shoot a few rounds of trap. \n\nThis special opening period will occur every Thursday thru September. \nDates:  7/3\, 7/17\, 7/24\, 7/31\, 8/14\, 8/28\, 9/4\, 9/11\, 9/18\, and 9/25. \n\nCash payment only. $5.00 per round of targets.\nAmmo will be on sale.\nTraps #2 and #3 open at 3:30 pm.\nChill atmosphere! Clubhouse temperature at 68 degrees.\nYes ….. this is a special summer & fall opening on Thursday evenings.\n(Not Tuesday or Sunday!)\nHave dinner and shoot…..or pick up dinner on the way over and\ndine in the clubhouse.\nThe Archery Range will be closed during these periods.
URL:https://www.westchestergunclub.com/event/thursday-night-trap/2025-06-19/
LOCATION:West Chester Gun Club\, 200 E. Boot Rd\, West Chester\, PA\, 19341\, United States
END:VEVENT
BEGIN:VEVENT
DTSTART;TZID=America/New_York:20250617T150000
DTEND;TZID=America/New_York:20250617T190000
DTSTAMP:20260423T004307
CREATED:20250102T173851Z
LAST-MODIFIED:20251202T002718Z
UID:10004197-1750172400-1750186800@www.westchestergunclub.com
SUMMARY:Tuesday Practice
DESCRIPTION:Join us Tuesdays for practice from 3:00 pm to 7:00 pm.
URL:https://www.westchestergunclub.com/event/tuesday-practice-2-2-2/2025-06-17/
LOCATION:West Chester Gun Club\, 200 E. Boot Rd\, West Chester\, PA\, 19341\, United States
ATTACH;FMTTYPE=image/jpeg:https://www.westchestergunclub.com/wp-content/uploads/2023/02/WCGC-K-Image-9414-Calendar.jpg
END:VEVENT
BEGIN:VEVENT
DTSTART;TZID=America/New_York:20250615T100000
DTEND;TZID=America/New_York:20250615T150000
DTSTAMP:20260423T004307
CREATED:20230206T093733Z
LAST-MODIFIED:20260306T180255Z
UID:10001869-1749981600-1749999600@www.westchestergunclub.com
SUMMARY:Sunday Practice
DESCRIPTION:Join us Sundays for practice from 10:00 am to 3:00 pm. \n11:30 AM: Safety Checks for New Members/Public
URL:https://www.westchestergunclub.com/event/sunday-practice/2025-06-15/
LOCATION:West Chester Gun Club\, 200 E. Boot Rd\, West Chester\, PA\, 19341\, United States
ATTACH;FMTTYPE=image/jpeg:https://www.westchestergunclub.com/wp-content/uploads/2023/02/calendar-4420.jpg
END:VEVENT
BEGIN:VEVENT
DTSTART;TZID=America/New_York:20250612T170000
DTEND;TZID=America/New_York:20250612T200000
DTSTAMP:20260423T004307
CREATED:20250611T143237Z
LAST-MODIFIED:20250829T212949Z
UID:10004723-1749747600-1749758400@www.westchestergunclub.com
SUMMARY:Thursday Night Trap
DESCRIPTION:After working hard all day\, beat the heat and shoot till 8!\nSlip over to your West Chester Gun Club and shoot a few rounds of trap. \n\nThis special opening period will occur every Thursday thru September. \nDates:  7/3\, 7/17\, 7/24\, 7/31\, 8/14\, 8/28\, 9/4\, 9/11\, 9/18\, and 9/25. \n\nCash payment only. $5.00 per round of targets.\nAmmo will be on sale.\nTraps #2 and #3 open at 3:30 pm.\nChill atmosphere! Clubhouse temperature at 68 degrees.\nYes ….. this is a special summer & fall opening on Thursday evenings.\n(Not Tuesday or Sunday!)\nHave dinner and shoot…..or pick up dinner on the way over and\ndine in the clubhouse.\nThe Archery Range will be closed during these periods.
URL:https://www.westchestergunclub.com/event/thursday-night-trap/2025-06-12/
LOCATION:West Chester Gun Club\, 200 E. Boot Rd\, West Chester\, PA\, 19341\, United States
END:VEVENT
BEGIN:VEVENT
DTSTART;TZID=America/New_York:20250610T173000
DTEND;TZID=America/New_York:20250610T183000
DTSTAMP:20260423T004307
CREATED:20230425T104112Z
LAST-MODIFIED:20241228T195743Z
UID:10002110-1749576600-1749580200@www.westchestergunclub.com
SUMMARY:Board of Directors Meeting
DESCRIPTION:
URL:https://www.westchestergunclub.com/event/board-of-directors-meeting/2025-06-10/
LOCATION:West Chester Gun Club\, 200 E. Boot Rd\, West Chester\, PA\, 19341\, United States
ATTACH;FMTTYPE=image/jpeg:https://www.westchestergunclub.com/wp-content/uploads/2023/04/home_about.jpg
END:VEVENT
BEGIN:VEVENT
DTSTART;TZID=America/New_York:20250610T150000
DTEND;TZID=America/New_York:20250610T190000
DTSTAMP:20260423T004307
CREATED:20250102T173851Z
LAST-MODIFIED:20251202T002718Z
UID:10004196-1749567600-1749582000@www.westchestergunclub.com
SUMMARY:Tuesday Practice
DESCRIPTION:Join us Tuesdays for practice from 3:00 pm to 7:00 pm.
URL:https://www.westchestergunclub.com/event/tuesday-practice-2-2-2/2025-06-10/
LOCATION:West Chester Gun Club\, 200 E. Boot Rd\, West Chester\, PA\, 19341\, United States
ATTACH;FMTTYPE=image/jpeg:https://www.westchestergunclub.com/wp-content/uploads/2023/02/WCGC-K-Image-9414-Calendar.jpg
END:VEVENT
BEGIN:VEVENT
DTSTART;TZID=America/New_York:20250608T100000
DTEND;TZID=America/New_York:20250608T150000
DTSTAMP:20260423T004307
CREATED:20230206T093733Z
LAST-MODIFIED:20260306T180255Z
UID:10001868-1749376800-1749394800@www.westchestergunclub.com
SUMMARY:Sunday Practice
DESCRIPTION:Join us Sundays for practice from 10:00 am to 3:00 pm. \n11:30 AM: Safety Checks for New Members/Public
URL:https://www.westchestergunclub.com/event/sunday-practice/2025-06-08/
LOCATION:West Chester Gun Club\, 200 E. Boot Rd\, West Chester\, PA\, 19341\, United States
ATTACH;FMTTYPE=image/jpeg:https://www.westchestergunclub.com/wp-content/uploads/2023/02/calendar-4420.jpg
END:VEVENT
END:VCALENDAR